
BEGIN:VCALENDAR
VERSION:2.0
PRODID:-//Bathurst Region Tourism - ECPv6.15.16//NONSGML v1.0//EN
CALSCALE:GREGORIAN
METHOD:PUBLISH
X-ORIGINAL-URL:https://www.bathurstregion.com.au
X-WR-CALDESC:Events for Bathurst Region Tourism
REFRESH-INTERVAL;VALUE=DURATION:PT1H
X-Robots-Tag:noindex
X-PUBLISHED-TTL:PT1H
BEGIN:VTIMEZONE
TZID:Australia/Sydney
BEGIN:STANDARD
TZOFFSETFROM:+1100
TZOFFSETTO:+1000
TZNAME:AEST
DTSTART:20240406T160000
END:STANDARD
BEGIN:DAYLIGHT
TZOFFSETFROM:+1000
TZOFFSETTO:+1100
TZNAME:AEDT
DTSTART:20241005T160000
END:DAYLIGHT
BEGIN:STANDARD
TZOFFSETFROM:+1100
TZOFFSETTO:+1000
TZNAME:AEST
DTSTART:20250405T160000
END:STANDARD
BEGIN:DAYLIGHT
TZOFFSETFROM:+1000
TZOFFSETTO:+1100
TZNAME:AEDT
DTSTART:20251004T160000
END:DAYLIGHT
BEGIN:STANDARD
TZOFFSETFROM:+1100
TZOFFSETTO:+1000
TZNAME:AEST
DTSTART:20260404T160000
END:STANDARD
BEGIN:DAYLIGHT
TZOFFSETFROM:+1000
TZOFFSETTO:+1100
TZNAME:AEDT
DTSTART:20261003T160000
END:DAYLIGHT
END:VTIMEZONE
BEGIN:VEVENT
DTSTART;TZID=Australia/Sydney:20250425T120000
DTEND;TZID=Australia/Sydney:20250425T173000
DTSTAMP:20260423T214236
CREATED:20240206T010910Z
LAST-MODIFIED:20240909T053317Z
UID:10003708-1745582400-1745602200@www.bathurstregion.com.au
SUMMARY:Bathurst Anzac Day Races
DESCRIPTION:Bathurst’s biggest racing day of the year is our Bathurst RSL Club Soldiers Saddle held on Anzac Day each year. \nGates open from 11am with VIP ticketed areas open from 12pm. \nFashions on the Field is a huge highlight of the day with prize money and gifts all up for grabs with several categories.The Fashions theme is ‘A touch of red’ in line with Anzac Day and the beautiful poppies to represent our fallen soldiers. \nFOTF categories and requirements for Autumn fashions can be found on the club website. \nWe remember those who have fought for our country on Anzac Day with a ceremony and presentation during the day by the Bathurst RSL Club. \n2UP is hosted by the Bathurst RSL Club with buses taking guests to and from town but parking is available.We have several bars open\, many food vans & live music all available to help celebrate a fabulous day of country racing in Bathurst! \nBecome a member of the Bathurst Thoroughbred Club for early access to ticket sales.
URL:https://www.bathurstregion.com.au/event/bathurst-anzac-day-races/
LOCATION:Tyers Park Racecourse\, 55 Eleven Mile Drive\, Bathurst\, NSW\, 2795\, Australia
CATEGORIES:Festivals and Celebrations,Food and Wine,Sporting Events
ATTACH;FMTTYPE=image/jpeg:https://www.bathurstregion.com.au/wp-content/uploads/2024/02/Bathurst-races-1024x542-1.jpg
ORGANIZER;CN="Bathurst Throughbred Racing":MAILTO:manager@btracing.com.au
END:VEVENT
END:VCALENDAR