
BEGIN:VCALENDAR
VERSION:2.0
PRODID:-//Bathurst Region Tourism - ECPv6.15.16//NONSGML v1.0//EN
CALSCALE:GREGORIAN
METHOD:PUBLISH
X-ORIGINAL-URL:https://www.bathurstregion.com.au
X-WR-CALDESC:Events for Bathurst Region Tourism
REFRESH-INTERVAL;VALUE=DURATION:PT1H
X-Robots-Tag:noindex
X-PUBLISHED-TTL:PT1H
BEGIN:VTIMEZONE
TZID:Australia/Sydney
BEGIN:STANDARD
TZOFFSETFROM:+1100
TZOFFSETTO:+1000
TZNAME:AEST
DTSTART:20240406T160000
END:STANDARD
BEGIN:DAYLIGHT
TZOFFSETFROM:+1000
TZOFFSETTO:+1100
TZNAME:AEDT
DTSTART:20241005T160000
END:DAYLIGHT
BEGIN:STANDARD
TZOFFSETFROM:+1100
TZOFFSETTO:+1000
TZNAME:AEST
DTSTART:20250405T160000
END:STANDARD
BEGIN:DAYLIGHT
TZOFFSETFROM:+1000
TZOFFSETTO:+1100
TZNAME:AEDT
DTSTART:20251004T160000
END:DAYLIGHT
BEGIN:STANDARD
TZOFFSETFROM:+1100
TZOFFSETTO:+1000
TZNAME:AEST
DTSTART:20260404T160000
END:STANDARD
BEGIN:DAYLIGHT
TZOFFSETFROM:+1000
TZOFFSETTO:+1100
TZNAME:AEDT
DTSTART:20261003T160000
END:DAYLIGHT
BEGIN:STANDARD
TZOFFSETFROM:+1100
TZOFFSETTO:+1000
TZNAME:AEST
DTSTART:20270403T160000
END:STANDARD
BEGIN:DAYLIGHT
TZOFFSETFROM:+1000
TZOFFSETTO:+1100
TZNAME:AEDT
DTSTART:20271002T160000
END:DAYLIGHT
END:VTIMEZONE
BEGIN:VEVENT
DTSTART;TZID=Australia/Sydney:20260325T093000
DTEND;TZID=Australia/Sydney:20260325T120000
DTSTAMP:20260424T031757
CREATED:20260224T042814Z
LAST-MODIFIED:20260224T230936Z
UID:10004974-1774431000-1774440000@www.bathurstregion.com.au
SUMMARY:A Walk Through Miss Traill's Neighbourhood- Autumn Colours Heritage Festival Event
DESCRIPTION:The volunteers at Miss Traill’s House\, together with the Bathurst District Historical Society\, willhost a guided walk around the block bordered by Peel\, Howick\, Stewart and Russell Streets.Join us to discover stories of Miss Traill’s neighbours and the houses they called home. Thewalk will take about an hour so please wear comfortable walking shoes\, and bring a hatand sunscreen. Afterwards\, enjoy a delicious morning tea served in the grounds of MissTraill’s House and its heritage garden. \n\n\n\n$20 for members of Miss Traill’s House or the Bathurst DistrictHistorical Society; Non Members $25
URL:https://www.bathurstregion.com.au/event/a-walk-through-miss-traills-neighbourhood-autumn-colours-heritage-festival/
LOCATION:Miss Traill’s House and Garden\, 321 Russell Street (Corner of Russell and Peel Streets)\, Bathurst\, 2795
ATTACH;FMTTYPE=image/jpeg:https://www.bathurstregion.com.au/wp-content/uploads/2025/02/Website-small.jpg
ORGANIZER;CN="Bathurst District Historical Society":MAILTO:info@bathursthistory.org.au
END:VEVENT
BEGIN:VEVENT
DTSTART;TZID=Australia/Sydney:20260322T120000
DTEND;TZID=Australia/Sydney:20260322T160000
DTSTAMP:20260424T031757
CREATED:20251027T011016Z
LAST-MODIFIED:20251027T032256Z
UID:10004647-1774180800-1774195200@www.bathurstregion.com.au
SUMMARY:Old Government Cottage Open Day
DESCRIPTION:Open on the fourth Sunday of each month this fine example of early domestic Australian architecture\, Old Government Cottage has operated as a museum since 1965.  It is believed the cottage was built in the 1850s by Miss Ann Falloon\, as a residence and school to young ladies.  Old Government Cottage houses an exhibition on the development of Bathurst\, artworks and a display of local domestic objects.  The garden contains many heritage plants\, farm equipment and an original baker’s oven.
URL:https://www.bathurstregion.com.au/event/old-government-cottage-open-day-2/2026-03-22/
LOCATION:Old Government Cottage\, 16 Stanley Street\, Bathurst\, NSW\, 2795
CATEGORIES:History and Heritage
ATTACH;FMTTYPE=image/jpeg:https://www.bathurstregion.com.au/wp-content/uploads/2025/10/The-Flower-Garden-at-Old-Government-Cottage-has-a-wonderful-array-of-blooms-and-frangrance.jpg
ORGANIZER;CN="Bathurst District Historical Society":MAILTO:info@bathursthistory.org.au
END:VEVENT
BEGIN:VEVENT
DTSTART;TZID=Australia/Sydney:20260222T120000
DTEND;TZID=Australia/Sydney:20260222T160000
DTSTAMP:20260424T031757
CREATED:20251027T011016Z
LAST-MODIFIED:20251027T032256Z
UID:10004646-1771761600-1771776000@www.bathurstregion.com.au
SUMMARY:Old Government Cottage Open Day
DESCRIPTION:Open on the fourth Sunday of each month this fine example of early domestic Australian architecture\, Old Government Cottage has operated as a museum since 1965.  It is believed the cottage was built in the 1850s by Miss Ann Falloon\, as a residence and school to young ladies.  Old Government Cottage houses an exhibition on the development of Bathurst\, artworks and a display of local domestic objects.  The garden contains many heritage plants\, farm equipment and an original baker’s oven.
URL:https://www.bathurstregion.com.au/event/old-government-cottage-open-day-2/2026-02-22/
LOCATION:Old Government Cottage\, 16 Stanley Street\, Bathurst\, NSW\, 2795
CATEGORIES:History and Heritage
ATTACH;FMTTYPE=image/jpeg:https://www.bathurstregion.com.au/wp-content/uploads/2025/10/The-Flower-Garden-at-Old-Government-Cottage-has-a-wonderful-array-of-blooms-and-frangrance.jpg
ORGANIZER;CN="Bathurst District Historical Society":MAILTO:info@bathursthistory.org.au
END:VEVENT
BEGIN:VEVENT
DTSTART;TZID=Australia/Sydney:20260125T120000
DTEND;TZID=Australia/Sydney:20260125T160000
DTSTAMP:20260424T031757
CREATED:20251027T011016Z
LAST-MODIFIED:20251027T032256Z
UID:10004645-1769342400-1769356800@www.bathurstregion.com.au
SUMMARY:Old Government Cottage Open Day
DESCRIPTION:Open on the fourth Sunday of each month this fine example of early domestic Australian architecture\, Old Government Cottage has operated as a museum since 1965.  It is believed the cottage was built in the 1850s by Miss Ann Falloon\, as a residence and school to young ladies.  Old Government Cottage houses an exhibition on the development of Bathurst\, artworks and a display of local domestic objects.  The garden contains many heritage plants\, farm equipment and an original baker’s oven.
URL:https://www.bathurstregion.com.au/event/old-government-cottage-open-day-2/2026-01-25/
LOCATION:Old Government Cottage\, 16 Stanley Street\, Bathurst\, NSW\, 2795
CATEGORIES:History and Heritage
ATTACH;FMTTYPE=image/jpeg:https://www.bathurstregion.com.au/wp-content/uploads/2025/10/The-Flower-Garden-at-Old-Government-Cottage-has-a-wonderful-array-of-blooms-and-frangrance.jpg
ORGANIZER;CN="Bathurst District Historical Society":MAILTO:info@bathursthistory.org.au
END:VEVENT
BEGIN:VEVENT
DTSTART;TZID=Australia/Sydney:20251228T120000
DTEND;TZID=Australia/Sydney:20251228T160000
DTSTAMP:20260424T031757
CREATED:20251027T011016Z
LAST-MODIFIED:20251027T032256Z
UID:10004644-1766923200-1766937600@www.bathurstregion.com.au
SUMMARY:Old Government Cottage Open Day
DESCRIPTION:Open on the fourth Sunday of each month this fine example of early domestic Australian architecture\, Old Government Cottage has operated as a museum since 1965.  It is believed the cottage was built in the 1850s by Miss Ann Falloon\, as a residence and school to young ladies.  Old Government Cottage houses an exhibition on the development of Bathurst\, artworks and a display of local domestic objects.  The garden contains many heritage plants\, farm equipment and an original baker’s oven.
URL:https://www.bathurstregion.com.au/event/old-government-cottage-open-day-2/2025-12-28/
LOCATION:Old Government Cottage\, 16 Stanley Street\, Bathurst\, NSW\, 2795
CATEGORIES:History and Heritage
ATTACH;FMTTYPE=image/jpeg:https://www.bathurstregion.com.au/wp-content/uploads/2025/10/The-Flower-Garden-at-Old-Government-Cottage-has-a-wonderful-array-of-blooms-and-frangrance.jpg
ORGANIZER;CN="Bathurst District Historical Society":MAILTO:info@bathursthistory.org.au
END:VEVENT
BEGIN:VEVENT
DTSTART;TZID=Australia/Sydney:20251123T120000
DTEND;TZID=Australia/Sydney:20251123T160000
DTSTAMP:20260424T031757
CREATED:20251027T011016Z
LAST-MODIFIED:20251027T032256Z
UID:10004643-1763899200-1763913600@www.bathurstregion.com.au
SUMMARY:Old Government Cottage Open Day
DESCRIPTION:Open on the fourth Sunday of each month this fine example of early domestic Australian architecture\, Old Government Cottage has operated as a museum since 1965.  It is believed the cottage was built in the 1850s by Miss Ann Falloon\, as a residence and school to young ladies.  Old Government Cottage houses an exhibition on the development of Bathurst\, artworks and a display of local domestic objects.  The garden contains many heritage plants\, farm equipment and an original baker’s oven.
URL:https://www.bathurstregion.com.au/event/old-government-cottage-open-day-2/2025-11-23/
LOCATION:Old Government Cottage\, 16 Stanley Street\, Bathurst\, NSW\, 2795
CATEGORIES:History and Heritage
ATTACH;FMTTYPE=image/jpeg:https://www.bathurstregion.com.au/wp-content/uploads/2025/10/The-Flower-Garden-at-Old-Government-Cottage-has-a-wonderful-array-of-blooms-and-frangrance.jpg
ORGANIZER;CN="Bathurst District Historical Society":MAILTO:info@bathursthistory.org.au
END:VEVENT
BEGIN:VEVENT
DTSTART;TZID=Australia/Sydney:20251123T120000
DTEND;TZID=Australia/Sydney:20251123T160000
DTSTAMP:20260424T031757
CREATED:20250128T000902Z
LAST-MODIFIED:20250128T000902Z
UID:10003975-1763899200-1763913600@www.bathurstregion.com.au
SUMMARY:Old Government Cottage
DESCRIPTION:Old Government Cottage located at 16 Stanley Street (near the low-level bridge)\, is a fine example of early domestic\nAustralian architecture.  The building has operated as a museum since 1965 and houses an exhibition on the\ndevelopment of Bathurst\, artworks and a display of early local domestic objects.  The garden contains many\nheritage plants\, farm equipment and an original baker’s oven.
URL:https://www.bathurstregion.com.au/event/old-government-cottage-2/2025-11-23/
LOCATION:Old Government Cottage\, 16 Stanley Street\, Bathurst\, NSW\, 2795
CATEGORIES:History and Heritage
ATTACH;FMTTYPE=image/jpeg:https://www.bathurstregion.com.au/wp-content/uploads/2025/01/OGC-Bicentennial-Garden.jpg
ORGANIZER;CN="Bathurst District Historical Society":MAILTO:info@bathursthistory.org.au
END:VEVENT
BEGIN:VEVENT
DTSTART;TZID=Australia/Sydney:20251120T193000
DTEND;TZID=Australia/Sydney:20251120T210000
DTSTAMP:20260424T031757
CREATED:20251026T235449Z
LAST-MODIFIED:20251027T003741Z
UID:10004226-1763667000-1763672400@www.bathurstregion.com.au
SUMMARY:Monthly Muster - The Bathurst Volunteer Rifles with Roger Thornback
DESCRIPTION:The Bathurst District Historical Society presents this month’s muster.  The Bathurst Volunteer Rifles: Civic Pride & Defence of the Empire with Roger Thornback.  Come along to find out why Bathurst petitioned the Governor General\, twice\, to allow it to finally form a Volunteer Rifle Corps in 1868.  Bathurst has a strong military history\, this talk will talk about this and identify some lines of local research to elucidate the Bathurst Volunteer Rifles Story.
URL:https://www.bathurstregion.com.au/event/monthly-muster-the-bathurst-volunteer-rifles-with-roger-thornback/
LOCATION:Bathurst Uniting Church Activities Hall\, William Street\, Bathurst\, nsw
CATEGORIES:Community Event,History and Heritage
ATTACH;FMTTYPE=image/jpeg:https://www.bathurstregion.com.au/wp-content/uploads/2025/10/Rifle_Fever-1860.jpeg
ORGANIZER;CN="Bathurst District Historical Society":MAILTO:info@bathursthistory.org.au
END:VEVENT
BEGIN:VEVENT
DTSTART;TZID=Australia/Sydney:20251120T193000
DTEND;TZID=Australia/Sydney:20251120T193000
DTSTAMP:20260424T031757
CREATED:20251119T230450Z
LAST-MODIFIED:20251119T230455Z
UID:10004241-1763667000-1763667000@www.bathurstregion.com.au
SUMMARY:Monthly Muster
DESCRIPTION:Hear Roger Thornback of the Antique Arms Collectors Society of Australia talk on the Bathurst Volunteer Rifles on Thursday 20 November 2025\, 7:30 PM. \n\n\n\nBathurst Uniting Church Activities HallWilliam Street
URL:https://www.bathurstregion.com.au/event/monthly-muster/
LOCATION:Bathurst Uniting Church Activities Hall\, William Street\, Bathurst\, nsw
CATEGORIES:Classes, Lessons, Workshops and Talks,Community Event
ATTACH;FMTTYPE=image/png:https://www.bathurstregion.com.au/wp-content/uploads/2025/11/image-20.png
ORGANIZER;CN="Bathurst District Historical Society":MAILTO:info@bathursthistory.org.au
END:VEVENT
BEGIN:VEVENT
DTSTART;TZID=Australia/Sydney:20251026T120000
DTEND;TZID=Australia/Sydney:20251026T160000
DTSTAMP:20260424T031757
CREATED:20250128T000902Z
LAST-MODIFIED:20250128T000902Z
UID:10003974-1761480000-1761494400@www.bathurstregion.com.au
SUMMARY:Old Government Cottage
DESCRIPTION:Old Government Cottage located at 16 Stanley Street (near the low-level bridge)\, is a fine example of early domestic\nAustralian architecture.  The building has operated as a museum since 1965 and houses an exhibition on the\ndevelopment of Bathurst\, artworks and a display of early local domestic objects.  The garden contains many\nheritage plants\, farm equipment and an original baker’s oven.
URL:https://www.bathurstregion.com.au/event/old-government-cottage-2/2025-10-26/
LOCATION:Old Government Cottage\, 16 Stanley Street\, Bathurst\, NSW\, 2795
CATEGORIES:History and Heritage
ATTACH;FMTTYPE=image/jpeg:https://www.bathurstregion.com.au/wp-content/uploads/2025/01/OGC-Bicentennial-Garden.jpg
ORGANIZER;CN="Bathurst District Historical Society":MAILTO:info@bathursthistory.org.au
END:VEVENT
BEGIN:VEVENT
DTSTART;TZID=Australia/Sydney:20251016T193000
DTEND;TZID=Australia/Sydney:20251016T210000
DTSTAMP:20260424T031757
CREATED:20251011T025734Z
LAST-MODIFIED:20251011T025747Z
UID:10004104-1760643000-1760648400@www.bathurstregion.com.au
SUMMARY:Monthly Muster - Sydmouth Valley
DESCRIPTION:The Bathurst District Historical Society is presenting the monthly Muster talk. This month Kevin Webb will be presenting on his property on the Cox’s Road at Sydmouth Valley.
URL:https://www.bathurstregion.com.au/event/monthly-muster-sydmouth-valley/
LOCATION:Uniting Church Activities Hall\, 140A William Street\, Bathurst\, NSW\, 2795\, Australia
CATEGORIES:Community Event
ATTACH;FMTTYPE=image/png:https://www.bathurstregion.com.au/wp-content/uploads/2025/09/image.png
ORGANIZER;CN="Bathurst District Historical Society":MAILTO:info@bathursthistory.org.au
END:VEVENT
BEGIN:VEVENT
DTSTART;TZID=Australia/Sydney:20250928T120000
DTEND;TZID=Australia/Sydney:20250928T160000
DTSTAMP:20260424T031757
CREATED:20250128T000902Z
LAST-MODIFIED:20250128T000902Z
UID:10003973-1759060800-1759075200@www.bathurstregion.com.au
SUMMARY:Old Government Cottage
DESCRIPTION:Old Government Cottage located at 16 Stanley Street (near the low-level bridge)\, is a fine example of early domestic\nAustralian architecture.  The building has operated as a museum since 1965 and houses an exhibition on the\ndevelopment of Bathurst\, artworks and a display of early local domestic objects.  The garden contains many\nheritage plants\, farm equipment and an original baker’s oven.
URL:https://www.bathurstregion.com.au/event/old-government-cottage-2/2025-09-28/
LOCATION:Old Government Cottage\, 16 Stanley Street\, Bathurst\, NSW\, 2795
CATEGORIES:History and Heritage
ATTACH;FMTTYPE=image/jpeg:https://www.bathurstregion.com.au/wp-content/uploads/2025/01/OGC-Bicentennial-Garden.jpg
ORGANIZER;CN="Bathurst District Historical Society":MAILTO:info@bathursthistory.org.au
END:VEVENT
BEGIN:VEVENT
DTSTART;TZID=Australia/Sydney:20250905T180000
DTEND;TZID=Australia/Sydney:20250905T180000
DTSTAMP:20260424T031757
CREATED:20250815T052510Z
LAST-MODIFIED:20250815T052512Z
UID:10004572-1757095200-1757095200@www.bathurstregion.com.au
SUMMARY:A Beer with Rob McLachlan
DESCRIPTION:Many of our members\, friends and followers will be keen to attend this event! \n\n\n\nHear the late and great Rob McLachlan tell the tale of the Day Jack the Ripper came to Bathurst\, a recording from the BDHS muster he spoke at in 2016\, as part of the Bathurst Remembers Project. \n\n\n\nLittle Alberts\, Victoria Hotel\, Friday 5 September 2025\, 6 PM
URL:https://www.bathurstregion.com.au/event/a-beer-with-rob-mclachlan/
LOCATION:Little Alberts @ The Victoria Bathurst\, 3 Keppel Street\, Bathurst\, NSW\, 2795
ATTACH;FMTTYPE=image/jpeg:https://www.bathurstregion.com.au/wp-content/uploads/2025/08/531422108_1184501150390867_759711419612802926_n.jpg
ORGANIZER;CN="Bathurst District Historical Society":MAILTO:info@bathursthistory.org.au
END:VEVENT
BEGIN:VEVENT
DTSTART;TZID=Australia/Sydney:20250829T100000
DTEND;TZID=Australia/Sydney:20250831T160000
DTSTAMP:20260424T031757
CREATED:20250720T232027Z
LAST-MODIFIED:20250720T232029Z
UID:10004518-1756461600-1756656000@www.bathurstregion.com.au
SUMMARY:Victory & Reflection Exhibition
DESCRIPTION:The Bathurst District Historical Society in conjunction with the Bathurst RSL Sub Branch will be holding a display to commemorate the 80th Anniversary of the end of the Second World War in the Pacific. Also known as VJ Day. The display will feature uniforms\, medals\, 1940’s 50’s clothing\, photographs\, and much\, much more.
URL:https://www.bathurstregion.com.au/event/victory-reflection-exhibition/
LOCATION:Bathurst Showground\, Lot 1 Kendall Avenue\, Bathurst\, NSW\, 2795\, Australia
CATEGORIES:Exhibition and Shows
ATTACH;FMTTYPE=image/jpeg:https://www.bathurstregion.com.au/wp-content/uploads/2025/07/Untitled-1-8.jpg
ORGANIZER;CN="Bathurst District Historical Society":MAILTO:info@bathursthistory.org.au
END:VEVENT
BEGIN:VEVENT
DTSTART;TZID=Australia/Sydney:20250824T120000
DTEND;TZID=Australia/Sydney:20250824T160000
DTSTAMP:20260424T031757
CREATED:20250128T000902Z
LAST-MODIFIED:20250128T000902Z
UID:10003972-1756036800-1756051200@www.bathurstregion.com.au
SUMMARY:Old Government Cottage
DESCRIPTION:Old Government Cottage located at 16 Stanley Street (near the low-level bridge)\, is a fine example of early domestic\nAustralian architecture.  The building has operated as a museum since 1965 and houses an exhibition on the\ndevelopment of Bathurst\, artworks and a display of early local domestic objects.  The garden contains many\nheritage plants\, farm equipment and an original baker’s oven.
URL:https://www.bathurstregion.com.au/event/old-government-cottage-2/2025-08-24/
LOCATION:Old Government Cottage\, 16 Stanley Street\, Bathurst\, NSW\, 2795
CATEGORIES:History and Heritage
ATTACH;FMTTYPE=image/jpeg:https://www.bathurstregion.com.au/wp-content/uploads/2025/01/OGC-Bicentennial-Garden.jpg
ORGANIZER;CN="Bathurst District Historical Society":MAILTO:info@bathursthistory.org.au
END:VEVENT
BEGIN:VEVENT
DTSTART;TZID=Australia/Sydney:20250821T193000
DTEND;TZID=Australia/Sydney:20250821T210000
DTSTAMP:20260424T031757
CREATED:20250723T230444Z
LAST-MODIFIED:20250723T230714Z
UID:10004515-1755804600-1755810000@www.bathurstregion.com.au
SUMMARY:Monthly Muster - Reflections on the History of Education in Bathurst and of All Saints' College
DESCRIPTION:The Bathurst District Historical Society is holding their monthly muster with Christopher Morgan presenting an illustrated lecture on the history of education in Bathurst and of All Saints’ College.  Christopher is the author of the recently published history of All Saints’ College
URL:https://www.bathurstregion.com.au/event/monthly-muster-reflections-on-the-history-of-education-in-bathurst-and-of-all-saints-college/
LOCATION:Uniting Church Activities Hall\, 140A William Street\, Bathurst\, NSW\, 2795\, Australia
CATEGORIES:Classes, Lessons, Workshops and Talks
ATTACH;FMTTYPE=image/jpeg:https://www.bathurstregion.com.au/wp-content/uploads/2025/07/Untitled-1-9.jpg
ORGANIZER;CN="Bathurst District Historical Society":MAILTO:info@bathursthistory.org.au
END:VEVENT
BEGIN:VEVENT
DTSTART;TZID=Australia/Sydney:20250727T120000
DTEND;TZID=Australia/Sydney:20250727T160000
DTSTAMP:20260424T031757
CREATED:20250128T000902Z
LAST-MODIFIED:20250128T000902Z
UID:10003971-1753617600-1753632000@www.bathurstregion.com.au
SUMMARY:Old Government Cottage
DESCRIPTION:Old Government Cottage located at 16 Stanley Street (near the low-level bridge)\, is a fine example of early domestic\nAustralian architecture.  The building has operated as a museum since 1965 and houses an exhibition on the\ndevelopment of Bathurst\, artworks and a display of early local domestic objects.  The garden contains many\nheritage plants\, farm equipment and an original baker’s oven.
URL:https://www.bathurstregion.com.au/event/old-government-cottage-2/2025-07-27/
LOCATION:Old Government Cottage\, 16 Stanley Street\, Bathurst\, NSW\, 2795
CATEGORIES:History and Heritage
ATTACH;FMTTYPE=image/jpeg:https://www.bathurstregion.com.au/wp-content/uploads/2025/01/OGC-Bicentennial-Garden.jpg
ORGANIZER;CN="Bathurst District Historical Society":MAILTO:info@bathursthistory.org.au
END:VEVENT
BEGIN:VEVENT
DTSTART;TZID=Australia/Sydney:20250717T193000
DTEND;TZID=Australia/Sydney:20250717T193000
DTSTAMP:20260424T031757
CREATED:20250630T044947Z
LAST-MODIFIED:20250630T044948Z
UID:10004457-1752780600-1752780600@www.bathurstregion.com.au
SUMMARY:Show & Tell
DESCRIPTION:Come along to hear a variety of speakers with stories and objects to share for Show and Tell!. All welcome\, gold coin donation appreciated. Light supper served after the talk.
URL:https://www.bathurstregion.com.au/event/show-tell-2/
LOCATION:Bathurst Uniting Church Activities Hall\, William Street\, Bathurst\, nsw
ATTACH;FMTTYPE=image/jpeg:https://www.bathurstregion.com.au/wp-content/uploads/2025/06/Untitled-1-Recovered.jpg
END:VEVENT
BEGIN:VEVENT
DTSTART;TZID=Australia/Sydney:20250622T120000
DTEND;TZID=Australia/Sydney:20250622T160000
DTSTAMP:20260424T031757
CREATED:20250128T000902Z
LAST-MODIFIED:20250128T000902Z
UID:10003970-1750593600-1750608000@www.bathurstregion.com.au
SUMMARY:Old Government Cottage
DESCRIPTION:Old Government Cottage located at 16 Stanley Street (near the low-level bridge)\, is a fine example of early domestic\nAustralian architecture.  The building has operated as a museum since 1965 and houses an exhibition on the\ndevelopment of Bathurst\, artworks and a display of early local domestic objects.  The garden contains many\nheritage plants\, farm equipment and an original baker’s oven.
URL:https://www.bathurstregion.com.au/event/old-government-cottage-2/2025-06-22/
LOCATION:Old Government Cottage\, 16 Stanley Street\, Bathurst\, NSW\, 2795
CATEGORIES:History and Heritage
ATTACH;FMTTYPE=image/jpeg:https://www.bathurstregion.com.au/wp-content/uploads/2025/01/OGC-Bicentennial-Garden.jpg
ORGANIZER;CN="Bathurst District Historical Society":MAILTO:info@bathursthistory.org.au
END:VEVENT
BEGIN:VEVENT
DTSTART;TZID=Australia/Sydney:20250525T120000
DTEND;TZID=Australia/Sydney:20250525T160000
DTSTAMP:20260424T031757
CREATED:20250128T000902Z
LAST-MODIFIED:20250128T000902Z
UID:10003969-1748174400-1748188800@www.bathurstregion.com.au
SUMMARY:Old Government Cottage
DESCRIPTION:Old Government Cottage located at 16 Stanley Street (near the low-level bridge)\, is a fine example of early domestic\nAustralian architecture.  The building has operated as a museum since 1965 and houses an exhibition on the\ndevelopment of Bathurst\, artworks and a display of early local domestic objects.  The garden contains many\nheritage plants\, farm equipment and an original baker’s oven.
URL:https://www.bathurstregion.com.au/event/old-government-cottage-2/2025-05-25/
LOCATION:Old Government Cottage\, 16 Stanley Street\, Bathurst\, NSW\, 2795
CATEGORIES:History and Heritage
ATTACH;FMTTYPE=image/jpeg:https://www.bathurstregion.com.au/wp-content/uploads/2025/01/OGC-Bicentennial-Garden.jpg
ORGANIZER;CN="Bathurst District Historical Society":MAILTO:info@bathursthistory.org.au
END:VEVENT
BEGIN:VEVENT
DTSTART;TZID=Australia/Sydney:20250427T120000
DTEND;TZID=Australia/Sydney:20250427T160000
DTSTAMP:20260424T031757
CREATED:20250128T000902Z
LAST-MODIFIED:20250128T000902Z
UID:10003968-1745755200-1745769600@www.bathurstregion.com.au
SUMMARY:Old Government Cottage
DESCRIPTION:Old Government Cottage located at 16 Stanley Street (near the low-level bridge)\, is a fine example of early domestic\nAustralian architecture.  The building has operated as a museum since 1965 and houses an exhibition on the\ndevelopment of Bathurst\, artworks and a display of early local domestic objects.  The garden contains many\nheritage plants\, farm equipment and an original baker’s oven.
URL:https://www.bathurstregion.com.au/event/old-government-cottage-2/2025-04-27/
LOCATION:Old Government Cottage\, 16 Stanley Street\, Bathurst\, NSW\, 2795
CATEGORIES:History and Heritage
ATTACH;FMTTYPE=image/jpeg:https://www.bathurstregion.com.au/wp-content/uploads/2025/01/OGC-Bicentennial-Garden.jpg
ORGANIZER;CN="Bathurst District Historical Society":MAILTO:info@bathursthistory.org.au
END:VEVENT
BEGIN:VEVENT
DTSTART;TZID=Australia/Sydney:20250323T120000
DTEND;TZID=Australia/Sydney:20250323T160000
DTSTAMP:20260424T031757
CREATED:20250128T000902Z
LAST-MODIFIED:20250128T000902Z
UID:10003967-1742731200-1742745600@www.bathurstregion.com.au
SUMMARY:Old Government Cottage
DESCRIPTION:Old Government Cottage located at 16 Stanley Street (near the low-level bridge)\, is a fine example of early domestic\nAustralian architecture.  The building has operated as a museum since 1965 and houses an exhibition on the\ndevelopment of Bathurst\, artworks and a display of early local domestic objects.  The garden contains many\nheritage plants\, farm equipment and an original baker’s oven.
URL:https://www.bathurstregion.com.au/event/old-government-cottage-2/2025-03-23/
LOCATION:Old Government Cottage\, 16 Stanley Street\, Bathurst\, NSW\, 2795
CATEGORIES:History and Heritage
ATTACH;FMTTYPE=image/jpeg:https://www.bathurstregion.com.au/wp-content/uploads/2025/01/OGC-Bicentennial-Garden.jpg
ORGANIZER;CN="Bathurst District Historical Society":MAILTO:info@bathursthistory.org.au
END:VEVENT
BEGIN:VEVENT
DTSTART;TZID=Australia/Sydney:20250223T120000
DTEND;TZID=Australia/Sydney:20250223T160000
DTSTAMP:20260424T031757
CREATED:20250128T000902Z
LAST-MODIFIED:20250128T000902Z
UID:10003966-1740312000-1740326400@www.bathurstregion.com.au
SUMMARY:Old Government Cottage
DESCRIPTION:Old Government Cottage located at 16 Stanley Street (near the low-level bridge)\, is a fine example of early domestic\nAustralian architecture.  The building has operated as a museum since 1965 and houses an exhibition on the\ndevelopment of Bathurst\, artworks and a display of early local domestic objects.  The garden contains many\nheritage plants\, farm equipment and an original baker’s oven.
URL:https://www.bathurstregion.com.au/event/old-government-cottage-2/2025-02-23/
LOCATION:Old Government Cottage\, 16 Stanley Street\, Bathurst\, NSW\, 2795
CATEGORIES:History and Heritage
ATTACH;FMTTYPE=image/jpeg:https://www.bathurstregion.com.au/wp-content/uploads/2025/01/OGC-Bicentennial-Garden.jpg
ORGANIZER;CN="Bathurst District Historical Society":MAILTO:info@bathursthistory.org.au
END:VEVENT
END:VCALENDAR