
BEGIN:VCALENDAR
VERSION:2.0
PRODID:-//Bathurst Region Tourism - ECPv6.15.16//NONSGML v1.0//EN
CALSCALE:GREGORIAN
METHOD:PUBLISH
X-WR-CALNAME:Bathurst Region Tourism
X-ORIGINAL-URL:https://www.bathurstregion.com.au
X-WR-CALDESC:Events for Bathurst Region Tourism
REFRESH-INTERVAL;VALUE=DURATION:PT1H
X-Robots-Tag:noindex
X-PUBLISHED-TTL:PT1H
BEGIN:VTIMEZONE
TZID:Australia/Sydney
BEGIN:STANDARD
TZOFFSETFROM:+1100
TZOFFSETTO:+1000
TZNAME:AEST
DTSTART:20240406T160000
END:STANDARD
BEGIN:DAYLIGHT
TZOFFSETFROM:+1000
TZOFFSETTO:+1100
TZNAME:AEDT
DTSTART:20241005T160000
END:DAYLIGHT
BEGIN:STANDARD
TZOFFSETFROM:+1100
TZOFFSETTO:+1000
TZNAME:AEST
DTSTART:20250405T160000
END:STANDARD
BEGIN:DAYLIGHT
TZOFFSETFROM:+1000
TZOFFSETTO:+1100
TZNAME:AEDT
DTSTART:20251004T160000
END:DAYLIGHT
BEGIN:STANDARD
TZOFFSETFROM:+1100
TZOFFSETTO:+1000
TZNAME:AEST
DTSTART:20260404T160000
END:STANDARD
BEGIN:DAYLIGHT
TZOFFSETFROM:+1000
TZOFFSETTO:+1100
TZNAME:AEDT
DTSTART:20261003T160000
END:DAYLIGHT
END:VTIMEZONE
BEGIN:VEVENT
DTSTART;TZID=Australia/Sydney:20250523T120000
DTEND;TZID=Australia/Sydney:20250526T120000
DTSTAMP:20260420T064109
CREATED:20250130T053157Z
LAST-MODIFIED:20250130T053158Z
UID:10003976-1748001600-1748260800@www.bathurstregion.com.au
SUMMARY:Tuff Nutterz
DESCRIPTION:Prepare for an adventure like no other. Tuff Nutterz is taking over Bathurst from 23 – 26 May! Tuff Nutterz is a fantastic family-friendly event that promises a day filled with fun and excitement for everyone. The event features Australia’s biggest inflatable obstacle course (300m long) and other inflatable games\, which are sure to provide an exhilarating experience for both kids and adults alike. \n\n\n\n​With Tuff Nutterz\, there’s no need to worry about age restrictions because the event welcomes all ages to participate and enjoy the fun. Whether you’re looking for a fun activity to enjoy with your little ones\, or you’re a thrill-seeker looking for a new adventure\, Tuff Nutterz has something for everyone!
URL:https://www.bathurstregion.com.au/event/tuff-nutterz/
LOCATION:Bathurst Showground\, Lot 1 Kendall Avenue\, Bathurst\, NSW\, 2795\, Australia
CATEGORIES:Community Event,Sporting Events
ATTACH;FMTTYPE=image/jpeg:https://www.bathurstregion.com.au/wp-content/uploads/2025/01/450664699_1025548666237934_8576308372916514090_n-1.jpg
ORGANIZER;CN="Tuff Nutterz":MAILTO:contact@tuffnutterz.com
END:VEVENT
BEGIN:VEVENT
DTSTART;TZID=Australia/Sydney:20250526T140000
DTEND;TZID=Australia/Sydney:20250526T170000
DTSTAMP:20260420T064109
CREATED:20250324T223528Z
LAST-MODIFIED:20250327T013142Z
UID:10004011-1748268000-1748278800@www.bathurstregion.com.au
SUMMARY:Bathurst Dances\, Old Time and New Vogue Dance
DESCRIPTION:Dancing the old fashioned way\, with a another in your arms. Waltzes\, Tangos\, Saunters\, Jive and Swing in a sequenced way. Short demos before many dances\, but nothing beats\, standing up and simply giving it a go\, then having a laugh or giggle at your own attempts\, the way it was done in the old days\, still the cheapest way to learn.
URL:https://www.bathurstregion.com.au/event/bathurst-dances-old-time-and-new-vogue-dance/2025-05-26/
LOCATION:Walshaw Hall\, 9 Church Street\, Bathurst\, 2795
CATEGORIES:Community Event
ATTACH;FMTTYPE=image/png:https://www.bathurstregion.com.au/wp-content/uploads/2025/03/Untitled-design-2.png
END:VEVENT
BEGIN:VEVENT
DTSTART;TZID=Australia/Sydney:20250527T180000
DTEND;TZID=Australia/Sydney:20250527T200000
DTSTAMP:20260420T064109
CREATED:20250430T062713Z
LAST-MODIFIED:20250527T062809Z
UID:10004107-1748368800-1748376000@www.bathurstregion.com.au
SUMMARY:Open Mic Night
DESCRIPTION:🎤 Are you ready to unleash your inner rockstar? \nGet ready to shine under the spotlight at Panthers Bathurst’s Monthly Open Mic Night! Held on the last Tuesday of every month in our vibrant Sports Bar\, the musical extravaganza kicks off at 6pm sharp. Our Open Mic Night is the ultimate stage where talents collide and melodies soar\, creating an atmosphere filled with energy\, passion\, and pure musical magic. \nWhether you’re a seasoned performer or a first-time strummer\, our Open Mic Night welcomes all with open arms and open ears. Bring along your trusty guitar\, your soulful voice\, or any instrument that speaks to your heart – because at Panthers Bathurst\, we believe that music is the universal language that brings us all together. \nIt’s not just about the performance; it’s about the shared experience of expressing yourself through the power of music. And hey\, if you prefer to be in the audience soaking in the vibes\, we’ve got a spot reserved just for you.
URL:https://www.bathurstregion.com.au/event/open-mic-night/2025-05-27/
LOCATION:Panthers Bathurst\, 132 Piper Street\, Bathurst\, NSW\, 2795\, Australia
CATEGORIES:Community Event
ATTACH;FMTTYPE=image/jpeg:https://www.bathurstregion.com.au/wp-content/uploads/2025/04/2024_OpenNight_LAND-2.jpg
END:VEVENT
BEGIN:VEVENT
DTSTART;TZID=Australia/Sydney:20250528T190000
DTEND;TZID=Australia/Sydney:20250528T210000
DTSTAMP:20260420T064109
CREATED:20240626T230810Z
LAST-MODIFIED:20250527T033008Z
UID:10003743-1748458800-1748466000@www.bathurstregion.com.au
SUMMARY:Musical Bingo @ The Family Hotel
DESCRIPTION:This one is for the music lovers! Rock into the #FamBams for Musical Trivia every Wednesday from 7pm! Entry is free and you’ll have the chance to win prizes whilst bopping along to tunes over the ages! \nWednesday night is $20 schnitty night!
URL:https://www.bathurstregion.com.au/event/musical-bingo-3/2025-05-28/
LOCATION:Family Hotel\, Cnr Russell & Bentinck Street\, Bathurst\, 2795\, Australia
CATEGORIES:Community Event
ATTACH;FMTTYPE=image/jpeg:https://www.bathurstregion.com.au/wp-content/uploads/2024/06/441867269_10229488857879453_8006742019411922238_n-1.jpg
END:VEVENT
BEGIN:VEVENT
DTSTART;TZID=Australia/Sydney:20250530T140000
DTEND;TZID=Australia/Sydney:20250530T170000
DTSTAMP:20260420T064109
CREATED:20250324T223528Z
LAST-MODIFIED:20250327T013142Z
UID:10004012-1748613600-1748624400@www.bathurstregion.com.au
SUMMARY:Bathurst Dances\, Old Time and New Vogue Dance
DESCRIPTION:Dancing the old fashioned way\, with a another in your arms. Waltzes\, Tangos\, Saunters\, Jive and Swing in a sequenced way. Short demos before many dances\, but nothing beats\, standing up and simply giving it a go\, then having a laugh or giggle at your own attempts\, the way it was done in the old days\, still the cheapest way to learn.
URL:https://www.bathurstregion.com.au/event/bathurst-dances-old-time-and-new-vogue-dance/2025-05-30/
LOCATION:Walshaw Hall\, 9 Church Street\, Bathurst\, 2795
CATEGORIES:Community Event
ATTACH;FMTTYPE=image/png:https://www.bathurstregion.com.au/wp-content/uploads/2025/03/Untitled-design-2.png
END:VEVENT
BEGIN:VEVENT
DTSTART;TZID=Australia/Sydney:20250530T190000
DTEND;TZID=Australia/Sydney:20250530T213000
DTSTAMP:20260420T064109
CREATED:20250423T050212Z
LAST-MODIFIED:20250423T050214Z
UID:10003805-1748631600-1748640600@www.bathurstregion.com.au
SUMMARY:Black to Back
DESCRIPTION:This show features two talented African performers\, Emilia Nwakpa and Zaga (Kenneth) Obimba\, telling their life journey through dance\, song\, music\, rap\, making up and story telling. The range of skills\, and the colour and pace of the show\, is sure to please audiences\, who will also learn about the life of newcomers to this country.
URL:https://www.bathurstregion.com.au/event/black-to-back/
LOCATION:KeyStone 1889\, 99 Keppel St\, Bathurst\, 2795
CATEGORIES:Concert or Performance
ATTACH;FMTTYPE=image/jpeg:https://www.bathurstregion.com.au/wp-content/uploads/2025/04/490957872_1215433993619036_1240721129749841727_n.jpg
END:VEVENT
BEGIN:VEVENT
DTSTART;TZID=Australia/Sydney:20250531T193000
DTEND;TZID=Australia/Sydney:20250531T210000
DTSTAMP:20260420T064109
CREATED:20240504T020916Z
LAST-MODIFIED:20250501T022947Z
UID:10003740-1748719800-1748725200@www.bathurstregion.com.au
SUMMARY:BIG BAND BLAST GALA CONCERT
DESCRIPTION:Big Band Blast is back in Bathurst for another exciting weekend of the Big Band music. The Gala Concert will feature the prestigious Sydney Conservatorium Jazz Orchestra directed by David Theak\, with special performances by the Big Band Blast clinicians – John Morrison (drums)\, Jacki Cooper (vocals)\, Eric Dunan (trumpet) and Dan Barnett (trombone). \n\n\n\nWe invite you to join us in hearing the superb talents of the Syd Con Jazz Orchestra as they play stunning arrangements of modern and classic jazz pieces. \n\n\n\nNow in its 11th year\, Big Band Blast provides educational and performance opportunities to high school big bands from around Australia. Proudly supported by the Mitchell Conservatorium\, Big Band Blast is proud to call Bathurst home.
URL:https://www.bathurstregion.com.au/event/big-band-blast-gala-concert/
LOCATION:Bathurst Memorial Entertainment Centre\, 105 William Street\, Bathurst\, New South Wales\, 2795\, Australia
CATEGORIES:Concert or Performance
ATTACH;FMTTYPE=image/png:https://www.bathurstregion.com.au/wp-content/uploads/2024/05/Big-Band-1080x1080-1-450x337-2.png
ORGANIZER;CN="Bathurst Memorial Entertainment Centre":MAILTO:bmec@bathurst.nsw.gov.au
END:VEVENT
END:VCALENDAR