
BEGIN:VCALENDAR
VERSION:2.0
PRODID:-//Bathurst Region Tourism - ECPv6.15.16//NONSGML v1.0//EN
CALSCALE:GREGORIAN
METHOD:PUBLISH
X-ORIGINAL-URL:https://www.bathurstregion.com.au
X-WR-CALDESC:Events for Bathurst Region Tourism
REFRESH-INTERVAL;VALUE=DURATION:PT1H
X-Robots-Tag:noindex
X-PUBLISHED-TTL:PT1H
BEGIN:VTIMEZONE
TZID:Australia/Sydney
BEGIN:STANDARD
TZOFFSETFROM:+1100
TZOFFSETTO:+1000
TZNAME:AEST
DTSTART:20240406T160000
END:STANDARD
BEGIN:DAYLIGHT
TZOFFSETFROM:+1000
TZOFFSETTO:+1100
TZNAME:AEDT
DTSTART:20241005T160000
END:DAYLIGHT
BEGIN:STANDARD
TZOFFSETFROM:+1100
TZOFFSETTO:+1000
TZNAME:AEST
DTSTART:20250405T160000
END:STANDARD
BEGIN:DAYLIGHT
TZOFFSETFROM:+1000
TZOFFSETTO:+1100
TZNAME:AEDT
DTSTART:20251004T160000
END:DAYLIGHT
BEGIN:STANDARD
TZOFFSETFROM:+1100
TZOFFSETTO:+1000
TZNAME:AEST
DTSTART:20260404T160000
END:STANDARD
BEGIN:DAYLIGHT
TZOFFSETFROM:+1000
TZOFFSETTO:+1100
TZNAME:AEDT
DTSTART:20261003T160000
END:DAYLIGHT
END:VTIMEZONE
BEGIN:VEVENT
DTSTART;TZID=Australia/Sydney:20250512T100000
DTEND;TZID=Australia/Sydney:20250512T150000
DTSTAMP:20260424T034137
CREATED:20250410T022944Z
LAST-MODIFIED:20250410T022959Z
UID:10004083-1747044000-1747062000@www.bathurstregion.com.au
SUMMARY:Waste 2 Art
DESCRIPTION:You are invited to the Waste 2 Art Exhibition displaying all the creative works of art made from toy waste.
URL:https://www.bathurstregion.com.au/event/waste-2-art/2025-05-12/
LOCATION:Bathurst Regional Council\, 158 Russell Street\, 2795
CATEGORIES:Community Event,Exhibition and Shows
ATTACH;FMTTYPE=image/jpeg:https://www.bathurstregion.com.au/wp-content/uploads/2025/04/Untitled-1-1.jpg
ORGANIZER;CN="Sustainable Bathurst":MAILTO:council@bathurst.nsw.gov.au
END:VEVENT
BEGIN:VEVENT
DTSTART;TZID=Australia/Sydney:20250513T100000
DTEND;TZID=Australia/Sydney:20250513T150000
DTSTAMP:20260424T034137
CREATED:20250410T022944Z
LAST-MODIFIED:20250410T022959Z
UID:10004084-1747130400-1747148400@www.bathurstregion.com.au
SUMMARY:Waste 2 Art
DESCRIPTION:You are invited to the Waste 2 Art Exhibition displaying all the creative works of art made from toy waste.
URL:https://www.bathurstregion.com.au/event/waste-2-art/2025-05-13/
LOCATION:Bathurst Regional Council\, 158 Russell Street\, 2795
CATEGORIES:Community Event,Exhibition and Shows
ATTACH;FMTTYPE=image/jpeg:https://www.bathurstregion.com.au/wp-content/uploads/2025/04/Untitled-1-1.jpg
ORGANIZER;CN="Sustainable Bathurst":MAILTO:council@bathurst.nsw.gov.au
END:VEVENT
BEGIN:VEVENT
DTSTART;TZID=Australia/Sydney:20250514T100000
DTEND;TZID=Australia/Sydney:20250514T150000
DTSTAMP:20260424T034137
CREATED:20250410T022944Z
LAST-MODIFIED:20250410T022959Z
UID:10004085-1747216800-1747234800@www.bathurstregion.com.au
SUMMARY:Waste 2 Art
DESCRIPTION:You are invited to the Waste 2 Art Exhibition displaying all the creative works of art made from toy waste.
URL:https://www.bathurstregion.com.au/event/waste-2-art/2025-05-14/
LOCATION:Bathurst Regional Council\, 158 Russell Street\, 2795
CATEGORIES:Community Event,Exhibition and Shows
ATTACH;FMTTYPE=image/jpeg:https://www.bathurstregion.com.au/wp-content/uploads/2025/04/Untitled-1-1.jpg
ORGANIZER;CN="Sustainable Bathurst":MAILTO:council@bathurst.nsw.gov.au
END:VEVENT
BEGIN:VEVENT
DTSTART;TZID=Australia/Sydney:20250514T103000
DTEND;TZID=Australia/Sydney:20250514T120000
DTSTAMP:20260424T034137
CREATED:20250323T223102Z
LAST-MODIFIED:20250404T041329Z
UID:10003982-1747218600-1747224000@www.bathurstregion.com.au
SUMMARY:Talks & Tea with BRAG // Tina Havelock Stevens: Now is a Beginning
DESCRIPTION:TALKS & TEA  // Tina Havelock Stevens: Now is a Beginning\nJoin Bathurst Regional Art Gallery (BRAG) Volunteer Guides for a spotlight talk and walk through of exhibition Now is a Beginning\, by Tina Havelock Stevens.  \nHeld on the second Wednesday of each month\, this is a social series for visitors to learn more about the current exhibitions\, Bathurst’s vibrant art scene\, and to meet like-minded locals! \nWednesday 7 May & Wednesday 11 June\n10:30am – 12pm\nFREE\, refreshments provided by donation online or at gallery reception
URL:https://www.bathurstregion.com.au/event/talks-tea-with-brag-tina-havelock-stevens-now-is-a-beginning-2/2025-05-14/
LOCATION:Bathurst Regional Art Gallery\, 70 -78 Keppel Street\, Bathurst\, New South Wales\, 2795\, Australia
CATEGORIES:Classes, Lessons, Workshops and Talks
ATTACH;FMTTYPE=image/png:https://www.bathurstregion.com.au/wp-content/uploads/2025/03/HeroImage_TalksandTea1_ATDW.png
ORGANIZER;CN="Bathurst Regional Art Gallery":MAILTO:brag@bathurst.nsw.gov.au
END:VEVENT
BEGIN:VEVENT
DTSTART;TZID=Australia/Sydney:20250514T140000
DTEND;TZID=Australia/Sydney:20250514T170000
DTSTAMP:20260424T034137
CREATED:20250324T223528Z
LAST-MODIFIED:20250327T013142Z
UID:10004008-1747231200-1747242000@www.bathurstregion.com.au
SUMMARY:Bathurst Dances\, Old Time and New Vogue Dance
DESCRIPTION:Dancing the old fashioned way\, with a another in your arms. Waltzes\, Tangos\, Saunters\, Jive and Swing in a sequenced way. Short demos before many dances\, but nothing beats\, standing up and simply giving it a go\, then having a laugh or giggle at your own attempts\, the way it was done in the old days\, still the cheapest way to learn.
URL:https://www.bathurstregion.com.au/event/bathurst-dances-old-time-and-new-vogue-dance/2025-05-14/
LOCATION:Walshaw Hall\, 9 Church Street\, Bathurst\, 2795
CATEGORIES:Community Event
ATTACH;FMTTYPE=image/png:https://www.bathurstregion.com.au/wp-content/uploads/2025/03/Untitled-design-2.png
END:VEVENT
BEGIN:VEVENT
DTSTART;TZID=Australia/Sydney:20250516T180000
DTEND;TZID=Australia/Sydney:20250516T220000
DTSTAMP:20260424T034137
CREATED:20250410T060521Z
LAST-MODIFIED:20250410T060525Z
UID:10004097-1747418400-1747432800@www.bathurstregion.com.au
SUMMARY:Ella Hooper - Live
DESCRIPTION:The Victoria Bathurst is proud to present Ella Hooper Live in Little AlbertsElla Hooper 8 pm \n\n\n\nElla Hooper burst onto the Australian music scene in the late 90’s as the technicolour teen front woman of Killing Heidi\, a band who went on to explode the naughties\, claiming pop rock dominion over the turn of the millenium. She scored her first number one single and released the fastest selling Australian album of all time in the year 2000. Ella was the first ever woman and youngest person to be awarded APRA’s Songwriter of the Year Award. \n\n\n\nAfter spending her ‘uni years’ touring the world in a wildly successful rock band\, she embarked on the first of a series of unexpected sidequests\, putting the band on extended haitus and pivoting to media\, hosting multiple TV and radio shows\, including ABC’s beloved music trivia show Spicks And Specks\, making her more than just a pop singer in her native Aus. \n\n\n\n2010 saw Hooper return to music under the moniker ‘The Verses’\, showcasing her love of Americana and classic West Coast harmonies. Produced by music legend Mitchell Froome\, it caught the ear of Fleetwood Mac and scored her the support slot on their 9 date Australian tour. Inspired by a conversation with Stevie Nicks\, Ella made her first official solo record in 2013 – the darkly energetic ‘In Tongues’ and now has three full length solo releases to her name\, traversing synth pop to dream folk and her most recent\, exploring the Americana genre once again\, Small Town Temple. \n\n\n\nWritten in her hometown of Violet Town Victoria\, in a period where both of her beloved parents tragically passed away from cancer within two weeks of each other\, Small Town Temple has been widely praised for its deeply personal songwriting and its unique ‘Australiana’ perspective. The album debuted at No. 1 on the Australian Country chart\, number 7 vinyl sales and was nominated for the prestigious Australian Music Prize. Firmly in her country era and carrying enough highs and lows to really do the genre justice\, Ella is now collaborating with Grammy Award winning stalwarts like Jim Lauderdale\, Steve Poltz and Melody Walker on the next record. Recorded in Nashville TN\, it’s set to be heavier on the twang\, more immediate in tone\, rich in stories from the past few years of chaos\, but as always – full of heart and enthusiasm. 
URL:https://www.bathurstregion.com.au/event/ella-hooper-live/
LOCATION:Little Alberts – The Victoria Hotel\, 3 Keppel Street\, Bathurst\, 2795
CATEGORIES:Concert or Performance
ATTACH;FMTTYPE=image/jpeg:https://www.bathurstregion.com.au/wp-content/uploads/2025/04/489323826_1095835762570870_4031064931037933821_n.jpg
ORGANIZER;CN="The Victoria Bathurst":MAILTO:hello@thevictoriabathurst.com.au
END:VEVENT
BEGIN:VEVENT
DTSTART;TZID=Australia/Sydney:20250517T090000
DTEND;TZID=Australia/Sydney:20250517T150000
DTSTAMP:20260424T034137
CREATED:20250407T064756Z
LAST-MODIFIED:20250407T064800Z
UID:10004074-1747472400-1747494000@www.bathurstregion.com.au
SUMMARY:Bx Thrift Market
DESCRIPTION:
URL:https://www.bathurstregion.com.au/event/bx-thrift-market/
LOCATION:New South Wales
CATEGORIES:Community Event,Markets
ATTACH;FMTTYPE=image/jpeg:https://www.bathurstregion.com.au/wp-content/uploads/2025/04/Untitled-1.jpg
END:VEVENT
BEGIN:VEVENT
DTSTART;TZID=Australia/Sydney:20250517T110000
DTEND;TZID=Australia/Sydney:20250517T140000
DTSTAMP:20260424T034137
CREATED:20250401T011337Z
LAST-MODIFIED:20250402T224917Z
UID:10004072-1747479600-1747490400@www.bathurstregion.com.au
SUMMARY:Bathurst Family Day Out
DESCRIPTION:Join for an unforgettable day of free fun for the whole family at this community event. \n\n\n\n BBQ\, soup and fruit boats Cakes and ice cream Archery tag Jumping castles and Zorb inflatables Petting Zoo Face painting and balloon artists Circus skills Live singers and bands Games and giveaways \n\n\n\nIt’s the perfect way to spend a fun-filled day with your loved ones!  Don’t miss out on the action – mark your calendars!
URL:https://www.bathurstregion.com.au/event/bathurst-family-day-out/
LOCATION:Adventure Playground\, Victoria Park\, Bathurst\, Durham Street & Hope Street\, Bathurst\, NSW\, 2795\, Australia
CATEGORIES:Community Event,Concert or Performance
ATTACH;FMTTYPE=image/jpeg:https://www.bathurstregion.com.au/wp-content/uploads/2025/04/484017693_1031181092405090_1092512607814461566_n-1.jpg
ORGANIZER;CN="Centacare Central West & Orana":MAILTO:reception@centacarebathurst.com.au
END:VEVENT
BEGIN:VEVENT
DTSTART;TZID=Australia/Sydney:20250517T120000
DTEND;TZID=Australia/Sydney:20250517T120000
DTSTAMP:20260424T034137
CREATED:20250414T041735Z
LAST-MODIFIED:20250414T041737Z
UID:10003800-1747483200-1747483200@www.bathurstregion.com.au
SUMMARY:Bathurst Stampede
DESCRIPTION:The 18th Bathurst Stampede Ultimate tournament! \n\n\n\n28 teams14 fields1 great weekend! \n\n\n\n\n\n\n\n\n\nhttps://www.facebook.com/WNSWUltimate
URL:https://www.bathurstregion.com.au/event/bathurst-stampede/
LOCATION:Learmonth Park
CATEGORIES:Sporting Events
ATTACH;FMTTYPE=image/jpeg:https://www.bathurstregion.com.au/wp-content/uploads/2025/04/486834172_1162354305677550_6830125587560663408_n.jpg
END:VEVENT
BEGIN:VEVENT
DTSTART;TZID=Australia/Sydney:20250518T084500
DTEND;TZID=Australia/Sydney:20250518T084500
DTSTAMP:20260424T034137
CREATED:20250430T061740Z
LAST-MODIFIED:20250430T061741Z
UID:10003819-1747557900-1747557900@www.bathurstregion.com.au
SUMMARY:Paddock to Plate 4WD Adventure
DESCRIPTION:Angus Beef\, Merino Sheep & a Steep Hill – A Paddock to Plate 4WD Adventure \n\n\n\nEmbark on a unique 4WD experience at Nalya – a breathtaking 2\,000-hectare cattle station located just north of Bathurst. Meet the Kilby family\, proud fourth-generation farmers\, and gain insight into life on the land. \n\n\n\nNavigate exciting 4WD tracks across the property as skilled working dogs round up hundreds of Merino sheep for drenching at the yards. \n\n\n\nAfterwards\, unwind with a mouth-watering BBQ lunch at the shearing shed\, featuring Nalya’s premium grass-fed Angus beef and fresh\, seasonal salads straight from the farm. \n\n\n\nThis is a medium-grade tour suitable for standard 4WD vehicles equipped with low range.
URL:https://www.bathurstregion.com.au/event/paddock-to-plate-4wd-adventure/
LOCATION:New South Wales
CATEGORIES:Food and Wine
ATTACH;FMTTYPE=image/jpeg:https://www.bathurstregion.com.au/wp-content/uploads/2025/04/481658303_1188918929907218_3927044350487380578_n.jpg
ORGANIZER;CN="Simmo's Offroad Tours":MAILTO:simmo@simmosoffroadtours.com
END:VEVENT
BEGIN:VEVENT
DTSTART;TZID=Australia/Sydney:20250518T140000
DTEND;TZID=Australia/Sydney:20250518T170000
DTSTAMP:20260424T034137
CREATED:20250324T223528Z
LAST-MODIFIED:20250327T013142Z
UID:10004009-1747576800-1747587600@www.bathurstregion.com.au
SUMMARY:Bathurst Dances\, Old Time and New Vogue Dance
DESCRIPTION:Dancing the old fashioned way\, with a another in your arms. Waltzes\, Tangos\, Saunters\, Jive and Swing in a sequenced way. Short demos before many dances\, but nothing beats\, standing up and simply giving it a go\, then having a laugh or giggle at your own attempts\, the way it was done in the old days\, still the cheapest way to learn.
URL:https://www.bathurstregion.com.au/event/bathurst-dances-old-time-and-new-vogue-dance/2025-05-18/
LOCATION:Walshaw Hall\, 9 Church Street\, Bathurst\, 2795
CATEGORIES:Community Event
ATTACH;FMTTYPE=image/png:https://www.bathurstregion.com.au/wp-content/uploads/2025/03/Untitled-design-2.png
END:VEVENT
BEGIN:VEVENT
DTSTART;TZID=Australia/Sydney:20250518T143000
DTEND;TZID=Australia/Sydney:20250518T143000
DTSTAMP:20260424T034137
CREATED:20250422T053608Z
LAST-MODIFIED:20250422T053610Z
UID:10003803-1747578600-1747578600@www.bathurstregion.com.au
SUMMARY:Autumn Notes
DESCRIPTION:Join the Bathurst Chamber Orchestra\, Bella Forte\, and Stringendo as they weave a tapestry of enchanting melodies\, showcasing the beauty and depth of Orchestral music in the walls of the beautiful Uniting Church of Bathurst. The student ensembles will perform many uplifting pieces that highlight the beauty of classical music followed by a stunning program put together by David Hood and the Bathurst Chamber Orchestra.  \n\n\n\nFeatured guest artist Rosemarie Barnes-Freisinger will be performing on Clarinet- Clarinet Concerto No.1 in F minor by Carl Maria von Weber. A perfect afternoon to immerse yourself in classical masterpieces
URL:https://www.bathurstregion.com.au/event/autumn-notes/
LOCATION:Bathurst Uniting Church\, William Street\, Bathurst\, NSW\, 2795
CATEGORIES:Concert or Performance
ATTACH;FMTTYPE=image/jpeg:https://www.bathurstregion.com.au/wp-content/uploads/2025/04/491972936_1149721797165041_4080591869713612193_n.jpg
ORGANIZER;CN="Mitchell Conservatorium":MAILTO:bathurst@mitchellconservatorium.edu.au
END:VEVENT
END:VCALENDAR