
BEGIN:VCALENDAR
VERSION:2.0
PRODID:-//Bathurst Region Tourism - ECPv6.15.16//NONSGML v1.0//EN
CALSCALE:GREGORIAN
METHOD:PUBLISH
X-ORIGINAL-URL:https://www.bathurstregion.com.au
X-WR-CALDESC:Events for Bathurst Region Tourism
REFRESH-INTERVAL;VALUE=DURATION:PT1H
X-Robots-Tag:noindex
X-PUBLISHED-TTL:PT1H
BEGIN:VTIMEZONE
TZID:Australia/Sydney
BEGIN:STANDARD
TZOFFSETFROM:+1100
TZOFFSETTO:+1000
TZNAME:AEST
DTSTART:20250405T160000
END:STANDARD
BEGIN:DAYLIGHT
TZOFFSETFROM:+1000
TZOFFSETTO:+1100
TZNAME:AEDT
DTSTART:20251004T160000
END:DAYLIGHT
BEGIN:STANDARD
TZOFFSETFROM:+1100
TZOFFSETTO:+1000
TZNAME:AEST
DTSTART:20260404T160000
END:STANDARD
BEGIN:DAYLIGHT
TZOFFSETFROM:+1000
TZOFFSETTO:+1100
TZNAME:AEDT
DTSTART:20261003T160000
END:DAYLIGHT
BEGIN:STANDARD
TZOFFSETFROM:+1100
TZOFFSETTO:+1000
TZNAME:AEST
DTSTART:20270403T160000
END:STANDARD
BEGIN:DAYLIGHT
TZOFFSETFROM:+1000
TZOFFSETTO:+1100
TZNAME:AEDT
DTSTART:20271002T160000
END:DAYLIGHT
END:VTIMEZONE
BEGIN:VEVENT
DTSTART;TZID=Australia/Sydney:20260228T180000
DTEND;TZID=Australia/Sydney:20260228T233000
DTSTAMP:20260421T151429
CREATED:20260114T205958Z
LAST-MODIFIED:20260114T235334Z
UID:10003662-1772301600-1772321400@www.bathurstregion.com.au
SUMMARY:A Night at Bathurst Goldfields – A Five-Course Dinner & Live Entertainment Experience
DESCRIPTION:Join us for a one-night-only evening at Bathurst Goldfields Resort\, complete with a beautifully crafted five-course dinner and live music\, all set against the sweeping backdrop of Mount Panorama.This special public event is our way of opening the doors and welcoming locals and visitors alike to share a night of good food\, great company\, amazing entertainment and the magic of the Goldfields.Whether you’re planning a date night\, rounding up a few friends\, or just keen for a night out nearby doing something different\, you’re bound to have a good ol’ time. \nEvent DetailsDate: Saturday 28 February 2026Time: Event begins 6:00pmEntertainment from: 6:30pm – 11:30pmLocation: Bathurst Goldfields Resort – Main Function Centre\, 428 Conrod Straight\, Mount Panorama  \nWhat to ExpectYour night will begin with drinks in our beautiful terraced alfresco gardens before you settle into a thoughtfully crafted five-course menu\, featuring seasonal ingredients and elevated flavours created especially for this event by our Head Chef\, Charles Reddy.As dinner unfolds\, the music comes to life. Ease into the evening with the soulful sounds of Henry Saxby\, Piano Man\, before the band takes over and gets the party started! \nTickets$119 per person.Tickets include the five-course dinner and all entertainment. Tickets are limited and must be purchased prior to the event. You will be able to specify groups to be seated together by name at the time of booking. \nOur on-site bar will be open throughout the evening\, with drinks available for purchase on consumption.We hope you’ll join us for an amazing evening at the Goldfields.
URL:https://www.bathurstregion.com.au/event/a-night-at-bathurst-goldfields-a-five-course-dinner-live-entertainment-experience/
LOCATION:Bathurst Goldfields – Event & Function Centre\, 428 Conrod Straight\, Bathurst\, NSW\, 2795\, Australia
CATEGORIES:Food and Wine
ATTACH;FMTTYPE=image/jpeg:https://www.bathurstregion.com.au/wp-content/uploads/2026/01/Alfresco-7-scaled.jpg
END:VEVENT
END:VCALENDAR