
BEGIN:VCALENDAR
VERSION:2.0
PRODID:-//Bathurst Region Tourism - ECPv6.15.16//NONSGML v1.0//EN
CALSCALE:GREGORIAN
METHOD:PUBLISH
X-WR-CALNAME:Bathurst Region Tourism
X-ORIGINAL-URL:https://www.bathurstregion.com.au
X-WR-CALDESC:Events for Bathurst Region Tourism
REFRESH-INTERVAL;VALUE=DURATION:PT1H
X-Robots-Tag:noindex
X-PUBLISHED-TTL:PT1H
BEGIN:VTIMEZONE
TZID:Australia/Sydney
BEGIN:STANDARD
TZOFFSETFROM:+1100
TZOFFSETTO:+1000
TZNAME:AEST
DTSTART:20250405T160000
END:STANDARD
BEGIN:DAYLIGHT
TZOFFSETFROM:+1000
TZOFFSETTO:+1100
TZNAME:AEDT
DTSTART:20251004T160000
END:DAYLIGHT
BEGIN:STANDARD
TZOFFSETFROM:+1100
TZOFFSETTO:+1000
TZNAME:AEST
DTSTART:20260404T160000
END:STANDARD
BEGIN:DAYLIGHT
TZOFFSETFROM:+1000
TZOFFSETTO:+1100
TZNAME:AEDT
DTSTART:20261003T160000
END:DAYLIGHT
BEGIN:STANDARD
TZOFFSETFROM:+1100
TZOFFSETTO:+1000
TZNAME:AEST
DTSTART:20270403T160000
END:STANDARD
BEGIN:DAYLIGHT
TZOFFSETFROM:+1000
TZOFFSETTO:+1100
TZNAME:AEDT
DTSTART:20271002T160000
END:DAYLIGHT
END:VTIMEZONE
BEGIN:VEVENT
DTSTART;TZID=Australia/Sydney:20260212T104500
DTEND;TZID=Australia/Sydney:20260212T123000
DTSTAMP:20260422T031701
CREATED:20260128T234211Z
LAST-MODIFIED:20260128T234211Z
UID:10004918-1770893100-1770899400@www.bathurstregion.com.au
SUMMARY:Meguiar's Bathurst 12 Hour Track to Town
DESCRIPTION:Track to Town returns as part of the 2026 Meguiar’s Bathurst 12 Hour \nThe entire Meguiar’s Bathurst 12 Hour field will be driven from Mount Panorama to the centre of Bathurst for the 2026 Track to Town celebrations on Thursday the 12th of February. \nHead down to Russell Street to see all the cars up close and get your favourite driver’s signature. The field of cars will arrive at Russell Street by approx. 11am with a drivers signing session from 11.30am to 12.15pm. \nFor more information visit https://www.bathurst.nsw.gov.au/Events/Bathurst-12-Hour
URL:https://www.bathurstregion.com.au/event/meguiars-bathurst-12-hour-track-to-town/
LOCATION:Russell Street (between William &amp; George Street)
CATEGORIES:Festivals and Celebrations,Sporting Events
ATTACH;FMTTYPE=image/jpeg:https://www.bathurstregion.com.au/wp-content/uploads/2026/01/Track-to-Town-LR-18-scaled.jpg
ORGANIZER;CN="Bathurst Regional Council Events":MAILTO:events@bathurst.nsw.gov.au
END:VEVENT
BEGIN:VEVENT
DTSTART;TZID=Australia/Sydney:20260214T120000
DTEND;TZID=Australia/Sydney:20260214T170000
DTSTAMP:20260422T031701
CREATED:20251211T220059Z
LAST-MODIFIED:20251211T220102Z
UID:10004712-1771070400-1771088400@www.bathurstregion.com.au
SUMMARY:Cellar Door Inspired Truffle Tasting
DESCRIPTION:Enjoy a relaxed\, premium truffle tasting at RedGround\, inspired by the intimacy of a cellar-door experience. Guests select an hourly arrival time and are seated for a tasting of seasonal truffle canapés and a glass of local sparkling wine (non-alcoholic version available)\, each highlighting the flavour and aroma of our four truffle varieties.\n\nYou may enhance your visit with optional additions during booking:\n\n• Truffle Champagne Cocktail\nUpgrade your glass of sparkling wine for a bright\, elegant truffle champagne cocktail with a subtle truffle infusion that lifts the savoury notes of the tasting.\n\n• Truffle Negroni\nUpgrade your glass of sparkling wine for a classic Negroni enriched with a delicate layer of truffle\, adding depth to the balance of gin\, vermouth\, and amaro.\n\n• Picnic Hamper for Two (limited availability)\n\nAfter your truffle tasting experience\, select to add on a gourmet hamper featuring house-made sourdough\, artisan charcuterie\, truffle aioli\, truffle mustard\, selected cheeses\, seasonal accompaniments\, and our signature Truffle Honey Cream Kisses. Includes a picnic rug for you to use during your picnic and your choice of local white wine\, red wine\, or sparkling to enjoy outdoors. \n\nAll tastings and selected add-ons are paid at the time of booking. Additional truffle products and gifts are available to purchase upon departure.
URL:https://www.bathurstregion.com.au/event/cellar-door-inspired-truffle-tasting/2026-02-14/
LOCATION:RedGround Truffle Hunting Lodge\, 264 Titania Road\, Oberon\, 2787
CATEGORIES:Food and Wine
ATTACH;FMTTYPE=image/jpeg:https://www.bathurstregion.com.au/wp-content/uploads/2025/12/Cellar-door-style-truffle-tasting.jpg
ORGANIZER;CN="RedGround Truffles Australia":MAILTO:jill@redground.com.au
END:VEVENT
BEGIN:VEVENT
DTSTART;TZID=Australia/Sydney:20260214T180000
DTEND;TZID=Australia/Sydney:20260214T220000
DTSTAMP:20260422T031701
CREATED:20260114T205957Z
LAST-MODIFIED:20260114T205957Z
UID:10003665-1771092000-1771106400@www.bathurstregion.com.au
SUMMARY:Dine Under the Stars at The Rockley Pub
DESCRIPTION:Join us for our Local Producers’ Dinner\, an intimate evening celebrating the best of the Central West.  \nEnjoy a 3-course shared-style menu with snack on arrival showcasing indigenous ingredients from Nathan Lovett out of Mudgee and seasonal local produce by Fardon & Sons Organic Farm\, perfectly paired with Winburndale wines. Bringing fire\, flavour and connection to country cooking over the Pig & Pilgrim.   \nSet under the stars in our newly renovated beer garden\, this is a night to indulge in exceptional food and wine\, honour local produce\, and share great company in a truly memorable setting.  \nWhen: Saturday\, 14th February\n Time: From 6:00 PM – enjoy a welcome drink and snack on arrival\n Cost: $129 per person \nReserve your spot for an unforgettable evening of fine food\, wine\, and conversation. \nReturn transport from Bathurst to Rockley is available at the time of booking for an additional charge. Pick up from Russell st\, opposite the Courthouse\, at 5:30pm for 6pm arrival at The Rockley Pub\, departure from the pub is at 9:30pm.
URL:https://www.bathurstregion.com.au/event/dine-under-the-stars-at-the-rockley-pub/
LOCATION:The Rockley Pub\, 2 Budden Street\, Rockley\, NSW\, 2795
CATEGORIES:Food and Wine
ATTACH;FMTTYPE=image/jpeg:https://www.bathurstregion.com.au/wp-content/uploads/2026/01/Website-tiles-70.jpg
ORGANIZER;CN="The Rockley Pub":MAILTO:info@therockleypub.com.au
END:VEVENT
END:VCALENDAR