
BEGIN:VCALENDAR
VERSION:2.0
PRODID:-//Bathurst Region Tourism - ECPv6.15.16//NONSGML v1.0//EN
CALSCALE:GREGORIAN
METHOD:PUBLISH
X-WR-CALNAME:Bathurst Region Tourism
X-ORIGINAL-URL:https://www.bathurstregion.com.au
X-WR-CALDESC:Events for Bathurst Region Tourism
REFRESH-INTERVAL;VALUE=DURATION:PT1H
X-Robots-Tag:noindex
X-PUBLISHED-TTL:PT1H
BEGIN:VTIMEZONE
TZID:Australia/Sydney
BEGIN:STANDARD
TZOFFSETFROM:+1100
TZOFFSETTO:+1000
TZNAME:AEST
DTSTART:20250405T160000
END:STANDARD
BEGIN:DAYLIGHT
TZOFFSETFROM:+1000
TZOFFSETTO:+1100
TZNAME:AEDT
DTSTART:20251004T160000
END:DAYLIGHT
BEGIN:STANDARD
TZOFFSETFROM:+1100
TZOFFSETTO:+1000
TZNAME:AEST
DTSTART:20260404T160000
END:STANDARD
BEGIN:DAYLIGHT
TZOFFSETFROM:+1000
TZOFFSETTO:+1100
TZNAME:AEDT
DTSTART:20261003T160000
END:DAYLIGHT
BEGIN:STANDARD
TZOFFSETFROM:+1100
TZOFFSETTO:+1000
TZNAME:AEST
DTSTART:20270403T160000
END:STANDARD
BEGIN:DAYLIGHT
TZOFFSETFROM:+1000
TZOFFSETTO:+1100
TZNAME:AEDT
DTSTART:20271002T160000
END:DAYLIGHT
END:VTIMEZONE
BEGIN:VEVENT
DTSTART;TZID=Australia/Sydney:20260126T000000
DTEND;TZID=Australia/Sydney:20260126T235959
DTSTAMP:20260422T070158
CREATED:20260114T205958Z
LAST-MODIFIED:20260114T205958Z
UID:10003661-1769385600-1769471999@www.bathurstregion.com.au
SUMMARY:Australia Day in the Bathurst Region
DESCRIPTION:Reflect\, Respect and Celebrate Australia Day in the Bathurst Region on Monday 26 January. \nJoin us in welcoming new Australian citizens as they are presented with their Citizenship Certificates at the Annual Citizenship Ceremony.\nWhen: 9.30am\nWhere: Bathurst Memorial Entertainment Centre – City Hall \nThen\, celebrate the significant achievements and outstanding contributions of our local community members at the Australia Day Awards Ceremony.\nWhen: 11am\nWhere: Bathurst Memorial Entertainment Centre – City Hall \nCool off at the Manning Aquatic Centre this Australia Day with $2 entry from 11am to 5.30pm\, water activities and a free BBQ lunch; or head out and explore one of the beautiful villages. Wattle Flat will be hosting a family fun day along from 9am to 2pm with a free BBQ\, face painting\, live music and more! \nPlus\, make the most of the Australia Day long weekend and enjoy a free outdoor cinema experience in Kings Parade on Saturday 24 January. Bring the family along to enjoy the iconic Australian film Red Dog (Rated PG) under the stars and soak up a beautiful summer evening in the park.\nThere will be no food trucks on site\, so make sure to pack a picnic or grab takeaway from your favourite local restaurant\, settle in for a fun night. Movie starts at approx. 7:30pm. \nVisit Council’s website for more information on Australia Day events and activities > www.bathurst.nsw.gov.au/Events/Australia-Day\nAssisted by the Australian Government through the National Australia Day Council. \nBathurst Regional Council acknowledges the traditional owners of the land\, and pays respect to First Nations Elders past\, present and future.
URL:https://www.bathurstregion.com.au/event/australia-day-in-the-bathurst-region/
LOCATION:Kings Parade Bathurst\, 3 Church St\, Bathurst\, 2795
ATTACH;FMTTYPE=image/png:https://www.bathurstregion.com.au/wp-content/uploads/2026/01/26-Aus-Day_BVIC-Tile.png
ORGANIZER;CN="Bathurst Regional Council Events":MAILTO:events@bathurst.nsw.gov.au
END:VEVENT
BEGIN:VEVENT
DTSTART;TZID=Australia/Sydney:20260126T090000
DTEND;TZID=Australia/Sydney:20260126T230000
DTSTAMP:20260422T070158
CREATED:20250930T010535Z
LAST-MODIFIED:20250930T010535Z
UID:10004595-1769418000-1769468400@www.bathurstregion.com.au
SUMMARY:BATHURST ANNUAL AUSTRALIA DAY TRIATHLON
DESCRIPTION:Bathurst’s Biggest Triathlon Event of the Year\nWhile the Australia Day Triathlon in Bathurst is one of the most prestigious events in Country NSW\, it is a wonderful way to celebrate Australia Day\, giving the citizens of Bathurst an opportunity to get “out an active” on Australia Day Morning. The Australia Day event is the Bathurst Wallabies Triathlon Clubs round in the Central West Interclub series and is quite a spectacle\, bragging an excellent Honour Roll.\nThe event is based at Stanley Street which is a very historic site\, being where Governor and Lady Macquarie proclaimed the city and first European Settlement in Inland Australia. But prior to this\, the venue was the meeting place of the two dominant water courses of the Bathurst Plains: with the Wambool (Macquarie River) and Vale creek joining at the location. This had created a sandy beach & swimming hole long before white settlement. (NOTE around a century ago\, the Queen Charlotte’s Vale Creek was redirected by the Municipal Council to join the Macquarie/Wambool River further upstream).\nThe 2026 Aussie Day event starting adjacent to the Wambuul Ceremonial Ground & 2015 Bicentennial meeting site\, with race organisers asking all to consider the history of the Wiradyuri Nation at this old natural water hole site. This event is a celebration of life in Australia on our National Day\, as well as the Bathurst round of the Central West Interclub Series.
URL:https://www.bathurstregion.com.au/event/bathurst-annual-australia-day-triathlon/
LOCATION:Stanley Street\, Bathurst\, NSW\, 2795\, Stanley Street\, Bathurst\, 2795
CATEGORIES:Community Event,Festivals and Celebrations,School Holiday Activity,Sporting Events
ATTACH;FMTTYPE=image/jpeg:https://www.bathurstregion.com.au/wp-content/uploads/2025/09/AussieDay-GirlsTri_Tx2.jpg
ORGANIZER;CN="Bathurst Wallabies Triathlon Club":MAILTO:president@bathursttriclub.com.au
END:VEVENT
BEGIN:VEVENT
DTSTART;TZID=Australia/Sydney:20260131T120000
DTEND;TZID=Australia/Sydney:20260131T170000
DTSTAMP:20260422T070158
CREATED:20251211T220059Z
LAST-MODIFIED:20251211T220102Z
UID:10004710-1769860800-1769878800@www.bathurstregion.com.au
SUMMARY:Cellar Door Inspired Truffle Tasting
DESCRIPTION:Enjoy a relaxed\, premium truffle tasting at RedGround\, inspired by the intimacy of a cellar-door experience. Guests select an hourly arrival time and are seated for a tasting of seasonal truffle canapés and a glass of local sparkling wine (non-alcoholic version available)\, each highlighting the flavour and aroma of our four truffle varieties.\n\nYou may enhance your visit with optional additions during booking:\n\n• Truffle Champagne Cocktail\nUpgrade your glass of sparkling wine for a bright\, elegant truffle champagne cocktail with a subtle truffle infusion that lifts the savoury notes of the tasting.\n\n• Truffle Negroni\nUpgrade your glass of sparkling wine for a classic Negroni enriched with a delicate layer of truffle\, adding depth to the balance of gin\, vermouth\, and amaro.\n\n• Picnic Hamper for Two (limited availability)\n\nAfter your truffle tasting experience\, select to add on a gourmet hamper featuring house-made sourdough\, artisan charcuterie\, truffle aioli\, truffle mustard\, selected cheeses\, seasonal accompaniments\, and our signature Truffle Honey Cream Kisses. Includes a picnic rug for you to use during your picnic and your choice of local white wine\, red wine\, or sparkling to enjoy outdoors. \n\nAll tastings and selected add-ons are paid at the time of booking. Additional truffle products and gifts are available to purchase upon departure.
URL:https://www.bathurstregion.com.au/event/cellar-door-inspired-truffle-tasting/2026-01-31/
LOCATION:RedGround Truffle Hunting Lodge\, 264 Titania Road\, Oberon\, 2787
CATEGORIES:Food and Wine
ATTACH;FMTTYPE=image/jpeg:https://www.bathurstregion.com.au/wp-content/uploads/2025/12/Cellar-door-style-truffle-tasting.jpg
ORGANIZER;CN="RedGround Truffles Australia":MAILTO:jill@redground.com.au
END:VEVENT
END:VCALENDAR