
BEGIN:VCALENDAR
VERSION:2.0
PRODID:-//Bathurst Region Tourism - ECPv6.15.16//NONSGML v1.0//EN
CALSCALE:GREGORIAN
METHOD:PUBLISH
X-WR-CALNAME:Bathurst Region Tourism
X-ORIGINAL-URL:https://www.bathurstregion.com.au
X-WR-CALDESC:Events for Bathurst Region Tourism
REFRESH-INTERVAL;VALUE=DURATION:PT1H
X-Robots-Tag:noindex
X-PUBLISHED-TTL:PT1H
BEGIN:VTIMEZONE
TZID:Australia/Sydney
BEGIN:STANDARD
TZOFFSETFROM:+1100
TZOFFSETTO:+1000
TZNAME:AEST
DTSTART:20250405T160000
END:STANDARD
BEGIN:DAYLIGHT
TZOFFSETFROM:+1000
TZOFFSETTO:+1100
TZNAME:AEDT
DTSTART:20251004T160000
END:DAYLIGHT
BEGIN:STANDARD
TZOFFSETFROM:+1100
TZOFFSETTO:+1000
TZNAME:AEST
DTSTART:20260404T160000
END:STANDARD
BEGIN:DAYLIGHT
TZOFFSETFROM:+1000
TZOFFSETTO:+1100
TZNAME:AEDT
DTSTART:20261003T160000
END:DAYLIGHT
BEGIN:STANDARD
TZOFFSETFROM:+1100
TZOFFSETTO:+1000
TZNAME:AEST
DTSTART:20270403T160000
END:STANDARD
BEGIN:DAYLIGHT
TZOFFSETFROM:+1000
TZOFFSETTO:+1100
TZNAME:AEDT
DTSTART:20271002T160000
END:DAYLIGHT
END:VTIMEZONE
BEGIN:VEVENT
DTSTART;TZID=Australia/Sydney:20260307T120000
DTEND;TZID=Australia/Sydney:20260307T170000
DTSTAMP:20260420T170434
CREATED:20251211T220059Z
LAST-MODIFIED:20251211T220102Z
UID:10004714-1772884800-1772902800@www.bathurstregion.com.au
SUMMARY:Cellar Door Inspired Truffle Tasting
DESCRIPTION:Enjoy a relaxed\, premium truffle tasting at RedGround\, inspired by the intimacy of a cellar-door experience. Guests select an hourly arrival time and are seated for a tasting of seasonal truffle canapés and a glass of local sparkling wine (non-alcoholic version available)\, each highlighting the flavour and aroma of our four truffle varieties.\n\nYou may enhance your visit with optional additions during booking:\n\n• Truffle Champagne Cocktail\nUpgrade your glass of sparkling wine for a bright\, elegant truffle champagne cocktail with a subtle truffle infusion that lifts the savoury notes of the tasting.\n\n• Truffle Negroni\nUpgrade your glass of sparkling wine for a classic Negroni enriched with a delicate layer of truffle\, adding depth to the balance of gin\, vermouth\, and amaro.\n\n• Picnic Hamper for Two (limited availability)\n\nAfter your truffle tasting experience\, select to add on a gourmet hamper featuring house-made sourdough\, artisan charcuterie\, truffle aioli\, truffle mustard\, selected cheeses\, seasonal accompaniments\, and our signature Truffle Honey Cream Kisses. Includes a picnic rug for you to use during your picnic and your choice of local white wine\, red wine\, or sparkling to enjoy outdoors. \n\nAll tastings and selected add-ons are paid at the time of booking. Additional truffle products and gifts are available to purchase upon departure.
URL:https://www.bathurstregion.com.au/event/cellar-door-inspired-truffle-tasting/2026-03-07/
LOCATION:RedGround Truffle Hunting Lodge\, 264 Titania Road\, Oberon\, 2787
CATEGORIES:Food and Wine
ATTACH;FMTTYPE=image/jpeg:https://www.bathurstregion.com.au/wp-content/uploads/2025/12/Cellar-door-style-truffle-tasting.jpg
ORGANIZER;CN="RedGround Truffles Australia":MAILTO:jill@redground.com.au
END:VEVENT
BEGIN:VEVENT
DTSTART;TZID=Australia/Sydney:20260314T120000
DTEND;TZID=Australia/Sydney:20260314T170000
DTSTAMP:20260420T170434
CREATED:20251211T220059Z
LAST-MODIFIED:20251211T220102Z
UID:10004715-1773489600-1773507600@www.bathurstregion.com.au
SUMMARY:Cellar Door Inspired Truffle Tasting
DESCRIPTION:Enjoy a relaxed\, premium truffle tasting at RedGround\, inspired by the intimacy of a cellar-door experience. Guests select an hourly arrival time and are seated for a tasting of seasonal truffle canapés and a glass of local sparkling wine (non-alcoholic version available)\, each highlighting the flavour and aroma of our four truffle varieties.\n\nYou may enhance your visit with optional additions during booking:\n\n• Truffle Champagne Cocktail\nUpgrade your glass of sparkling wine for a bright\, elegant truffle champagne cocktail with a subtle truffle infusion that lifts the savoury notes of the tasting.\n\n• Truffle Negroni\nUpgrade your glass of sparkling wine for a classic Negroni enriched with a delicate layer of truffle\, adding depth to the balance of gin\, vermouth\, and amaro.\n\n• Picnic Hamper for Two (limited availability)\n\nAfter your truffle tasting experience\, select to add on a gourmet hamper featuring house-made sourdough\, artisan charcuterie\, truffle aioli\, truffle mustard\, selected cheeses\, seasonal accompaniments\, and our signature Truffle Honey Cream Kisses. Includes a picnic rug for you to use during your picnic and your choice of local white wine\, red wine\, or sparkling to enjoy outdoors. \n\nAll tastings and selected add-ons are paid at the time of booking. Additional truffle products and gifts are available to purchase upon departure.
URL:https://www.bathurstregion.com.au/event/cellar-door-inspired-truffle-tasting/2026-03-14/
LOCATION:RedGround Truffle Hunting Lodge\, 264 Titania Road\, Oberon\, 2787
CATEGORIES:Food and Wine
ATTACH;FMTTYPE=image/jpeg:https://www.bathurstregion.com.au/wp-content/uploads/2025/12/Cellar-door-style-truffle-tasting.jpg
ORGANIZER;CN="RedGround Truffles Australia":MAILTO:jill@redground.com.au
END:VEVENT
BEGIN:VEVENT
DTSTART;TZID=Australia/Sydney:20260321T120000
DTEND;TZID=Australia/Sydney:20260321T170000
DTSTAMP:20260420T170434
CREATED:20251211T220059Z
LAST-MODIFIED:20251211T220102Z
UID:10004716-1774094400-1774112400@www.bathurstregion.com.au
SUMMARY:Cellar Door Inspired Truffle Tasting
DESCRIPTION:Enjoy a relaxed\, premium truffle tasting at RedGround\, inspired by the intimacy of a cellar-door experience. Guests select an hourly arrival time and are seated for a tasting of seasonal truffle canapés and a glass of local sparkling wine (non-alcoholic version available)\, each highlighting the flavour and aroma of our four truffle varieties.\n\nYou may enhance your visit with optional additions during booking:\n\n• Truffle Champagne Cocktail\nUpgrade your glass of sparkling wine for a bright\, elegant truffle champagne cocktail with a subtle truffle infusion that lifts the savoury notes of the tasting.\n\n• Truffle Negroni\nUpgrade your glass of sparkling wine for a classic Negroni enriched with a delicate layer of truffle\, adding depth to the balance of gin\, vermouth\, and amaro.\n\n• Picnic Hamper for Two (limited availability)\n\nAfter your truffle tasting experience\, select to add on a gourmet hamper featuring house-made sourdough\, artisan charcuterie\, truffle aioli\, truffle mustard\, selected cheeses\, seasonal accompaniments\, and our signature Truffle Honey Cream Kisses. Includes a picnic rug for you to use during your picnic and your choice of local white wine\, red wine\, or sparkling to enjoy outdoors. \n\nAll tastings and selected add-ons are paid at the time of booking. Additional truffle products and gifts are available to purchase upon departure.
URL:https://www.bathurstregion.com.au/event/cellar-door-inspired-truffle-tasting/2026-03-21/
LOCATION:RedGround Truffle Hunting Lodge\, 264 Titania Road\, Oberon\, 2787
CATEGORIES:Food and Wine
ATTACH;FMTTYPE=image/jpeg:https://www.bathurstregion.com.au/wp-content/uploads/2025/12/Cellar-door-style-truffle-tasting.jpg
ORGANIZER;CN="RedGround Truffles Australia":MAILTO:jill@redground.com.au
END:VEVENT
BEGIN:VEVENT
DTSTART;TZID=Australia/Sydney:20260328T120000
DTEND;TZID=Australia/Sydney:20260328T170000
DTSTAMP:20260420T170434
CREATED:20251211T220059Z
LAST-MODIFIED:20251211T220102Z
UID:10004717-1774699200-1774717200@www.bathurstregion.com.au
SUMMARY:Cellar Door Inspired Truffle Tasting
DESCRIPTION:Enjoy a relaxed\, premium truffle tasting at RedGround\, inspired by the intimacy of a cellar-door experience. Guests select an hourly arrival time and are seated for a tasting of seasonal truffle canapés and a glass of local sparkling wine (non-alcoholic version available)\, each highlighting the flavour and aroma of our four truffle varieties.\n\nYou may enhance your visit with optional additions during booking:\n\n• Truffle Champagne Cocktail\nUpgrade your glass of sparkling wine for a bright\, elegant truffle champagne cocktail with a subtle truffle infusion that lifts the savoury notes of the tasting.\n\n• Truffle Negroni\nUpgrade your glass of sparkling wine for a classic Negroni enriched with a delicate layer of truffle\, adding depth to the balance of gin\, vermouth\, and amaro.\n\n• Picnic Hamper for Two (limited availability)\n\nAfter your truffle tasting experience\, select to add on a gourmet hamper featuring house-made sourdough\, artisan charcuterie\, truffle aioli\, truffle mustard\, selected cheeses\, seasonal accompaniments\, and our signature Truffle Honey Cream Kisses. Includes a picnic rug for you to use during your picnic and your choice of local white wine\, red wine\, or sparkling to enjoy outdoors. \n\nAll tastings and selected add-ons are paid at the time of booking. Additional truffle products and gifts are available to purchase upon departure.
URL:https://www.bathurstregion.com.au/event/cellar-door-inspired-truffle-tasting/2026-03-28/
LOCATION:RedGround Truffle Hunting Lodge\, 264 Titania Road\, Oberon\, 2787
CATEGORIES:Food and Wine
ATTACH;FMTTYPE=image/jpeg:https://www.bathurstregion.com.au/wp-content/uploads/2025/12/Cellar-door-style-truffle-tasting.jpg
ORGANIZER;CN="RedGround Truffles Australia":MAILTO:jill@redground.com.au
END:VEVENT
END:VCALENDAR