
BEGIN:VCALENDAR
VERSION:2.0
PRODID:-//Bathurst Region Tourism - ECPv6.15.16//NONSGML v1.0//EN
CALSCALE:GREGORIAN
METHOD:PUBLISH
X-WR-CALNAME:Bathurst Region Tourism
X-ORIGINAL-URL:https://www.bathurstregion.com.au
X-WR-CALDESC:Events for Bathurst Region Tourism
REFRESH-INTERVAL;VALUE=DURATION:PT1H
X-Robots-Tag:noindex
X-PUBLISHED-TTL:PT1H
BEGIN:VTIMEZONE
TZID:Australia/Sydney
BEGIN:STANDARD
TZOFFSETFROM:+1100
TZOFFSETTO:+1000
TZNAME:AEST
DTSTART:20250405T160000
END:STANDARD
BEGIN:DAYLIGHT
TZOFFSETFROM:+1000
TZOFFSETTO:+1100
TZNAME:AEDT
DTSTART:20251004T160000
END:DAYLIGHT
BEGIN:STANDARD
TZOFFSETFROM:+1100
TZOFFSETTO:+1000
TZNAME:AEST
DTSTART:20260404T160000
END:STANDARD
BEGIN:DAYLIGHT
TZOFFSETFROM:+1000
TZOFFSETTO:+1100
TZNAME:AEDT
DTSTART:20261003T160000
END:DAYLIGHT
BEGIN:STANDARD
TZOFFSETFROM:+1100
TZOFFSETTO:+1000
TZNAME:AEST
DTSTART:20270403T160000
END:STANDARD
BEGIN:DAYLIGHT
TZOFFSETFROM:+1000
TZOFFSETTO:+1100
TZNAME:AEDT
DTSTART:20271002T160000
END:DAYLIGHT
END:VTIMEZONE
BEGIN:VEVENT
DTSTART;TZID=Australia/Sydney:20260404T110000
DTEND;TZID=Australia/Sydney:20260404T130000
DTSTAMP:20260420T144458
CREATED:20260327T004317Z
LAST-MODIFIED:20260327T004317Z
UID:10005021-1775300400-1775307600@www.bathurstregion.com.au
SUMMARY:'Split Decisions' & ‘Clay + Bone’ Exhibition Opening
DESCRIPTION:The Hill End Art Gallery is excited to present its next exhibition\, showcasing the works of artists Julie Williams and Parris Dewhurst.About the Exhibition: ‘Split Decisions’ & ‘Clay + Bone’Julie Williams is delighted to share her passion and creative journey through her exhibition\, ‘Split Decisions’. This collection expresses the vibrant energy and enchanting landscapes that have shaped her unique experience in Hill End. Julie wishes to celebrate and thank the many friends and family members who have supported her over the years by inviting them to experience this heartfelt showcase.Parris Dewhurst’s Connection to Hill EndFor nearly twenty years\, Parris Dewhurst has been drawn back to Hill End\, finding it to be a place of enduring connection and retreat. In 2023\, Parris participated in the Hill End Drawing Marathon\, an event led by Fran O’Neill\, a faculty member of the New York Studio School. The time she has spent exploring the surrounding bushland and engaging with the region’s rich and layered history provides a peaceful balance to her studio practice in Sydney.
URL:https://www.bathurstregion.com.au/event/split-decisions-clay-bone-exhibition-opening/
LOCATION:Hill End Art Gallery\, 5 Beyers Avenue\, Hill End\, 2850\, Australia
CATEGORIES:Art
ATTACH;FMTTYPE=image/jpeg:https://www.bathurstregion.com.au/wp-content/uploads/2026/03/Clay-Bone-Split-Decisions-Exhibition-Poster.jpg
ORGANIZER;CN="Hill End Arts Council Inc":MAILTO:hillendartscouncil@gmail.com
END:VEVENT
END:VCALENDAR