
BEGIN:VCALENDAR
VERSION:2.0
PRODID:-//Bathurst Region Tourism - ECPv6.15.16//NONSGML v1.0//EN
CALSCALE:GREGORIAN
METHOD:PUBLISH
X-WR-CALNAME:Bathurst Region Tourism
X-ORIGINAL-URL:https://www.bathurstregion.com.au
X-WR-CALDESC:Events for Bathurst Region Tourism
REFRESH-INTERVAL;VALUE=DURATION:PT1H
X-Robots-Tag:noindex
X-PUBLISHED-TTL:PT1H
BEGIN:VTIMEZONE
TZID:Australia/Sydney
BEGIN:STANDARD
TZOFFSETFROM:+1100
TZOFFSETTO:+1000
TZNAME:AEST
DTSTART:20250405T160000
END:STANDARD
BEGIN:DAYLIGHT
TZOFFSETFROM:+1000
TZOFFSETTO:+1100
TZNAME:AEDT
DTSTART:20251004T160000
END:DAYLIGHT
BEGIN:STANDARD
TZOFFSETFROM:+1100
TZOFFSETTO:+1000
TZNAME:AEST
DTSTART:20260404T160000
END:STANDARD
BEGIN:DAYLIGHT
TZOFFSETFROM:+1000
TZOFFSETTO:+1100
TZNAME:AEDT
DTSTART:20261003T160000
END:DAYLIGHT
BEGIN:STANDARD
TZOFFSETFROM:+1100
TZOFFSETTO:+1000
TZNAME:AEST
DTSTART:20270403T160000
END:STANDARD
BEGIN:DAYLIGHT
TZOFFSETFROM:+1000
TZOFFSETTO:+1100
TZNAME:AEDT
DTSTART:20271002T160000
END:DAYLIGHT
END:VTIMEZONE
BEGIN:VEVENT
DTSTART;TZID=Australia/Sydney:20260726T133000
DTEND;TZID=Australia/Sydney:20260727T160000
DTSTAMP:20260423T075902
CREATED:20260422T062010Z
LAST-MODIFIED:20260422T062011Z
UID:10005050-1785072600-1785168000@www.bathurstregion.com.au
SUMMARY:& Juliet
DESCRIPTION:There’s life after Romeo at this larger-than-life musical by the Emmy-winning writer from Schitt’s Creek and pop music’s #1 hitmaker. \n& Juliet flips the script on the greatest love story ever told\, imagining what would happen next if Juliet hadn’t ended it all over Romeo\, and got a second chance at life and love – on her terms.\nJuliet’s new story bursts to life through a playlist of pop anthems as iconic as her name\, all written by Max Martin and his collaborators\, including “Since U Been Gone\,” “Roar\,” “Baby One More Time\,” “Larger Than Life\,” “That’s The Way It Is\,” “Can’t Stop the Feeling\,” and many more.
URL:https://www.bathurstregion.com.au/event/juliet/2026-07-26/
LOCATION:Bathurst Memorial Entertainment Centre\, 105 William Street\, Bathurst\, New South Wales\, 2795\, Australia
CATEGORIES:Concert or Performance
ATTACH;FMTTYPE=image/png:https://www.bathurstregion.com.au/wp-content/uploads/2026/04/Juliet_TITLE-STACKED_RGB_use-with-Black-BG.png
ORGANIZER;CN="Bathurst Memorial Entertainment Centre":MAILTO:bmec@bathurst.nsw.gov.au
END:VEVENT
BEGIN:VEVENT
DTSTART;TZID=Australia/Sydney:20260730T193000
DTEND;TZID=Australia/Sydney:20260730T220000
DTSTAMP:20260423T075902
CREATED:20260422T062010Z
LAST-MODIFIED:20260422T062011Z
UID:10005051-1785439800-1785448800@www.bathurstregion.com.au
SUMMARY:& Juliet
DESCRIPTION:There’s life after Romeo at this larger-than-life musical by the Emmy-winning writer from Schitt’s Creek and pop music’s #1 hitmaker. \n& Juliet flips the script on the greatest love story ever told\, imagining what would happen next if Juliet hadn’t ended it all over Romeo\, and got a second chance at life and love – on her terms.\nJuliet’s new story bursts to life through a playlist of pop anthems as iconic as her name\, all written by Max Martin and his collaborators\, including “Since U Been Gone\,” “Roar\,” “Baby One More Time\,” “Larger Than Life\,” “That’s The Way It Is\,” “Can’t Stop the Feeling\,” and many more.
URL:https://www.bathurstregion.com.au/event/juliet/2026-07-30/
LOCATION:Bathurst Memorial Entertainment Centre\, 105 William Street\, Bathurst\, New South Wales\, 2795\, Australia
CATEGORIES:Concert or Performance
ATTACH;FMTTYPE=image/png:https://www.bathurstregion.com.au/wp-content/uploads/2026/04/Juliet_TITLE-STACKED_RGB_use-with-Black-BG.png
ORGANIZER;CN="Bathurst Memorial Entertainment Centre":MAILTO:bmec@bathurst.nsw.gov.au
END:VEVENT
BEGIN:VEVENT
DTSTART;TZID=Australia/Sydney:20260731T193000
DTEND;TZID=Australia/Sydney:20260731T220000
DTSTAMP:20260423T075902
CREATED:20260422T062010Z
LAST-MODIFIED:20260422T062011Z
UID:10005052-1785526200-1785535200@www.bathurstregion.com.au
SUMMARY:& Juliet
DESCRIPTION:There’s life after Romeo at this larger-than-life musical by the Emmy-winning writer from Schitt’s Creek and pop music’s #1 hitmaker. \n& Juliet flips the script on the greatest love story ever told\, imagining what would happen next if Juliet hadn’t ended it all over Romeo\, and got a second chance at life and love – on her terms.\nJuliet’s new story bursts to life through a playlist of pop anthems as iconic as her name\, all written by Max Martin and his collaborators\, including “Since U Been Gone\,” “Roar\,” “Baby One More Time\,” “Larger Than Life\,” “That’s The Way It Is\,” “Can’t Stop the Feeling\,” and many more.
URL:https://www.bathurstregion.com.au/event/juliet/2026-07-31/
LOCATION:Bathurst Memorial Entertainment Centre\, 105 William Street\, Bathurst\, New South Wales\, 2795\, Australia
CATEGORIES:Concert or Performance
ATTACH;FMTTYPE=image/png:https://www.bathurstregion.com.au/wp-content/uploads/2026/04/Juliet_TITLE-STACKED_RGB_use-with-Black-BG.png
ORGANIZER;CN="Bathurst Memorial Entertainment Centre":MAILTO:bmec@bathurst.nsw.gov.au
END:VEVENT
BEGIN:VEVENT
DTSTART;TZID=Australia/Sydney:20260801T133000
DTEND;TZID=Australia/Sydney:20260802T160000
DTSTAMP:20260423T075902
CREATED:20260422T062010Z
LAST-MODIFIED:20260422T062011Z
UID:10005053-1785591000-1785686400@www.bathurstregion.com.au
SUMMARY:& Juliet
DESCRIPTION:There’s life after Romeo at this larger-than-life musical by the Emmy-winning writer from Schitt’s Creek and pop music’s #1 hitmaker. \n& Juliet flips the script on the greatest love story ever told\, imagining what would happen next if Juliet hadn’t ended it all over Romeo\, and got a second chance at life and love – on her terms.\nJuliet’s new story bursts to life through a playlist of pop anthems as iconic as her name\, all written by Max Martin and his collaborators\, including “Since U Been Gone\,” “Roar\,” “Baby One More Time\,” “Larger Than Life\,” “That’s The Way It Is\,” “Can’t Stop the Feeling\,” and many more.
URL:https://www.bathurstregion.com.au/event/juliet/2026-08-01/1/
LOCATION:Bathurst Memorial Entertainment Centre\, 105 William Street\, Bathurst\, New South Wales\, 2795\, Australia
CATEGORIES:Concert or Performance
ATTACH;FMTTYPE=image/png:https://www.bathurstregion.com.au/wp-content/uploads/2026/04/Juliet_TITLE-STACKED_RGB_use-with-Black-BG.png
ORGANIZER;CN="Bathurst Memorial Entertainment Centre":MAILTO:bmec@bathurst.nsw.gov.au
END:VEVENT
BEGIN:VEVENT
DTSTART;TZID=Australia/Sydney:20260801T193000
DTEND;TZID=Australia/Sydney:20260801T220000
DTSTAMP:20260423T075902
CREATED:20260422T062010Z
LAST-MODIFIED:20260422T062011Z
UID:10005054-1785612600-1785621600@www.bathurstregion.com.au
SUMMARY:& Juliet
DESCRIPTION:There’s life after Romeo at this larger-than-life musical by the Emmy-winning writer from Schitt’s Creek and pop music’s #1 hitmaker. \n& Juliet flips the script on the greatest love story ever told\, imagining what would happen next if Juliet hadn’t ended it all over Romeo\, and got a second chance at life and love – on her terms.\nJuliet’s new story bursts to life through a playlist of pop anthems as iconic as her name\, all written by Max Martin and his collaborators\, including “Since U Been Gone\,” “Roar\,” “Baby One More Time\,” “Larger Than Life\,” “That’s The Way It Is\,” “Can’t Stop the Feeling\,” and many more.
URL:https://www.bathurstregion.com.au/event/juliet/2026-08-01/2/
LOCATION:Bathurst Memorial Entertainment Centre\, 105 William Street\, Bathurst\, New South Wales\, 2795\, Australia
CATEGORIES:Concert or Performance
ATTACH;FMTTYPE=image/png:https://www.bathurstregion.com.au/wp-content/uploads/2026/04/Juliet_TITLE-STACKED_RGB_use-with-Black-BG.png
ORGANIZER;CN="Bathurst Memorial Entertainment Centre":MAILTO:bmec@bathurst.nsw.gov.au
END:VEVENT
END:VCALENDAR