
BEGIN:VCALENDAR
VERSION:2.0
PRODID:-//Bathurst Region Tourism - ECPv6.15.16//NONSGML v1.0//EN
CALSCALE:GREGORIAN
METHOD:PUBLISH
X-WR-CALNAME:Bathurst Region Tourism
X-ORIGINAL-URL:https://www.bathurstregion.com.au
X-WR-CALDESC:Events for Bathurst Region Tourism
REFRESH-INTERVAL;VALUE=DURATION:PT1H
X-Robots-Tag:noindex
X-PUBLISHED-TTL:PT1H
BEGIN:VTIMEZONE
TZID:Australia/Sydney
BEGIN:STANDARD
TZOFFSETFROM:+1100
TZOFFSETTO:+1000
TZNAME:AEST
DTSTART:20250405T160000
END:STANDARD
BEGIN:DAYLIGHT
TZOFFSETFROM:+1000
TZOFFSETTO:+1100
TZNAME:AEDT
DTSTART:20251004T160000
END:DAYLIGHT
BEGIN:STANDARD
TZOFFSETFROM:+1100
TZOFFSETTO:+1000
TZNAME:AEST
DTSTART:20260404T160000
END:STANDARD
BEGIN:DAYLIGHT
TZOFFSETFROM:+1000
TZOFFSETTO:+1100
TZNAME:AEDT
DTSTART:20261003T160000
END:DAYLIGHT
BEGIN:STANDARD
TZOFFSETFROM:+1100
TZOFFSETTO:+1000
TZNAME:AEST
DTSTART:20270403T160000
END:STANDARD
BEGIN:DAYLIGHT
TZOFFSETFROM:+1000
TZOFFSETTO:+1100
TZNAME:AEDT
DTSTART:20271002T160000
END:DAYLIGHT
END:VTIMEZONE
BEGIN:VEVENT
DTSTART;TZID=Australia/Sydney:20260710T193000
DTEND;TZID=Australia/Sydney:20260710T220000
DTSTAMP:20260423T191301
CREATED:20250902T055353Z
LAST-MODIFIED:20250902T055353Z
UID:10004403-1783711800-1783720800@www.bathurstregion.com.au
SUMMARY:The Beatles Anthology
DESCRIPTION:Join us on a Magical Mystery Tour to relive the years of The Greatest Rock ’n’ Roll Band of all time. The Beatles need no introduction… THE most influential\, highest selling\, most important band in music history. \nIn this live two hour show\, we will take you down the Long and Winding Road – from the “Fab Four” days of matching suits and matching mop hair\, to the “experimental” days of Tangerine Trees\, Marmalade Skies\, and Kaleidoscope Eyes. \nIt’s all there – the costumes\, the hairstyles\, the banter\, the left-handed “Paul”. All you need is love.. and a ticket to this show!
URL:https://www.bathurstregion.com.au/event/the-beatles-anthology/
LOCATION:Bathurst Memorial Entertainment Centre\, 105 William Street\, Bathurst\, New South Wales\, 2795\, Australia
CATEGORIES:Concert or Performance
ATTACH;FMTTYPE=image/jpeg:https://www.bathurstregion.com.au/wp-content/uploads/2025/09/wYUQ7I7w.jpeg
END:VEVENT
BEGIN:VEVENT
DTSTART;TZID=Australia/Sydney:20260711T150000
DTEND;TZID=Australia/Sydney:20260711T160000
DTSTAMP:20260423T191301
CREATED:20260128T234212Z
LAST-MODIFIED:20260128T234212Z
UID:10004902-1783782000-1783785600@www.bathurstregion.com.au
SUMMARY:Trash Test Dummies
DESCRIPTION:Winners of the best Children’s presentation at the Adelaide Fringe Festival 2015 and 2016\, and runners up for Children’s Choice Award Edinburgh Fringe Festival 2016\, the Trash Test Dummies are as full of laughs as their bins are full of surprises. \nThis “delightfully intelligent\, highly entertaining” (Herald Sun) family adventure takes the humble household wheelie bin to new heights. \nEveryone put your bins out\, tonight’s bin night and the Trash Test Dummies are on duty. With side-splitting slapstick comedy\, daring acrobatics and dexterous juggling these Dummies are off on an imaginative adventure that is anything but garbage. With ballet and balloons thrown in for good measure\, this fast-paced hour of “adept unadulterated mischief” (The Times) delivers a dump truck full of hilarity! \nDummies Corp are the Australian leaders in circus-comedy\, recognised globally for creations of quality that are intelligent\, theatrical and inventive. Founded by Jamie Bretman\, and Jack Coleman the company features a team of world-class circus artists who can trash talk with the best of them. Since 2012 they have delighted audiences insixteen countries including Scotland\, China\, Hong Kong\, England\, Ireland\, USA and across Australia\, and continue to create treasured experiences for families around the world.
URL:https://www.bathurstregion.com.au/event/trash-test-dummies/
LOCATION:Bathurst Memorial Entertainment Centre\, 105 William Street\, Bathurst\, New South Wales\, 2795\, Australia
CATEGORIES:Concert or Performance
ATTACH;FMTTYPE=image/jpeg:https://www.bathurstregion.com.au/wp-content/uploads/2026/01/TRASH-TEST-DUMMIES_LANDSCAPCE_CIRCUS-TITLE_1920x1080.jpg
ORGANIZER;CN="Bathurst Memorial Entertainment Centre":MAILTO:bmec@bathurst.nsw.gov.au
END:VEVENT
END:VCALENDAR