
BEGIN:VCALENDAR
VERSION:2.0
PRODID:-//Bathurst Region Tourism - ECPv6.15.16//NONSGML v1.0//EN
CALSCALE:GREGORIAN
METHOD:PUBLISH
X-ORIGINAL-URL:https://www.bathurstregion.com.au
X-WR-CALDESC:Events for Bathurst Region Tourism
REFRESH-INTERVAL;VALUE=DURATION:PT1H
X-Robots-Tag:noindex
X-PUBLISHED-TTL:PT1H
BEGIN:VTIMEZONE
TZID:Australia/Sydney
BEGIN:STANDARD
TZOFFSETFROM:+1100
TZOFFSETTO:+1000
TZNAME:AEST
DTSTART:20250405T160000
END:STANDARD
BEGIN:DAYLIGHT
TZOFFSETFROM:+1000
TZOFFSETTO:+1100
TZNAME:AEDT
DTSTART:20251004T160000
END:DAYLIGHT
BEGIN:STANDARD
TZOFFSETFROM:+1100
TZOFFSETTO:+1000
TZNAME:AEST
DTSTART:20260404T160000
END:STANDARD
BEGIN:DAYLIGHT
TZOFFSETFROM:+1000
TZOFFSETTO:+1100
TZNAME:AEDT
DTSTART:20261003T160000
END:DAYLIGHT
BEGIN:STANDARD
TZOFFSETFROM:+1100
TZOFFSETTO:+1000
TZNAME:AEST
DTSTART:20270403T160000
END:STANDARD
BEGIN:DAYLIGHT
TZOFFSETFROM:+1000
TZOFFSETTO:+1100
TZNAME:AEDT
DTSTART:20271002T160000
END:DAYLIGHT
END:VTIMEZONE
BEGIN:VEVENT
DTSTART;TZID=Australia/Sydney:20260529T200000
DTEND;TZID=Australia/Sydney:20260529T213000
DTSTAMP:20260422T121000
CREATED:20251111T034553Z
LAST-MODIFIED:20251111T034555Z
UID:10004769-1780084800-1780090200@www.bathurstregion.com.au
SUMMARY:Nurse Georgie Carroll – Infectious
DESCRIPTION:“Really Funny… Just Brilliant.’’ – Simon Cowell\n\nAs seen on Britain’s Got Talent\, winner of ‘Best Comedy Show’ at the Adelaide Fringe Festival and following a sold-out UK\, New Zealand\, and Australian tour in 2024\, don’t miss Nurse Georgie Carroll this March! Georgie has seen it all and is bringing her hilarious award-winning stand-up to Tamworth for one night only. You’ll laugh\, you’ll gasp\, you’ll cry\, it might even hurt\, but it will make you better. She should have been a midwife as she always delivers!\n\n★★★★★ “Exceptional” Mervyn Stutters Pick of The Fringe\n★★★★★”Nurse Georgie Carroll proves that laughter is the best medicine & you cannot miss your dose!” Lost in Theatre Land UK\n★★★★★ ”Sublime comedy” Glam Adelaide\n★★★★★ “Rollicking\, riotous comedy” The Age\n\nMore information visit georgiecarroll.com or alist.com.au\nEvent Notes: Suitable for ages 15+
URL:https://www.bathurstregion.com.au/event/nurse-georgie-carroll-infectious/
LOCATION:Bathurst Memorial Entertainment Centre\, 105 William Street\, Bathurst\, New South Wales\, 2795\, Australia
CATEGORIES:Concert or Performance
ATTACH;FMTTYPE=image/jpeg:https://www.bathurstregion.com.au/wp-content/uploads/2025/11/GeorgieCarroll_Infectious_700x700.jpg
ORGANIZER;CN="Bathurst Memorial Entertainment Centre":MAILTO:bmec@bathurst.nsw.gov.au
END:VEVENT
BEGIN:VEVENT
DTSTART;TZID=Australia/Sydney:20260531T130000
DTEND;TZID=Australia/Sydney:20260531T154500
DTSTAMP:20260422T121000
CREATED:20260224T005820Z
LAST-MODIFIED:20260224T005820Z
UID:10004959-1780232400-1780242300@www.bathurstregion.com.au
SUMMARY:BMEC ON-SCREEN Othello National Theatre Live
DESCRIPTION:Shakespeare’s OTHELLO rages to life like never before in a ‘compelling’ (★★★★ Telegraph) new production starring David Harewood OBE (Homeland\, Best of Enemies)\, Toby Jones OBE (Mr Bates vs the Post Office\, Detectorists)\, Caitlin FitzGerald (Succession\, Masters of Sex)\, Vinette Robinson (Boiling Point) and Luke Treadaway (A Street Cat Named Bob). \nDirected by Tony Award-winner Tom Morris OBE (War Horse\, Dr Semmelweis\, The Grinning Man) with music by PJ Harvey\, this epic story of manipulation\, jealousy and toxic masculinity explores the darker side of power\, rage and desire. \nFilmed live at the Theatre Royal Haymarket in London especially for the big screen\, this is ‘an electrifying star-studded Othello.’ (★★★★ Mail on Sunday)
URL:https://www.bathurstregion.com.au/event/bmec-on-screen-othello-national-theatre-live/
LOCATION:Bathurst Memorial Entertainment Centre\, 105 William Street\, Bathurst\, New South Wales\, 2795\, Australia
CATEGORIES:Concert or Performance
ATTACH;FMTTYPE=image/jpeg:https://www.bathurstregion.com.au/wp-content/uploads/2026/02/Othello-16x9-main-image.jpg
ORGANIZER;CN="Bathurst Memorial Entertainment Centre":MAILTO:bmec@bathurst.nsw.gov.au
END:VEVENT
END:VCALENDAR