
BEGIN:VCALENDAR
VERSION:2.0
PRODID:-//Bathurst Region Tourism - ECPv6.15.16//NONSGML v1.0//EN
CALSCALE:GREGORIAN
METHOD:PUBLISH
X-WR-CALNAME:Bathurst Region Tourism
X-ORIGINAL-URL:https://www.bathurstregion.com.au
X-WR-CALDESC:Events for Bathurst Region Tourism
REFRESH-INTERVAL;VALUE=DURATION:PT1H
X-Robots-Tag:noindex
X-PUBLISHED-TTL:PT1H
BEGIN:VTIMEZONE
TZID:Australia/Sydney
BEGIN:STANDARD
TZOFFSETFROM:+1100
TZOFFSETTO:+1000
TZNAME:AEST
DTSTART:20250405T160000
END:STANDARD
BEGIN:DAYLIGHT
TZOFFSETFROM:+1000
TZOFFSETTO:+1100
TZNAME:AEDT
DTSTART:20251004T160000
END:DAYLIGHT
BEGIN:STANDARD
TZOFFSETFROM:+1100
TZOFFSETTO:+1000
TZNAME:AEST
DTSTART:20260404T160000
END:STANDARD
BEGIN:DAYLIGHT
TZOFFSETFROM:+1000
TZOFFSETTO:+1100
TZNAME:AEDT
DTSTART:20261003T160000
END:DAYLIGHT
BEGIN:STANDARD
TZOFFSETFROM:+1100
TZOFFSETTO:+1000
TZNAME:AEST
DTSTART:20270403T160000
END:STANDARD
BEGIN:DAYLIGHT
TZOFFSETFROM:+1000
TZOFFSETTO:+1100
TZNAME:AEDT
DTSTART:20271002T160000
END:DAYLIGHT
END:VTIMEZONE
BEGIN:VEVENT
DTSTART;TZID=Australia/Sydney:20260517T103000
DTEND;TZID=Australia/Sydney:20260517T143000
DTSTAMP:20260422T120611
CREATED:20221026T003343Z
LAST-MODIFIED:20251003T015433Z
UID:10003886-1779013800-1779028200@www.bathurstregion.com.au
SUMMARY:Bathurst Miniature Railway
DESCRIPTION:Pack a picnic lunch and take the kids down to the miniature railway to enjoy a few rides on working scale model trains\, just across the road from the Adventure Playground. Covered shoes must be worn. Trains run the 3rd Sunday of the month\, weather permitting.
URL:https://www.bathurstregion.com.au/event/bathurst-miniature-railway/2026-05-17/
LOCATION:John Matthews Sporting Complex\, Durham Street\, Bathurst\, New South Wales\, 2795\, Australia
CATEGORIES:Community Event,History and Heritage
ATTACH;FMTTYPE=image/jpeg:https://www.bathurstregion.com.au/wp-content/uploads/2022/10/Minature-railway2-1.jpg
ORGANIZER;CN="Bathurst Miniature Railway Society":MAILTO:bxminirail@gmail.com
END:VEVENT
BEGIN:VEVENT
DTSTART;TZID=Australia/Sydney:20260517T110000
DTEND;TZID=Australia/Sydney:20260517T133000
DTSTAMP:20260422T120611
CREATED:20260421T053326Z
LAST-MODIFIED:20260421T053327Z
UID:10005040-1779015600-1779024600@www.bathurstregion.com.au
SUMMARY:Big Band Blast Bandemonium
DESCRIPTION:The Ultimate Weekend of Big Band Music Returns!\nGet ready for another unforgettable weekend as the Big Band Blast Festival swings back into Bathurst!\nExperience the energy\, talent\, and rhythm of Australia’s finest young musicians in a celebration of big band\nmusic like no other.\n\nBandemonium – Student Showcase\nThe Big Band Blast Festival concludes with an electrifying showcase featuring 15 talented high school big bands from across the region and beyond. With performances happening simultaneously across 4 stages\, you’ll have the freedom to explore and enjoy the incredible variety of sounds throughout the day. Move from stage to stage at your own pace and immerse yourself in the energy\, skill\, and passion of Australia’s next generation of jazz musicians. It’s a dynamic\, festival-style experience where every performance brings something special—don’t miss this chance to catch all the action!\n\nAbout Big Band Blast\nNow in its 12th year\, Big Band Blast continues to provide outstanding educational and performance opportunities for high school big bands from across Australia. Proudly supported by The Mitchell Conservatorium of Music and Festivals Australia\, this event celebrates creativity\, collaboration\, and community spirit—right here in Bathurst.\n\nDon’t Miss Out!\nJoin the fun\, feel the rhythm\, and be part of the excitement that makes Big Band Blast a highlight of the Bathurst cultural calendar. Book your tickets now and secure your seat for an incredible weekend of big band brilliance!
URL:https://www.bathurstregion.com.au/event/big-band-blast-bandemonium/
LOCATION:Bathurst Memorial Entertainment Centre\, 105 William Street\, Bathurst\, New South Wales\, 2795\, Australia
CATEGORIES:Concert or Performance
ATTACH;FMTTYPE=image/jpeg:https://www.bathurstregion.com.au/wp-content/uploads/2026/04/Picture1-1-1-scaled.jpg
ORGANIZER;CN="Bathurst Memorial Entertainment Centre":MAILTO:bmec@bathurst.nsw.gov.au
END:VEVENT
END:VCALENDAR