
BEGIN:VCALENDAR
VERSION:2.0
PRODID:-//Bathurst Region Tourism - ECPv6.15.16//NONSGML v1.0//EN
CALSCALE:GREGORIAN
METHOD:PUBLISH
X-ORIGINAL-URL:https://www.bathurstregion.com.au
X-WR-CALDESC:Events for Bathurst Region Tourism
REFRESH-INTERVAL;VALUE=DURATION:PT1H
X-Robots-Tag:noindex
X-PUBLISHED-TTL:PT1H
BEGIN:VTIMEZONE
TZID:Australia/Sydney
BEGIN:STANDARD
TZOFFSETFROM:+1100
TZOFFSETTO:+1000
TZNAME:AEST
DTSTART:20250405T160000
END:STANDARD
BEGIN:DAYLIGHT
TZOFFSETFROM:+1000
TZOFFSETTO:+1100
TZNAME:AEDT
DTSTART:20251004T160000
END:DAYLIGHT
BEGIN:STANDARD
TZOFFSETFROM:+1100
TZOFFSETTO:+1000
TZNAME:AEST
DTSTART:20260404T160000
END:STANDARD
BEGIN:DAYLIGHT
TZOFFSETFROM:+1000
TZOFFSETTO:+1100
TZNAME:AEDT
DTSTART:20261003T160000
END:DAYLIGHT
BEGIN:STANDARD
TZOFFSETFROM:+1100
TZOFFSETTO:+1000
TZNAME:AEST
DTSTART:20270403T160000
END:STANDARD
BEGIN:DAYLIGHT
TZOFFSETFROM:+1000
TZOFFSETTO:+1100
TZNAME:AEDT
DTSTART:20271002T160000
END:DAYLIGHT
END:VTIMEZONE
BEGIN:VEVENT
DTSTART;TZID=Australia/Sydney:20260206T193000
DTEND;TZID=Australia/Sydney:20260206T220000
DTSTAMP:20260420T045429
CREATED:20250605T022424Z
LAST-MODIFIED:20250605T022424Z
UID:10004248-1770406200-1770415200@www.bathurstregion.com.au
SUMMARY:The Traveling Wilburys Collection
DESCRIPTION:Harrison. Petty. Orbison. Dylan. Lynne\nThe Traveling Wilburys \nThere’s never been a group\, let alone a supergroup\, in rock history quite like it 4 years\, 2 mega albums\, a slew of hits\, and a Grammy But the one thing they never did was tour. That is.. until now.. \nThe Traveling Wilburys Collection bring together the collective talents\, excitement\, and magic that the original had to offer. Live. On stage. Like never before. Featuring all the hits of the Traveling Wilburys PLUS the classics from each individual artist – Harrison\, The Beatles\, Petty\, The Heartbreakers\, Lynne\, ELO\, Orbison\, and Dylan. \nJoin us for a night of fun\, nostalgia\, and unforgettable hits.
URL:https://www.bathurstregion.com.au/event/the-traveling-wilburys-collection/
LOCATION:Bathurst Memorial Entertainment Centre\, 105 William Street\, Bathurst\, New South Wales\, 2795\, Australia
CATEGORIES:Concert or Performance
ATTACH;FMTTYPE=image/png:https://www.bathurstregion.com.au/wp-content/uploads/2025/06/Screenshot-2025-06-05-120824.png
ORGANIZER;CN="Bathurst Memorial Entertainment Centre":MAILTO:bmec@bathurst.nsw.gov.au
END:VEVENT
BEGIN:VEVENT
DTSTART;TZID=Australia/Sydney:20260206T200000
DTEND;TZID=Australia/Sydney:20260206T200000
DTSTAMP:20260420T045429
CREATED:20251118T024545Z
LAST-MODIFIED:20251118T024610Z
UID:10004695-1770408000-1770408000@www.bathurstregion.com.au
SUMMARY:Hillybilly Goats Show and Luke O'Sea
DESCRIPTION:Hillbilly Goats – Live & Unleashed! Get ready for a foot-stompin’\, banjo-strummin’\, washboard-scrubbin’ good time with the Hillbilly Goats! This high-energy Aussie band is famous for their wild fusion of mountain-style folk\, bluegrass\, and old-timey Appalachian tunes. With costumes straight out of the holler and harmonies that’ll raise the barn roof\, they’re not just a band—they’re a full-blown hoedown!Expect infectious rhythms\, quirky storytelling\, and a whole lot of goat-fueled fun. Whether you’re a die-hard fan or just curious to see what all the bleatin’ is about\, this is one show you won’t want to miss. Bring your dancing boots and your best yee-haw! \n\n\n\nLuke O’Shea is a powerhouse of Australian music — a born entertainer with songs that hit straight to the heart. With 17 Golden Guitars\, including Male Artist of the Year and two Independent Artist of the Year awards\, Luke stands among the most celebrated and authentic voices in Australian country and roots music. \n\n\n\nIn 2025\, he was honoured with the prestigious Galaxy of the Stars Award\, recognising his outstanding contribution to Australian songwriting and performance. And it’s no surprise — Luke’s live shows are electric. Blending foot-stomping energy\, heartfelt storytelling\, and down-to-earth humour\, he creates a connection that few artists can match. \n\n\n\nFrom rousing anthems that celebrate the Aussie spirit to intimate ballads that stir the soul\, Luke’s performances take audiences on an unforgettable ride. His charisma\, passion\, and musicianship light up every stage\, from big outdoor events to intimate listening rooms. \n\n\n\nA Luke O’Shea show is more than music — it’s a celebration of life\, laughter\, and the stories that shape us. Authentic\, engaging\, and endlessly entertaining\, Luke delivers every time. Book Luke O’Shea and give your audience a night of world-class Australian songwriting\, powerful storytelling\, and unforgettable energy. 
URL:https://www.bathurstregion.com.au/event/hillybilly-goats-show-and-luke-osea/
LOCATION:KeyStone 1889\, 99 Keppel St\, Bathurst\, 2795
CATEGORIES:Concert or Performance
ATTACH;FMTTYPE=image/jpeg:https://www.bathurstregion.com.au/wp-content/uploads/2025/11/580477536_1174728897968320_3602632229291061817_n.jpg
ORGANIZER;CN="KeyStone 1889":MAILTO:trish@keystone1889.com
END:VEVENT
BEGIN:VEVENT
DTSTART;TZID=Australia/Sydney:20260206T200000
DTEND;TZID=Australia/Sydney:20260206T220000
DTSTAMP:20260420T045429
CREATED:20260128T234305Z
LAST-MODIFIED:20260128T234305Z
UID:10004851-1770408000-1770415200@www.bathurstregion.com.au
SUMMARY:Hillbilly Goats
DESCRIPTION:YEEHAW! Them Hillbilly Goats are hitchin’ up the wagon and rollin’ into town! \n​These here Goats ain’t no backyard pickers – they’re the 2022 Folk Band of the Year\, 2020 Golden Fiddle winners\, and multi-time Golden Guitar finalists.\n​\nExpect tales of moonshine\, mischief\, and mountain mayhem – all wrapped up in harmonies sweeter than grandma’s peach cobbler and rhythms that’ll make yer boots dance on their own.\n​\nThe Goats don’t just play music – they throw a dang hillbilly party! So grab yer hat\, wrangle up the young’uns\, and git ready to get goatified!
URL:https://www.bathurstregion.com.au/event/hillbilly-goats/
LOCATION:KeyStone 1889\, 99 Keppel St\, Bathurst\, 2795
CATEGORIES:Concert or Performance,History and Heritage
ATTACH;FMTTYPE=image/png:https://www.bathurstregion.com.au/wp-content/uploads/2026/01/image3.png
ORGANIZER;CN="KeyStone 1889":MAILTO:trish@keystone1889.com
END:VEVENT
BEGIN:VEVENT
DTSTART;TZID=Australia/Sydney:20260207T080000
DTEND;TZID=Australia/Sydney:20260208T170000
DTSTAMP:20260420T045429
CREATED:20221106T045343Z
LAST-MODIFIED:20251125T004235Z
UID:10003895-1770451200-1770570000@www.bathurstregion.com.au
SUMMARY:Proctor Park Challenge - Girls Youth Football Tournament
DESCRIPTION:The Proctor Park Challenge is for teams in Under 12 Girls and Under 14/15/16 Girls from Girls Youth League\, Association Representative\, Association Club Teams to play shortened games over a weekend to provide pre-season games in an enjoyable and competitive environment
URL:https://www.bathurstregion.com.au/event/proctor-park-challenge/
LOCATION:Proctor Park\, Gormans Hill Road\, Bathurst\, NSW\, 2795\, Australia
CATEGORIES:Sporting Events
ATTACH;FMTTYPE=image/jpeg:https://www.bathurstregion.com.au/wp-content/uploads/2024/09/Bathurst-FNSW-Lock-Up-300x158-1-1.jpeg
ORGANIZER;CN="Bathurst District Football Inc":MAILTO:Secretary@bathurstfootball.net
END:VEVENT
BEGIN:VEVENT
DTSTART;TZID=Australia/Sydney:20260207T193000
DTEND;TZID=Australia/Sydney:20260207T213000
DTSTAMP:20260420T045429
CREATED:20251020T010714Z
LAST-MODIFIED:20251020T010716Z
UID:10004141-1770492600-1770499800@www.bathurstregion.com.au
SUMMARY:Julie Goodwin ‘Your Time Starts Now’ Tour
DESCRIPTION:Australia’s beloved home cook\, media personality and best-selling author Julie Goodwin is hitting the road in 2026 with her first-ever national live tour.\n\nThis two-hour live show is part cooking demonstration\, part heart-to-heart chat\, and 100% Julie.\n\nCo-hosted by her longtime friend and award-winning broadcaster\, David Rabbetts (Rabbit). With their undeniable chemistry honed over years co-hosting breakfast radio together\, the show promises laughs\, tears\, and a whole lot of heart.\n\nWhether you’re a die-hard MasterChef fan or someone who’s followed Julie throughout her career\, this is an unmissable evening of food\, friendship and fierce honesty.\n\n Your Time Starts Now is not just a cooking demonstration – it’s an invitation into Julie’s world. A space where food and storytelling collide\, where vulnerability is strength\, and where laughter and tears often sit at the same table:\n\n* A live 2 hour theatre experience like no other – warm\, candid\, and laugh-out-loud funny\n\n* Julie cooking on stage\, sharing stories\, techniques and recipes\n\n* Honest reflections on her extraordinary life: from overnight fame on MasterChef to the very real mental health struggles that followed\n\n* Readings from her 2024 memoir ‘Your Time Starts Now’\n\n* Conversations with “Rabbit” that are equal parts hilarious and deeply moving\n\n* Audience Q&A and interaction that makes the event feel like dinner at your best mate’s place – just with a few extra guests.
URL:https://www.bathurstregion.com.au/event/julie-goodwin-your-time-starts-now-tour/
LOCATION:Bathurst Memorial Entertainment Centre\, 105 William Street\, Bathurst\, New South Wales\, 2795\, Australia
CATEGORIES:Concert or Performance
ATTACH;FMTTYPE=image/jpeg:https://www.bathurstregion.com.au/wp-content/uploads/2025/10/JG-2026-YTSN-Tour_digital_BATHURST_venue-display.jpg
ORGANIZER;CN="Bathurst Memorial Entertainment Centre":MAILTO:bmec@bathurst.nsw.gov.au
END:VEVENT
BEGIN:VEVENT
DTSTART;TZID=Australia/Sydney:20260208T103000
DTEND;TZID=Australia/Sydney:20260208T123000
DTSTAMP:20260420T045429
CREATED:20260128T234244Z
LAST-MODIFIED:20260128T234244Z
UID:10004865-1770546600-1770553800@www.bathurstregion.com.au
SUMMARY:Workshop // Connections! Printmaking with Georgina Evans
DESCRIPTION:Workshop // Connections! Printmaking with Georgina Evans\nSunday 8 February\, 10:30am-12:30pm \n$10 members\, $15 non-members\, all ages\, no experience required\, Bookings essential \nJoin Georgina Evans\, a We Are Studios artist\, for a relaxed\, interactive printmaking workshop at Bathurst Regional Art Gallery. Connections! invites participants to slow down\, tune into the natural world\, and translate personal experiences of nature into bold\, graphic prints. \nUsing accessible foam board printmaking techniques\, Georgina will guide you through designing\, inking and printing your own unique artwork. No prior experience is needed – just curiosity\, creativity\, and a willingness to explore how you view and feel the environment around you. \nThis workshop is supported by We Are Studios. \nAbout the Artist\nGeorgina Evans is a multi-modal artist\, with an integrated approach to weaving\, textiles\, painting and drawing.  A keen observer\, Georgina expresses what she sees and also what she feels\, physically and emotionally through her work. \nShe is influenced by the natural environment and her love of transformation within nature. Through experimental techniques such as eco dying\, reusing and recycling\, Georgina reinterprets her materials\, giving them new life. \nWorking collaboratively as a community based artist\, Georgina shares her creative process within spaces of safety and belonging\, where people can connect through making art together. Georgina is an artist at We Are Studios. \nAbout the Exhibition\nWe Are Studios: Acts of Inheritance\nActs of Inheritance presents new work from seventeen Disabled artists who explore identity as something lived\, layered and continually remade. We come to know ourselves through small\, everyday acts and performances – our own and those of others\, families\, cultures and communities as they leave their mark upon us. \nSome artists revisit family stories or inherited acts; others reflect on Disability\, mental health\, and shifting perceptions of self and how we perform it. Here\, inheritance is not fixed or predetermined\, but enacted through the choices we make\, the stories we tell and the ways we show up for one another. \nThrough these works\, Acts of Inheritance invites us to imagine identity as something performed in ongoing dialogue between who we have been\, who we are becoming and the worlds that shape us. \nWe Are Studios is a 100% Disability-led\, artist-run initiative empowering Disabled Western Sydney artists to thrive. \nArtists: Aili Brenton\, Virginia Bucknell\, Ria Cirera-Cruz\, Taylah Devlin\, Holly-lee Dickson\, Georgina Evans\, Nina Frankie\, Leanne Larwood\, Timothy W. Martin\, Grazia Napoletano\, Adrienne Proud\, Rebecca Sciroli\, Kiri Smith\, Jane Thatcher\, Miah Tito-Barratt\, Jordan Valageorgiou\, Eden Young. \nCurated by We Are Studios Collective. \nThe project is supported by the New South Wales Government through Create NSW and by the Australian Government through Creative Australia\, its principal arts investment and advisory body. \nBanner image courtesy Georgina Evans and We Are Studios.
URL:https://www.bathurstregion.com.au/event/workshop-connections-printmaking-with-georgina-evans/
LOCATION:Bathurst Regional Art Gallery\, 70-78 Keppel Street\, Bathurst\, 2795
CATEGORIES:Classes, Lessons, Workshops and Talks
ATTACH;FMTTYPE=image/png:https://www.bathurstregion.com.au/wp-content/uploads/2026/01/GeorginaEvansWorkshopImage1.png
ORGANIZER;CN="Bathurst Regional Art Gallery":MAILTO:brag@bathurst.nsw.gov.au
END:VEVENT
BEGIN:VEVENT
DTSTART;TZID=Australia/Sydney:20260208T180000
DTEND;TZID=Australia/Sydney:20260208T210000
DTSTAMP:20260420T045429
CREATED:20251118T005022Z
LAST-MODIFIED:20260115T003305Z
UID:10004671-1770573600-1770584400@www.bathurstregion.com.au
SUMMARY:Ella Hooper - Live in Little Alberts
DESCRIPTION:Ella Hooper is hitting the road this summer bringing a sharp\, heartfelt edge to her ever-evolving take on Americana. \n\n\n\nDoors – 6pm (kitchen and bar open) \n\n\n\nElla Hooper 7.30pm \n\n\n\nElla Hooper – Summer Tour \n\n\n\nElla Hooper is hitting the road this summer bringing a sharp\, heartfelt edge to her ever-evolving take on Americana. Ella’s gift for story-telling and humour shines as she fronts a dynamic band\, laced with fiddle\, slide guitar\, warm group harmonies and more than a little grit. \n\n\n\nPlaying some favourites from Small Town Temple the album that debuted at No.1 on the Australian Country chart\, Ella will also be sharing a sneak peek of new music recorded in Nashville in 2025. \n\n\n\nThere are bar room stompers\, spectral ballads with a contemporary edge\, and hooks sharp enough to draw blood. \n\n\n\nCall it Americana\, call it alt-country\, call it what you like. Hooper puts it this way: “Can you really ‘go country’ if you’re from the country in the first place?” \n\n\n\nPurchase your tickets here.
URL:https://www.bathurstregion.com.au/event/ella-hooper-live-in-little-alberts/
LOCATION:Little Alberts @ The Victoria Bathurst\, 3 Keppel Street\, Bathurst\, NSW\, 2795
CATEGORIES:Concert or Performance
ATTACH;FMTTYPE=image/png:https://www.bathurstregion.com.au/wp-content/uploads/2025/11/image-6.png
END:VEVENT
END:VCALENDAR