
BEGIN:VCALENDAR
VERSION:2.0
PRODID:-//Bathurst Region Tourism - ECPv6.15.16//NONSGML v1.0//EN
CALSCALE:GREGORIAN
METHOD:PUBLISH
X-WR-CALNAME:Bathurst Region Tourism
X-ORIGINAL-URL:https://www.bathurstregion.com.au
X-WR-CALDESC:Events for Bathurst Region Tourism
REFRESH-INTERVAL;VALUE=DURATION:PT1H
X-Robots-Tag:noindex
X-PUBLISHED-TTL:PT1H
BEGIN:VTIMEZONE
TZID:Australia/Sydney
BEGIN:STANDARD
TZOFFSETFROM:+1100
TZOFFSETTO:+1000
TZNAME:AEST
DTSTART:20240406T160000
END:STANDARD
BEGIN:DAYLIGHT
TZOFFSETFROM:+1000
TZOFFSETTO:+1100
TZNAME:AEDT
DTSTART:20241005T160000
END:DAYLIGHT
BEGIN:STANDARD
TZOFFSETFROM:+1100
TZOFFSETTO:+1000
TZNAME:AEST
DTSTART:20250405T160000
END:STANDARD
BEGIN:DAYLIGHT
TZOFFSETFROM:+1000
TZOFFSETTO:+1100
TZNAME:AEDT
DTSTART:20251004T160000
END:DAYLIGHT
BEGIN:STANDARD
TZOFFSETFROM:+1100
TZOFFSETTO:+1000
TZNAME:AEST
DTSTART:20260404T160000
END:STANDARD
BEGIN:DAYLIGHT
TZOFFSETFROM:+1000
TZOFFSETTO:+1100
TZNAME:AEDT
DTSTART:20261003T160000
END:DAYLIGHT
END:VTIMEZONE
BEGIN:VEVENT
DTSTART;TZID=Australia/Sydney:20251110T123000
DTEND;TZID=Australia/Sydney:20251110T134500
DTSTAMP:20260426T024059
CREATED:20250902T055353Z
LAST-MODIFIED:20250902T055353Z
UID:10004328-1762777800-1762782300@www.bathurstregion.com.au
SUMMARY:Blayney Public School Presents Childhood Favourites
DESCRIPTION:Blayney Public School students present their performance\n“Childhood Favourites“. \nEach class from K-6 will perform a musical number from a favourite childhood movie. \nWe look forward to seeing you at BMEC! \nThe audience can purchase tickets to attend the dress rehearsal at 10:15am\, or the performance at 12:30pm.
URL:https://www.bathurstregion.com.au/event/blayney-public-school-presents-childhood-favourites/2025-11-10/
LOCATION:Bathurst Memorial Entertainment Centre\, 105 William Street\, Bathurst\, New South Wales\, 2795\, Australia
CATEGORIES:Concert or Performance
ATTACH;FMTTYPE=image/png:https://www.bathurstregion.com.au/wp-content/uploads/2025/09/BHSCrest_PNG-red-Blayney.png
ORGANIZER;CN="Bathurst Memorial Entertainment Centre":MAILTO:bmec@bathurst.nsw.gov.au
END:VEVENT
BEGIN:VEVENT
DTSTART;TZID=Australia/Sydney:20251111T123000
DTEND;TZID=Australia/Sydney:20251111T134500
DTSTAMP:20260426T024059
CREATED:20250902T055353Z
LAST-MODIFIED:20250902T055353Z
UID:10004329-1762864200-1762868700@www.bathurstregion.com.au
SUMMARY:Blayney Public School Presents Childhood Favourites
DESCRIPTION:Blayney Public School students present their performance\n“Childhood Favourites“. \nEach class from K-6 will perform a musical number from a favourite childhood movie. \nWe look forward to seeing you at BMEC! \nThe audience can purchase tickets to attend the dress rehearsal at 10:15am\, or the performance at 12:30pm.
URL:https://www.bathurstregion.com.au/event/blayney-public-school-presents-childhood-favourites/2025-11-11/
LOCATION:Bathurst Memorial Entertainment Centre\, 105 William Street\, Bathurst\, New South Wales\, 2795\, Australia
CATEGORIES:Concert or Performance
ATTACH;FMTTYPE=image/png:https://www.bathurstregion.com.au/wp-content/uploads/2025/09/BHSCrest_PNG-red-Blayney.png
ORGANIZER;CN="Bathurst Memorial Entertainment Centre":MAILTO:bmec@bathurst.nsw.gov.au
END:VEVENT
BEGIN:VEVENT
DTSTART;TZID=Australia/Sydney:20251112T123000
DTEND;TZID=Australia/Sydney:20251112T134500
DTSTAMP:20260426T024059
CREATED:20250902T055353Z
LAST-MODIFIED:20250902T055353Z
UID:10004330-1762950600-1762955100@www.bathurstregion.com.au
SUMMARY:Blayney Public School Presents Childhood Favourites
DESCRIPTION:Blayney Public School students present their performance\n“Childhood Favourites“. \nEach class from K-6 will perform a musical number from a favourite childhood movie. \nWe look forward to seeing you at BMEC! \nThe audience can purchase tickets to attend the dress rehearsal at 10:15am\, or the performance at 12:30pm.
URL:https://www.bathurstregion.com.au/event/blayney-public-school-presents-childhood-favourites/2025-11-12/
LOCATION:Bathurst Memorial Entertainment Centre\, 105 William Street\, Bathurst\, New South Wales\, 2795\, Australia
CATEGORIES:Concert or Performance
ATTACH;FMTTYPE=image/png:https://www.bathurstregion.com.au/wp-content/uploads/2025/09/BHSCrest_PNG-red-Blayney.png
ORGANIZER;CN="Bathurst Memorial Entertainment Centre":MAILTO:bmec@bathurst.nsw.gov.au
END:VEVENT
BEGIN:VEVENT
DTSTART;TZID=Australia/Sydney:20251112T180000
DTEND;TZID=Australia/Sydney:20251112T190000
DTSTAMP:20260426T024059
CREATED:20251021T012411Z
LAST-MODIFIED:20251022T053054Z
UID:10004145-1762970400-1762974000@www.bathurstregion.com.au
SUMMARY:Launch of MILLTOWN film at Chifley Home
DESCRIPTION:Arts OutWest and Museums Bathurst invite you to the launch of MILLTOWN\, a new living history film work that celebrates the people of Milltown\, their connection to place and communities of the past\, through the lens of the present. \nLight refreshments will be provided. RSVP by Friday 7 November to museums@bathurst.nsw.gov.au or 0437 725 585.
URL:https://www.bathurstregion.com.au/event/launch-of-milltown-film-at-chifley-home/
LOCATION:Bathurst Rail Museum\, 126 Havannah Street\, Bathurst\, 2795\, Australia
CATEGORIES:Community Event,Exhibition and Shows
ATTACH;FMTTYPE=image/png:https://www.bathurstregion.com.au/wp-content/uploads/2025/10/film-launch.png
END:VEVENT
BEGIN:VEVENT
DTSTART;TZID=Australia/Sydney:20251112T190000
DTEND;TZID=Australia/Sydney:20251112T210000
DTSTAMP:20260426T024059
CREATED:20240626T230810Z
LAST-MODIFIED:20250527T033008Z
UID:10003767-1762974000-1762981200@www.bathurstregion.com.au
SUMMARY:Musical Bingo @ The Family Hotel
DESCRIPTION:This one is for the music lovers! Rock into the #FamBams for Musical Trivia every Wednesday from 7pm! Entry is free and you’ll have the chance to win prizes whilst bopping along to tunes over the ages! \nWednesday night is $20 schnitty night!
URL:https://www.bathurstregion.com.au/event/musical-bingo-3/2025-11-12/
LOCATION:Family Hotel\, Cnr Russell & Bentinck Street\, Bathurst\, 2795\, Australia
CATEGORIES:Community Event
ATTACH;FMTTYPE=image/jpeg:https://www.bathurstregion.com.au/wp-content/uploads/2024/06/441867269_10229488857879453_8006742019411922238_n-1.jpg
END:VEVENT
BEGIN:VEVENT
DTSTART;TZID=Australia/Sydney:20251113T123000
DTEND;TZID=Australia/Sydney:20251113T134500
DTSTAMP:20260426T024059
CREATED:20250902T055353Z
LAST-MODIFIED:20250902T055353Z
UID:10004331-1763037000-1763041500@www.bathurstregion.com.au
SUMMARY:Blayney Public School Presents Childhood Favourites
DESCRIPTION:Blayney Public School students present their performance\n“Childhood Favourites“. \nEach class from K-6 will perform a musical number from a favourite childhood movie. \nWe look forward to seeing you at BMEC! \nThe audience can purchase tickets to attend the dress rehearsal at 10:15am\, or the performance at 12:30pm.
URL:https://www.bathurstregion.com.au/event/blayney-public-school-presents-childhood-favourites/2025-11-13/
LOCATION:Bathurst Memorial Entertainment Centre\, 105 William Street\, Bathurst\, New South Wales\, 2795\, Australia
CATEGORIES:Concert or Performance
ATTACH;FMTTYPE=image/png:https://www.bathurstregion.com.au/wp-content/uploads/2025/09/BHSCrest_PNG-red-Blayney.png
ORGANIZER;CN="Bathurst Memorial Entertainment Centre":MAILTO:bmec@bathurst.nsw.gov.au
END:VEVENT
BEGIN:VEVENT
DTSTART;TZID=Australia/Sydney:20251114T123000
DTEND;TZID=Australia/Sydney:20251114T134500
DTSTAMP:20260426T024059
CREATED:20250902T055353Z
LAST-MODIFIED:20250902T055353Z
UID:10004332-1763123400-1763127900@www.bathurstregion.com.au
SUMMARY:Blayney Public School Presents Childhood Favourites
DESCRIPTION:Blayney Public School students present their performance\n“Childhood Favourites“. \nEach class from K-6 will perform a musical number from a favourite childhood movie. \nWe look forward to seeing you at BMEC! \nThe audience can purchase tickets to attend the dress rehearsal at 10:15am\, or the performance at 12:30pm.
URL:https://www.bathurstregion.com.au/event/blayney-public-school-presents-childhood-favourites/2025-11-14/
LOCATION:Bathurst Memorial Entertainment Centre\, 105 William Street\, Bathurst\, New South Wales\, 2795\, Australia
CATEGORIES:Concert or Performance
ATTACH;FMTTYPE=image/png:https://www.bathurstregion.com.au/wp-content/uploads/2025/09/BHSCrest_PNG-red-Blayney.png
ORGANIZER;CN="Bathurst Memorial Entertainment Centre":MAILTO:bmec@bathurst.nsw.gov.au
END:VEVENT
BEGIN:VEVENT
DTSTART;TZID=Australia/Sydney:20251115T123000
DTEND;TZID=Australia/Sydney:20251115T134500
DTSTAMP:20260426T024059
CREATED:20250902T055353Z
LAST-MODIFIED:20250902T055353Z
UID:10004333-1763209800-1763214300@www.bathurstregion.com.au
SUMMARY:Blayney Public School Presents Childhood Favourites
DESCRIPTION:Blayney Public School students present their performance\n“Childhood Favourites“. \nEach class from K-6 will perform a musical number from a favourite childhood movie. \nWe look forward to seeing you at BMEC! \nThe audience can purchase tickets to attend the dress rehearsal at 10:15am\, or the performance at 12:30pm.
URL:https://www.bathurstregion.com.au/event/blayney-public-school-presents-childhood-favourites/2025-11-15/
LOCATION:Bathurst Memorial Entertainment Centre\, 105 William Street\, Bathurst\, New South Wales\, 2795\, Australia
CATEGORIES:Concert or Performance
ATTACH;FMTTYPE=image/png:https://www.bathurstregion.com.au/wp-content/uploads/2025/09/BHSCrest_PNG-red-Blayney.png
ORGANIZER;CN="Bathurst Memorial Entertainment Centre":MAILTO:bmec@bathurst.nsw.gov.au
END:VEVENT
BEGIN:VEVENT
DTSTART;TZID=Australia/Sydney:20251115T190000
DTEND;TZID=Australia/Sydney:20251115T210000
DTSTAMP:20260426T024059
CREATED:20250605T022425Z
LAST-MODIFIED:20250605T022425Z
UID:10004246-1763233200-1763240400@www.bathurstregion.com.au
SUMMARY:The Saturday Night Social
DESCRIPTION:Don’t you ever wish you could travel back to the Saturday night dance?\nTake a spin across a glassy floor\, to a swinging live band under sparkling lights? \nOn this special Saturday night\, you can! Join Dance Makers Collective with live music from Felix Albert and the Gentlemanly Two in a solid evening of joyous dancing with your partners\, family and friends. \nThis event\, a spin-off of Dance Makers Collective’s 2020 Sydney Festival hit The Rivoli\, takes inspiration from the peak dance hall and disco eras\, reimagined for the modern lover of dancing. \nWhether you have a dance partner\, like a night out on the town\, or have a boogie in your bedroom\, The Saturday Night Social is the place for you! \nAbout the band – Felix Albert and the Gentlemanly Two \nPutting their own spin on tunes from recent times to back from the 1940’s and all rockin’ points in between the boy’s blast through a list of songs that can only result in full dance floors and sheer amazement of the skill and finesse with which they execute their unique style of Rockabilly. \nThe Central West outfit includes Pete “Felix Albert” Thoms on upright bass and vocals\, Ebbo “Wrecking Ball” Brown on drums\, Hughie “Hotrod” Brown (no relation) on electric guitar and lap steel.
URL:https://www.bathurstregion.com.au/event/the-saturday-night-social/
LOCATION:Bathurst Memorial Entertainment Centre\, 105 William Street\, Bathurst\, New South Wales\, 2795\, Australia
CATEGORIES:Concert or Performance
ATTACH;FMTTYPE=image/png:https://www.bathurstregion.com.au/wp-content/uploads/2025/06/Screenshot-2025-06-05-120222.png
ORGANIZER;CN="Bathurst Memorial Entertainment Centre":MAILTO:bmec@bathurst.nsw.gov.au
END:VEVENT
BEGIN:VEVENT
DTSTART;TZID=Australia/Sydney:20251116T103000
DTEND;TZID=Australia/Sydney:20251116T143000
DTSTAMP:20260426T024059
CREATED:20221026T003343Z
LAST-MODIFIED:20251003T015433Z
UID:10003880-1763289000-1763303400@www.bathurstregion.com.au
SUMMARY:Bathurst Miniature Railway
DESCRIPTION:Pack a picnic lunch and take the kids down to the miniature railway to enjoy a few rides on working scale model trains\, just across the road from the Adventure Playground. Covered shoes must be worn. Trains run the 3rd Sunday of the month\, weather permitting.
URL:https://www.bathurstregion.com.au/event/bathurst-miniature-railway/2025-11-16/
LOCATION:John Matthews Sporting Complex\, Durham Street\, Bathurst\, New South Wales\, 2795\, Australia
CATEGORIES:Community Event,History and Heritage
ATTACH;FMTTYPE=image/jpeg:https://www.bathurstregion.com.au/wp-content/uploads/2022/10/Minature-railway2-1.jpg
ORGANIZER;CN="Bathurst Miniature Railway Society":MAILTO:bxminirail@gmail.com
END:VEVENT
BEGIN:VEVENT
DTSTART;TZID=Australia/Sydney:20251116T123000
DTEND;TZID=Australia/Sydney:20251116T134500
DTSTAMP:20260426T024059
CREATED:20250902T055353Z
LAST-MODIFIED:20250902T055353Z
UID:10004334-1763296200-1763300700@www.bathurstregion.com.au
SUMMARY:Blayney Public School Presents Childhood Favourites
DESCRIPTION:Blayney Public School students present their performance\n“Childhood Favourites“. \nEach class from K-6 will perform a musical number from a favourite childhood movie. \nWe look forward to seeing you at BMEC! \nThe audience can purchase tickets to attend the dress rehearsal at 10:15am\, or the performance at 12:30pm.
URL:https://www.bathurstregion.com.au/event/blayney-public-school-presents-childhood-favourites/2025-11-16/
LOCATION:Bathurst Memorial Entertainment Centre\, 105 William Street\, Bathurst\, New South Wales\, 2795\, Australia
CATEGORIES:Concert or Performance
ATTACH;FMTTYPE=image/png:https://www.bathurstregion.com.au/wp-content/uploads/2025/09/BHSCrest_PNG-red-Blayney.png
ORGANIZER;CN="Bathurst Memorial Entertainment Centre":MAILTO:bmec@bathurst.nsw.gov.au
END:VEVENT
BEGIN:VEVENT
DTSTART;TZID=Australia/Sydney:20251116T143000
DTEND;TZID=Australia/Sydney:20251116T163000
DTSTAMP:20260426T024059
CREATED:20251113T003742Z
LAST-MODIFIED:20251113T003744Z
UID:10004770-1763303400-1763310600@www.bathurstregion.com.au
SUMMARY:Handel's Oratorio 'Messiah'
DESCRIPTION:Experience one of the greatest works in classical repertoire as the Allegri Singers\, joined by Willoughby Singers and All Saints’ Cathedral Choir\, present Handel’s magnificent oratorio “Messiah”. This combined ensemble of 75 singers will be accompanied by The Allegri Players and four brilliant vocal soloists. From the joy of Christ’s arrival to the glory of resurrection\, this dramatic musical journey showcases Handel’s genius with outstanding performers under the direction of William Moxey.
URL:https://www.bathurstregion.com.au/event/handels-oratorio-messiah/
LOCATION:All Saints’ Cathedral\, Church Street\, Bathurst\, NSW\, 2795\, Australia
CATEGORIES:Concert or Performance
ATTACH;FMTTYPE=image/jpeg:https://www.bathurstregion.com.au/wp-content/uploads/2025/11/A5-Messiah-Program-2025_Bathurst.jpg
ORGANIZER;CN="The Allegri Singers":MAILTO:allegrisingers@gmail.com
END:VEVENT
END:VCALENDAR