
BEGIN:VCALENDAR
VERSION:2.0
PRODID:-//Bathurst Region Tourism - ECPv6.15.16//NONSGML v1.0//EN
CALSCALE:GREGORIAN
METHOD:PUBLISH
X-WR-CALNAME:Bathurst Region Tourism
X-ORIGINAL-URL:https://www.bathurstregion.com.au
X-WR-CALDESC:Events for Bathurst Region Tourism
REFRESH-INTERVAL;VALUE=DURATION:PT1H
X-Robots-Tag:noindex
X-PUBLISHED-TTL:PT1H
BEGIN:VTIMEZONE
TZID:Australia/Sydney
BEGIN:STANDARD
TZOFFSETFROM:+1100
TZOFFSETTO:+1000
TZNAME:AEST
DTSTART:20240406T160000
END:STANDARD
BEGIN:DAYLIGHT
TZOFFSETFROM:+1000
TZOFFSETTO:+1100
TZNAME:AEDT
DTSTART:20241005T160000
END:DAYLIGHT
BEGIN:STANDARD
TZOFFSETFROM:+1100
TZOFFSETTO:+1000
TZNAME:AEST
DTSTART:20250405T160000
END:STANDARD
BEGIN:DAYLIGHT
TZOFFSETFROM:+1000
TZOFFSETTO:+1100
TZNAME:AEDT
DTSTART:20251004T160000
END:DAYLIGHT
BEGIN:STANDARD
TZOFFSETFROM:+1100
TZOFFSETTO:+1000
TZNAME:AEST
DTSTART:20260404T160000
END:STANDARD
BEGIN:DAYLIGHT
TZOFFSETFROM:+1000
TZOFFSETTO:+1100
TZNAME:AEDT
DTSTART:20261003T160000
END:DAYLIGHT
END:VTIMEZONE
BEGIN:VEVENT
DTSTART;TZID=Australia/Sydney:20251027T123000
DTEND;TZID=Australia/Sydney:20251027T134500
DTSTAMP:20260426T113745
CREATED:20250902T055353Z
LAST-MODIFIED:20250902T055353Z
UID:10004314-1761568200-1761572700@www.bathurstregion.com.au
SUMMARY:Blayney Public School Presents Childhood Favourites
DESCRIPTION:Blayney Public School students present their performance\n“Childhood Favourites“. \nEach class from K-6 will perform a musical number from a favourite childhood movie. \nWe look forward to seeing you at BMEC! \nThe audience can purchase tickets to attend the dress rehearsal at 10:15am\, or the performance at 12:30pm.
URL:https://www.bathurstregion.com.au/event/blayney-public-school-presents-childhood-favourites/2025-10-27/
LOCATION:Bathurst Memorial Entertainment Centre\, 105 William Street\, Bathurst\, New South Wales\, 2795\, Australia
CATEGORIES:Concert or Performance
ATTACH;FMTTYPE=image/png:https://www.bathurstregion.com.au/wp-content/uploads/2025/09/BHSCrest_PNG-red-Blayney.png
ORGANIZER;CN="Bathurst Memorial Entertainment Centre":MAILTO:bmec@bathurst.nsw.gov.au
END:VEVENT
BEGIN:VEVENT
DTSTART;TZID=Australia/Sydney:20251028T123000
DTEND;TZID=Australia/Sydney:20251028T134500
DTSTAMP:20260426T113745
CREATED:20250902T055353Z
LAST-MODIFIED:20250902T055353Z
UID:10004315-1761654600-1761659100@www.bathurstregion.com.au
SUMMARY:Blayney Public School Presents Childhood Favourites
DESCRIPTION:Blayney Public School students present their performance\n“Childhood Favourites“. \nEach class from K-6 will perform a musical number from a favourite childhood movie. \nWe look forward to seeing you at BMEC! \nThe audience can purchase tickets to attend the dress rehearsal at 10:15am\, or the performance at 12:30pm.
URL:https://www.bathurstregion.com.au/event/blayney-public-school-presents-childhood-favourites/2025-10-28/
LOCATION:Bathurst Memorial Entertainment Centre\, 105 William Street\, Bathurst\, New South Wales\, 2795\, Australia
CATEGORIES:Concert or Performance
ATTACH;FMTTYPE=image/png:https://www.bathurstregion.com.au/wp-content/uploads/2025/09/BHSCrest_PNG-red-Blayney.png
ORGANIZER;CN="Bathurst Memorial Entertainment Centre":MAILTO:bmec@bathurst.nsw.gov.au
END:VEVENT
BEGIN:VEVENT
DTSTART;TZID=Australia/Sydney:20251028T180000
DTEND;TZID=Australia/Sydney:20251028T200000
DTSTAMP:20260426T113745
CREATED:20250430T062713Z
LAST-MODIFIED:20250527T062809Z
UID:10004112-1761674400-1761681600@www.bathurstregion.com.au
SUMMARY:Open Mic Night
DESCRIPTION:🎤 Are you ready to unleash your inner rockstar? \nGet ready to shine under the spotlight at Panthers Bathurst’s Monthly Open Mic Night! Held on the last Tuesday of every month in our vibrant Sports Bar\, the musical extravaganza kicks off at 6pm sharp. Our Open Mic Night is the ultimate stage where talents collide and melodies soar\, creating an atmosphere filled with energy\, passion\, and pure musical magic. \nWhether you’re a seasoned performer or a first-time strummer\, our Open Mic Night welcomes all with open arms and open ears. Bring along your trusty guitar\, your soulful voice\, or any instrument that speaks to your heart – because at Panthers Bathurst\, we believe that music is the universal language that brings us all together. \nIt’s not just about the performance; it’s about the shared experience of expressing yourself through the power of music. And hey\, if you prefer to be in the audience soaking in the vibes\, we’ve got a spot reserved just for you.
URL:https://www.bathurstregion.com.au/event/open-mic-night/2025-10-28/
LOCATION:Panthers Bathurst\, 132 Piper Street\, Bathurst\, NSW\, 2795\, Australia
CATEGORIES:Community Event
ATTACH;FMTTYPE=image/jpeg:https://www.bathurstregion.com.au/wp-content/uploads/2025/04/2024_OpenNight_LAND-2.jpg
END:VEVENT
BEGIN:VEVENT
DTSTART;TZID=Australia/Sydney:20251029T123000
DTEND;TZID=Australia/Sydney:20251029T134500
DTSTAMP:20260426T113745
CREATED:20250902T055353Z
LAST-MODIFIED:20250902T055353Z
UID:10004316-1761741000-1761745500@www.bathurstregion.com.au
SUMMARY:Blayney Public School Presents Childhood Favourites
DESCRIPTION:Blayney Public School students present their performance\n“Childhood Favourites“. \nEach class from K-6 will perform a musical number from a favourite childhood movie. \nWe look forward to seeing you at BMEC! \nThe audience can purchase tickets to attend the dress rehearsal at 10:15am\, or the performance at 12:30pm.
URL:https://www.bathurstregion.com.au/event/blayney-public-school-presents-childhood-favourites/2025-10-29/
LOCATION:Bathurst Memorial Entertainment Centre\, 105 William Street\, Bathurst\, New South Wales\, 2795\, Australia
CATEGORIES:Concert or Performance
ATTACH;FMTTYPE=image/png:https://www.bathurstregion.com.au/wp-content/uploads/2025/09/BHSCrest_PNG-red-Blayney.png
ORGANIZER;CN="Bathurst Memorial Entertainment Centre":MAILTO:bmec@bathurst.nsw.gov.au
END:VEVENT
BEGIN:VEVENT
DTSTART;TZID=Australia/Sydney:20251029T190000
DTEND;TZID=Australia/Sydney:20251029T210000
DTSTAMP:20260426T113745
CREATED:20240626T230810Z
LAST-MODIFIED:20250527T033008Z
UID:10003765-1761764400-1761771600@www.bathurstregion.com.au
SUMMARY:Musical Bingo @ The Family Hotel
DESCRIPTION:This one is for the music lovers! Rock into the #FamBams for Musical Trivia every Wednesday from 7pm! Entry is free and you’ll have the chance to win prizes whilst bopping along to tunes over the ages! \nWednesday night is $20 schnitty night!
URL:https://www.bathurstregion.com.au/event/musical-bingo-3/2025-10-29/
LOCATION:Family Hotel\, Cnr Russell & Bentinck Street\, Bathurst\, 2795\, Australia
CATEGORIES:Community Event
ATTACH;FMTTYPE=image/jpeg:https://www.bathurstregion.com.au/wp-content/uploads/2024/06/441867269_10229488857879453_8006742019411922238_n-1.jpg
END:VEVENT
BEGIN:VEVENT
DTSTART;TZID=Australia/Sydney:20251030T123000
DTEND;TZID=Australia/Sydney:20251030T134500
DTSTAMP:20260426T113745
CREATED:20250902T055353Z
LAST-MODIFIED:20250902T055353Z
UID:10004317-1761827400-1761831900@www.bathurstregion.com.au
SUMMARY:Blayney Public School Presents Childhood Favourites
DESCRIPTION:Blayney Public School students present their performance\n“Childhood Favourites“. \nEach class from K-6 will perform a musical number from a favourite childhood movie. \nWe look forward to seeing you at BMEC! \nThe audience can purchase tickets to attend the dress rehearsal at 10:15am\, or the performance at 12:30pm.
URL:https://www.bathurstregion.com.au/event/blayney-public-school-presents-childhood-favourites/2025-10-30/
LOCATION:Bathurst Memorial Entertainment Centre\, 105 William Street\, Bathurst\, New South Wales\, 2795\, Australia
CATEGORIES:Concert or Performance
ATTACH;FMTTYPE=image/png:https://www.bathurstregion.com.au/wp-content/uploads/2025/09/BHSCrest_PNG-red-Blayney.png
ORGANIZER;CN="Bathurst Memorial Entertainment Centre":MAILTO:bmec@bathurst.nsw.gov.au
END:VEVENT
BEGIN:VEVENT
DTSTART;TZID=Australia/Sydney:20251031T123000
DTEND;TZID=Australia/Sydney:20251031T134500
DTSTAMP:20260426T113745
CREATED:20250902T055353Z
LAST-MODIFIED:20250902T055353Z
UID:10004318-1761913800-1761918300@www.bathurstregion.com.au
SUMMARY:Blayney Public School Presents Childhood Favourites
DESCRIPTION:Blayney Public School students present their performance\n“Childhood Favourites“. \nEach class from K-6 will perform a musical number from a favourite childhood movie. \nWe look forward to seeing you at BMEC! \nThe audience can purchase tickets to attend the dress rehearsal at 10:15am\, or the performance at 12:30pm.
URL:https://www.bathurstregion.com.au/event/blayney-public-school-presents-childhood-favourites/2025-10-31/
LOCATION:Bathurst Memorial Entertainment Centre\, 105 William Street\, Bathurst\, New South Wales\, 2795\, Australia
CATEGORIES:Concert or Performance
ATTACH;FMTTYPE=image/png:https://www.bathurstregion.com.au/wp-content/uploads/2025/09/BHSCrest_PNG-red-Blayney.png
ORGANIZER;CN="Bathurst Memorial Entertainment Centre":MAILTO:bmec@bathurst.nsw.gov.au
END:VEVENT
BEGIN:VEVENT
DTSTART;TZID=Australia/Sydney:20251101T000000
DTEND;TZID=Australia/Sydney:20251101T235959
DTSTAMP:20260426T113745
CREATED:20251023T012804Z
LAST-MODIFIED:20251023T013222Z
UID:10004224-1761955200-1762041599@www.bathurstregion.com.au
SUMMARY:Pickleball Is Coming To Bathurst - Launch Of Love Pickle Club Bathurst
DESCRIPTION:Get ready Bathurst — the world’s fastest growing sport is coming to town!\n\n📲 Book your free session now: Download the “Love Pickle Club AU” App (Apple App Store / Google Play)\, select Bathurst\, and secure your Intro to Pickleball session for launch day on Saturday\, 1st November 2025.\n\nJoin us for the official launch of Love Pickle Club Bathurst on Saturday\, 1st November 2025\, at the Bathurst Indoor Sports Stadium.\n\nPickleball is a fun\, fast\, and social sport loved by people aged 5 to 95. It’s easy to learn\, inclusive\, and a fantastic way to stay active\, make new friends\, and get involved in the community.\n\n✅ Free Intro to Pickleball sessions all day\n✅ Fun for all ages and skill levels — beginners welcome\n✅ Equipment provided — just bring your energy and enthusiasm\n✅ Families\, schools\, businesses\, and community groups all encouraged to join in\n\nCome experience the game that’s taking the world by storm and find out why pickleball is becoming the new social sport of choice in Australia.\n\n⸻\n\nDate & Time:\n\n🗓 Saturday\, 1st November 2025\n🕘 Sessions running throughout the day\n\n⸻\n\nLocation:\n\n📍 Bathurst Indoor Sports Stadium\n20 Alexander Street\, West Bathurst NSW 2795\n\n⸻\n\nCost:\n\n💵 Free — bookings essential.\n\n⸻\n\nBookings:\n\n📲 Download the “Love Pickle Club AU” App (Apple App Store / Google Play)\,\nselect Bathurst\, and book your Free Intro Session.
URL:https://www.bathurstregion.com.au/event/pickleball-is-coming-to-bathurst-launch-of-love-pickle-club-bathurst/
LOCATION:Bathurst Indoor Sports Stadium\, 34 Alexander Street\, Bathurst\, 2795
CATEGORIES:Sporting Events
ATTACH;FMTTYPE=image/png:https://www.bathurstregion.com.au/wp-content/uploads/2025/10/IMG_6772.png
ORGANIZER;CN="Love Pickle Club":MAILTO:Jon@lovepickleclub.com.au
END:VEVENT
BEGIN:VEVENT
DTSTART;TZID=Australia/Sydney:20251101T123000
DTEND;TZID=Australia/Sydney:20251101T134500
DTSTAMP:20260426T113745
CREATED:20250902T055353Z
LAST-MODIFIED:20250902T055353Z
UID:10004319-1762000200-1762004700@www.bathurstregion.com.au
SUMMARY:Blayney Public School Presents Childhood Favourites
DESCRIPTION:Blayney Public School students present their performance\n“Childhood Favourites“. \nEach class from K-6 will perform a musical number from a favourite childhood movie. \nWe look forward to seeing you at BMEC! \nThe audience can purchase tickets to attend the dress rehearsal at 10:15am\, or the performance at 12:30pm.
URL:https://www.bathurstregion.com.au/event/blayney-public-school-presents-childhood-favourites/2025-11-01/
LOCATION:Bathurst Memorial Entertainment Centre\, 105 William Street\, Bathurst\, New South Wales\, 2795\, Australia
CATEGORIES:Concert or Performance
ATTACH;FMTTYPE=image/png:https://www.bathurstregion.com.au/wp-content/uploads/2025/09/BHSCrest_PNG-red-Blayney.png
ORGANIZER;CN="Bathurst Memorial Entertainment Centre":MAILTO:bmec@bathurst.nsw.gov.au
END:VEVENT
BEGIN:VEVENT
DTSTART;TZID=Australia/Sydney:20251101T173000
DTEND;TZID=Australia/Sydney:20251101T220000
DTSTAMP:20260426T113745
CREATED:20251007T030729Z
LAST-MODIFIED:20251007T030731Z
UID:10004619-1762018200-1762034400@www.bathurstregion.com.au
SUMMARY:Speakeasy Cabaret
DESCRIPTION:Step into the Speakeasy Cabaret for a night of dazzling dancers\, velvet voices\, and prohibition-era fun. Dress to impress in flapper flair & Gatsby glam. It’s a Roaring Twenties celebration bursting with razzle-dazzle! \nTickets include an alternatively served main course\, and a tasting of sweet treats.  \nDoors 5.30pm\nMain course served from 6pm\nShow commences 7pm\nSweet treats served during intermission
URL:https://www.bathurstregion.com.au/event/speakeasy-cabaret/
LOCATION:KeyStone 1889\, 99 Keppel St\, Bathurst\, 2795
CATEGORIES:Community Event,Concert or Performance,Food and Wine,History and Heritage
ATTACH;FMTTYPE=image/png:https://www.bathurstregion.com.au/wp-content/uploads/2025/10/image0.png
ORGANIZER;CN="KeyStone 1889":MAILTO:trish@keystone1889.com
END:VEVENT
BEGIN:VEVENT
DTSTART;TZID=Australia/Sydney:20251102T123000
DTEND;TZID=Australia/Sydney:20251102T134500
DTSTAMP:20260426T113745
CREATED:20250902T055353Z
LAST-MODIFIED:20250902T055353Z
UID:10004320-1762086600-1762091100@www.bathurstregion.com.au
SUMMARY:Blayney Public School Presents Childhood Favourites
DESCRIPTION:Blayney Public School students present their performance\n“Childhood Favourites“. \nEach class from K-6 will perform a musical number from a favourite childhood movie. \nWe look forward to seeing you at BMEC! \nThe audience can purchase tickets to attend the dress rehearsal at 10:15am\, or the performance at 12:30pm.
URL:https://www.bathurstregion.com.au/event/blayney-public-school-presents-childhood-favourites/2025-11-02/
LOCATION:Bathurst Memorial Entertainment Centre\, 105 William Street\, Bathurst\, New South Wales\, 2795\, Australia
CATEGORIES:Concert or Performance
ATTACH;FMTTYPE=image/png:https://www.bathurstregion.com.au/wp-content/uploads/2025/09/BHSCrest_PNG-red-Blayney.png
ORGANIZER;CN="Bathurst Memorial Entertainment Centre":MAILTO:bmec@bathurst.nsw.gov.au
END:VEVENT
BEGIN:VEVENT
DTSTART;TZID=Australia/Sydney:20251102T130000
DTEND;TZID=Australia/Sydney:20251102T150000
DTSTAMP:20260426T113745
CREATED:20250723T054626Z
LAST-MODIFIED:20250723T054626Z
UID:10004527-1762088400-1762095600@www.bathurstregion.com.au
SUMMARY:NT Live – Mrs Warren’s Profession
DESCRIPTION:Five-time Olivier Award winner Imelda Staunton (The Crown) joins forces with her real-life daughter Bessie Carter (Bridgerton) for the very first time\, playing mother and daughter in Bernard Shaw’s incendiary moral classic. \nVivie Warren is a woman ahead of her time. Her mother\, however\, is a product of that old patriarchal order. Exploiting it has earned Mrs. Warren a fortune – but at what cost?\nFilmed live from the West End\, this new production reunites Staunton with director Dominic Cooke (Follies\, Good)\, exploring the clash between morality and independence\, traditions and progress.
URL:https://www.bathurstregion.com.au/event/nt-live-mrs-warrens-profession/
LOCATION:Bathurst Memorial Entertainment Centre\, 105 William Street\, Bathurst\, New South Wales\, 2795\, Australia
CATEGORIES:Concert or Performance
ATTACH;FMTTYPE=image/jpeg:https://www.bathurstregion.com.au/wp-content/uploads/2025/07/NTL2021-450x337-1.jpg
ORGANIZER;CN="Bathurst Memorial Entertainment Centre":MAILTO:bmec@bathurst.nsw.gov.au
END:VEVENT
END:VCALENDAR