
BEGIN:VCALENDAR
VERSION:2.0
PRODID:-//Bathurst Region Tourism - ECPv6.15.16//NONSGML v1.0//EN
CALSCALE:GREGORIAN
METHOD:PUBLISH
X-ORIGINAL-URL:https://www.bathurstregion.com.au
X-WR-CALDESC:Events for Bathurst Region Tourism
REFRESH-INTERVAL;VALUE=DURATION:PT1H
X-Robots-Tag:noindex
X-PUBLISHED-TTL:PT1H
BEGIN:VTIMEZONE
TZID:Australia/Sydney
BEGIN:STANDARD
TZOFFSETFROM:+1100
TZOFFSETTO:+1000
TZNAME:AEST
DTSTART:20250405T160000
END:STANDARD
BEGIN:DAYLIGHT
TZOFFSETFROM:+1000
TZOFFSETTO:+1100
TZNAME:AEDT
DTSTART:20251004T160000
END:DAYLIGHT
BEGIN:STANDARD
TZOFFSETFROM:+1100
TZOFFSETTO:+1000
TZNAME:AEST
DTSTART:20260404T160000
END:STANDARD
BEGIN:DAYLIGHT
TZOFFSETFROM:+1000
TZOFFSETTO:+1100
TZNAME:AEDT
DTSTART:20261003T160000
END:DAYLIGHT
BEGIN:STANDARD
TZOFFSETFROM:+1100
TZOFFSETTO:+1000
TZNAME:AEST
DTSTART:20270403T160000
END:STANDARD
BEGIN:DAYLIGHT
TZOFFSETFROM:+1000
TZOFFSETTO:+1100
TZNAME:AEDT
DTSTART:20271002T160000
END:DAYLIGHT
END:VTIMEZONE
BEGIN:VEVENT
DTSTART;TZID=Australia/Sydney:20261031T193000
DTEND;TZID=Australia/Sydney:20261031T210000
DTSTAMP:20260420T153132
CREATED:20260128T234212Z
LAST-MODIFIED:20260128T234212Z
UID:10004914-1793475000-1793480400@www.bathurstregion.com.au
SUMMARY:Wolf
DESCRIPTION:Clad in designer Libby McDonnell’s form-hugging costumes and set to DJ Ori Lichtik’s relentless primal rhythms\, the cast of ten extraordinary Circa artists grasp\, tear\, climb\, leap and balance with fierce abandon. \nFor Director Yaron Lifschitz\, the wolf is a symbol of our untameable selves: liberating\, anarchic and savage. In two contrasting acts\, the wolves evolve from disruptive forces of chaos into a ferocious pack whose intense choreographies overflow with raw energy and astounding physicality.
URL:https://www.bathurstregion.com.au/event/wolf/
LOCATION:Bathurst Memorial Entertainment Centre\, 105 William Street\, Bathurst\, New South Wales\, 2795\, Australia
CATEGORIES:Concert or Performance
ATTACH;FMTTYPE=image/jpeg:https://www.bathurstregion.com.au/wp-content/uploads/2026/01/Andy-Phillipson_95A6750-scaled.jpg
ORGANIZER;CN="Bathurst Memorial Entertainment Centre":MAILTO:bmec@bathurst.nsw.gov.au
END:VEVENT
BEGIN:VEVENT
DTSTART;TZID=Australia/Sydney:20261101T130000
DTEND;TZID=Australia/Sydney:20261101T161500
DTSTAMP:20260420T153132
CREATED:20260224T005820Z
LAST-MODIFIED:20260224T005820Z
UID:10004962-1793538000-1793549700@www.bathurstregion.com.au
SUMMARY:BMEC ON- SCREEN All My Sons National Theatre Live
DESCRIPTION:All My Sons by Arthur Miller\, directed by Ivo Van Hove\, design by Jan Versweyveld. \nBryan Cranston (Breaking Bad) and Marianne Jean-Baptiste (Hard Truths) feature in a five-star\, triumphantly acclaimed new production of Arthur Miller’s classic play\, from visionary director Ivo Van Hove (A View from the Bridge). \nOne family\, the heart of the American dream. When wartime delivers profits for Joe\, it comes at a price when his partner is charged with criminal manufacturing deals\, and his eldest son goes missing in action. Will peacetime bring peace of mind\, or will he be confronted by the consequence of his actions? \nFilmed live from the West End\, Paapa Essiedu (I May Destroy You)\, Tom Glynn-Carney (House of the Dragon)\, and Hayley Squires (I\, Daniel Blake) also feature in this disturbingly prescient play.
URL:https://www.bathurstregion.com.au/event/bmec-on-screen-all-my-sons-national-theatre-live/
LOCATION:Bathurst Memorial Entertainment Centre\, 105 William Street\, Bathurst\, New South Wales\, 2795\, Australia
CATEGORIES:Concert or Performance
ATTACH;FMTTYPE=image/jpeg:https://www.bathurstregion.com.au/wp-content/uploads/2026/02/NTL-2026-All-My-Sons-Production-Photography-credit-Jan-Versweyveld-8-scaled.jpg
ORGANIZER;CN="Bathurst Memorial Entertainment Centre":MAILTO:bmec@bathurst.nsw.gov.au
END:VEVENT
BEGIN:VEVENT
DTSTART;TZID=Australia/Sydney:20261107T193000
DTEND;TZID=Australia/Sydney:20261107T210000
DTSTAMP:20260420T153132
CREATED:20260128T234211Z
LAST-MODIFIED:20260128T234211Z
UID:10004915-1794079800-1794085200@www.bathurstregion.com.au
SUMMARY:Queenie Van De Zandt – Choose Your Own Musical Theatre Adventure
DESCRIPTION:Stand by for a showstopper! The incomparable Queenie van de Zandt\, multi-award-winning musical theatre star and one of the country’s most celebrated voices\, steps into the spotlight with a riotously fun and completely original celebration of all things Broadway. \nIn Choose Your Own MUSICAL THEATRE Adventure\, Queenie throws open the stage door and invites you into her world of show-stopping\, musical theatre bangers\, hilarious showbiz anecdotes and Broadway inspired antics that will delight newcomers and superfans alike. \nBut this is no ordinary musical theatre concert. Using nothing but your smartphone you will help create a showtune extravaganza. You’ll shape\, cast\, and direct the night’s antics – choosing which songs are belted\, which stories are spilled\, and what musical mischief comes to life. \nThis daring diva is putting her musical fate in your hands. So\, take a seat\, whip out your phone and get ready to take control of how the show unfolds.
URL:https://www.bathurstregion.com.au/event/queenie-van-de-zandt-choose-your-own-musical-theatre-adventure/
LOCATION:Bathurst Memorial Entertainment Centre\, 105 William Street\, Bathurst\, New South Wales\, 2795\, Australia
CATEGORIES:Concert or Performance
ATTACH;FMTTYPE=image/png:https://www.bathurstregion.com.au/wp-content/uploads/2026/01/CYOA-MT-SQUARE-BMEC.png
ORGANIZER;CN="Bathurst Memorial Entertainment Centre":MAILTO:bmec@bathurst.nsw.gov.au
END:VEVENT
END:VCALENDAR