
BEGIN:VCALENDAR
VERSION:2.0
PRODID:-//Bathurst Region Tourism - ECPv6.15.16//NONSGML v1.0//EN
CALSCALE:GREGORIAN
METHOD:PUBLISH
X-ORIGINAL-URL:https://www.bathurstregion.com.au
X-WR-CALDESC:Events for Bathurst Region Tourism
REFRESH-INTERVAL;VALUE=DURATION:PT1H
X-Robots-Tag:noindex
X-PUBLISHED-TTL:PT1H
BEGIN:VTIMEZONE
TZID:Australia/Sydney
BEGIN:STANDARD
TZOFFSETFROM:+1100
TZOFFSETTO:+1000
TZNAME:AEST
DTSTART:20250405T160000
END:STANDARD
BEGIN:DAYLIGHT
TZOFFSETFROM:+1000
TZOFFSETTO:+1100
TZNAME:AEDT
DTSTART:20251004T160000
END:DAYLIGHT
BEGIN:STANDARD
TZOFFSETFROM:+1100
TZOFFSETTO:+1000
TZNAME:AEST
DTSTART:20260404T160000
END:STANDARD
BEGIN:DAYLIGHT
TZOFFSETFROM:+1000
TZOFFSETTO:+1100
TZNAME:AEDT
DTSTART:20261003T160000
END:DAYLIGHT
BEGIN:STANDARD
TZOFFSETFROM:+1100
TZOFFSETTO:+1000
TZNAME:AEST
DTSTART:20270403T160000
END:STANDARD
BEGIN:DAYLIGHT
TZOFFSETFROM:+1000
TZOFFSETTO:+1100
TZNAME:AEDT
DTSTART:20271002T160000
END:DAYLIGHT
END:VTIMEZONE
BEGIN:VEVENT
DTSTART;TZID=Australia/Sydney:20260519T000000
DTEND;TZID=Australia/Sydney:20260519T235959
DTSTAMP:20260423T121026
CREATED:20260422T061854Z
LAST-MODIFIED:20260422T061854Z
UID:10005056-1779148800-1779235199@www.bathurstregion.com.au
SUMMARY:Bathurst Writers’ and Readers’ Festival 2026
DESCRIPTION:The Bathurst Writers’ & Readers’ Festival returns this May\, proudly bringing storytelling\, big ideas\, and unforgettable conversations. \nRunning from Tuesday 19 to Sunday 24 May\, the much-loved Festival will feature six days of author talks\, live-streamed sessions from the Sydney Writers’ Festival (SWF)\, and exciting local events at Bathurst Library and the Bathurst Memorial Entertainment Centre (BMEC). \nLive streamed big-name authors include David Szalay\, Amritav Gosh\, A.C Grayling\, Yann Martel\, Trent Dalton\, Stephanie Alezander and Mick Herron. \nIn person appearances by Bob Brown\, Jack Toohey and Michael Brissenden\, along with  local writers and session facilitated by other local writers and readers.
URL:https://www.bathurstregion.com.au/event/bathurst-writers-and-readers-festival-2026/2026-05-19/
LOCATION:Bathurst Memorial Entertainment Centre\, 105 William Street\, Bathurst\, New South Wales\, 2795\, Australia
CATEGORIES:Classes, Lessons, Workshops and Talks,Concert or Performance
ATTACH;FMTTYPE=image/png:https://www.bathurstregion.com.au/wp-content/uploads/2026/04/BxWRF_Logo-1.png
ORGANIZER;CN="Bathurst Memorial Entertainment Centre":MAILTO:bmec@bathurst.nsw.gov.au
END:VEVENT
END:VCALENDAR