
BEGIN:VCALENDAR
VERSION:2.0
PRODID:-//Bathurst Region Tourism - ECPv6.15.16//NONSGML v1.0//EN
CALSCALE:GREGORIAN
METHOD:PUBLISH
X-ORIGINAL-URL:https://www.bathurstregion.com.au
X-WR-CALDESC:Events for Bathurst Region Tourism
REFRESH-INTERVAL;VALUE=DURATION:PT1H
X-Robots-Tag:noindex
X-PUBLISHED-TTL:PT1H
BEGIN:VTIMEZONE
TZID:Australia/Sydney
BEGIN:STANDARD
TZOFFSETFROM:+1100
TZOFFSETTO:+1000
TZNAME:AEST
DTSTART:20250405T160000
END:STANDARD
BEGIN:DAYLIGHT
TZOFFSETFROM:+1000
TZOFFSETTO:+1100
TZNAME:AEDT
DTSTART:20251004T160000
END:DAYLIGHT
BEGIN:STANDARD
TZOFFSETFROM:+1100
TZOFFSETTO:+1000
TZNAME:AEST
DTSTART:20260404T160000
END:STANDARD
BEGIN:DAYLIGHT
TZOFFSETFROM:+1000
TZOFFSETTO:+1100
TZNAME:AEDT
DTSTART:20261003T160000
END:DAYLIGHT
BEGIN:STANDARD
TZOFFSETFROM:+1100
TZOFFSETTO:+1000
TZNAME:AEST
DTSTART:20270403T160000
END:STANDARD
BEGIN:DAYLIGHT
TZOFFSETFROM:+1000
TZOFFSETTO:+1100
TZNAME:AEDT
DTSTART:20271002T160000
END:DAYLIGHT
END:VTIMEZONE
BEGIN:VEVENT
DTSTART;TZID=Australia/Sydney:20260419T103000
DTEND;TZID=Australia/Sydney:20260419T143000
DTSTAMP:20260422T031902
CREATED:20221026T003343Z
LAST-MODIFIED:20251003T015433Z
UID:10003885-1776594600-1776609000@www.bathurstregion.com.au
SUMMARY:Bathurst Miniature Railway
DESCRIPTION:Pack a picnic lunch and take the kids down to the miniature railway to enjoy a few rides on working scale model trains\, just across the road from the Adventure Playground. Covered shoes must be worn. Trains run the 3rd Sunday of the month\, weather permitting.
URL:https://www.bathurstregion.com.au/event/bathurst-miniature-railway/2026-04-19/
LOCATION:John Matthews Sporting Complex\, Durham Street\, Bathurst\, New South Wales\, 2795\, Australia
CATEGORIES:Community Event,History and Heritage
ATTACH;FMTTYPE=image/jpeg:https://www.bathurstregion.com.au/wp-content/uploads/2022/10/Minature-railway2-1.jpg
ORGANIZER;CN="Bathurst Miniature Railway Society":MAILTO:bxminirail@gmail.com
END:VEVENT
BEGIN:VEVENT
DTSTART;TZID=Australia/Sydney:20260419T130000
DTEND;TZID=Australia/Sydney:20260419T143000
DTSTAMP:20260422T031903
CREATED:20251015T012931Z
LAST-MODIFIED:20251022T035808Z
UID:10004642-1776603600-1776609000@www.bathurstregion.com.au
SUMMARY:BMEC ON-SCREEN John Cleese Packs It In
DESCRIPTION:1 85-year-old Man\, 5 Countries\, 16 Cities\, 23 shows\, 6 weeks.\n\nWill he make it home … or is this the end of the road?\n\nOne of the most recognisable figures in British comedy\, John Cleese’s career spans six decades – from his early days with the Cambridge Footlights to co-founding Monty Python\, co-creating Fawlty Towers\, and writing and starring in the Oscar-nominated “A Fish Called Wanda”. His unique brand of black humour has made him a global icon and intergalactic treasure.\n\nAt the age of eighty five\, John Cleese sets off on what might be his final European tour – five countries\, sixteen cities\, twenty-three shows\, and retaining just two original body parts. “John Cleese Packs It In” is a wry\, behind-the-scenes portrait of a comedy legend on the road\, battling various ailments\, chaotic travel\, and his own stubborn refusal to stop.\n\nSpanning six weeks on the road\, the film captures Cleese unfiltered and on the move – riffing on life\, fame\, and the absurdity of getting old in front of thousands of fans.\n\nAs he reflects on a stage career that began in 1963\, the question lingers: is this the end of the road?\n\nWith unique and intimate access and showing unexpected tenderness\, this is a documentary about legacy\, laughter\, and the dignity of bowing out… however reluctantly.
URL:https://www.bathurstregion.com.au/event/bmec-on-screen-john-cleese-packs-it-in-3/
LOCATION:Bathurst Memorial Entertainment Centre\, 105 William Street\, Bathurst\, New South Wales\, 2795\, Australia
CATEGORIES:Concert or Performance
ATTACH;FMTTYPE=image/png:https://www.bathurstregion.com.au/wp-content/uploads/2025/10/John-Cleese-001-scaled.png
ORGANIZER;CN="Bathurst Memorial Entertainment Centre":MAILTO:bmec@bathurst.nsw.gov.au
END:VEVENT
END:VCALENDAR