
BEGIN:VCALENDAR
VERSION:2.0
PRODID:-//Bathurst Region Tourism - ECPv6.15.16//NONSGML v1.0//EN
CALSCALE:GREGORIAN
METHOD:PUBLISH
X-ORIGINAL-URL:https://www.bathurstregion.com.au
X-WR-CALDESC:Events for Bathurst Region Tourism
REFRESH-INTERVAL;VALUE=DURATION:PT1H
X-Robots-Tag:noindex
X-PUBLISHED-TTL:PT1H
BEGIN:VTIMEZONE
TZID:Australia/Sydney
BEGIN:STANDARD
TZOFFSETFROM:+1100
TZOFFSETTO:+1000
TZNAME:AEST
DTSTART:20250405T160000
END:STANDARD
BEGIN:DAYLIGHT
TZOFFSETFROM:+1000
TZOFFSETTO:+1100
TZNAME:AEDT
DTSTART:20251004T160000
END:DAYLIGHT
BEGIN:STANDARD
TZOFFSETFROM:+1100
TZOFFSETTO:+1000
TZNAME:AEST
DTSTART:20260404T160000
END:STANDARD
BEGIN:DAYLIGHT
TZOFFSETFROM:+1000
TZOFFSETTO:+1100
TZNAME:AEDT
DTSTART:20261003T160000
END:DAYLIGHT
BEGIN:STANDARD
TZOFFSETFROM:+1100
TZOFFSETTO:+1000
TZNAME:AEST
DTSTART:20270403T160000
END:STANDARD
BEGIN:DAYLIGHT
TZOFFSETFROM:+1000
TZOFFSETTO:+1100
TZNAME:AEDT
DTSTART:20271002T160000
END:DAYLIGHT
END:VTIMEZONE
BEGIN:VEVENT
DTSTART;TZID=Australia/Sydney:20260222T100000
DTEND;TZID=Australia/Sydney:20260222T150000
DTSTAMP:20260420T084636
CREATED:20260205T012225Z
LAST-MODIFIED:20260205T012225Z
UID:10004922-1771754400-1771772400@www.bathurstregion.com.au
SUMMARY:Make a felted hat\, bag or bowl
DESCRIPTION:You will be creating a bag\, hat or bowl in one piece using a resist. There is a choice of styles to create. \nWhat to bring:\nlunch\nseveral old towels\nsmall bucket for water\ncake of soap\napron \nFor hat:\nMALE foam head\nSewing pins \nCost: $35 (BDA members)\n$40 (non-members) \nPay by direct deposit to:\nBathurst & District Artisans\nBSB: 882-000\nA/c: 10016 3946\nRef: (name)Felt2202 \nThere will be a $30 materials charge payable on the day.
URL:https://www.bathurstregion.com.au/event/make-a-felted-hat-bag-or-bowl/
LOCATION:Perthville Community Hall\, 20 Rockley Street\, Perthville\, NSW
CATEGORIES:Classes, Lessons, Workshops and Talks
ATTACH;FMTTYPE=image/jpeg:https://www.bathurstregion.com.au/wp-content/uploads/2026/02/20250503_125948-scaled.jpg
ORGANIZER;CN="Bathurst and District Artisans":MAILTO:presbda@gmail.com
END:VEVENT
END:VCALENDAR