
BEGIN:VCALENDAR
VERSION:2.0
PRODID:-//Bathurst Region Tourism - ECPv6.15.16//NONSGML v1.0//EN
CALSCALE:GREGORIAN
METHOD:PUBLISH
X-ORIGINAL-URL:https://www.bathurstregion.com.au
X-WR-CALDESC:Events for Bathurst Region Tourism
REFRESH-INTERVAL;VALUE=DURATION:PT1H
X-Robots-Tag:noindex
X-PUBLISHED-TTL:PT1H
BEGIN:VTIMEZONE
TZID:Australia/Sydney
BEGIN:STANDARD
TZOFFSETFROM:+1100
TZOFFSETTO:+1000
TZNAME:AEST
DTSTART:20250405T160000
END:STANDARD
BEGIN:DAYLIGHT
TZOFFSETFROM:+1000
TZOFFSETTO:+1100
TZNAME:AEDT
DTSTART:20251004T160000
END:DAYLIGHT
BEGIN:STANDARD
TZOFFSETFROM:+1100
TZOFFSETTO:+1000
TZNAME:AEST
DTSTART:20260404T160000
END:STANDARD
BEGIN:DAYLIGHT
TZOFFSETFROM:+1000
TZOFFSETTO:+1100
TZNAME:AEDT
DTSTART:20261003T160000
END:DAYLIGHT
BEGIN:STANDARD
TZOFFSETFROM:+1100
TZOFFSETTO:+1000
TZNAME:AEST
DTSTART:20270403T160000
END:STANDARD
BEGIN:DAYLIGHT
TZOFFSETFROM:+1000
TZOFFSETTO:+1100
TZNAME:AEDT
DTSTART:20271002T160000
END:DAYLIGHT
END:VTIMEZONE
BEGIN:VEVENT
DTSTART;TZID=Australia/Sydney:20260220T180000
DTEND;TZID=Australia/Sydney:20260220T220000
DTSTAMP:20260421T144934
CREATED:20260128T234245Z
LAST-MODIFIED:20260128T234245Z
UID:10004854-1771610400-1771624800@www.bathurstregion.com.au
SUMMARY:Switched!
DESCRIPTION:Ever caught yourself belting out a song you were “never meant” to sing? \nSwitched! is a bold\, fast-paced cabaret that flips gender stereotypes on their head. Performers reinterpret iconic songs and scenes traditionally associated with another gender\, making them entirely their own.\n​\nExpect a women-led “Bohemian Rhapsody\,” men tackling “Single Ladies\,” sharp scenes inspired by The Devil Wears Prada\, Mean Girls\, and The Office\, and plenty of surprises. Featuring the fabulous Betty Confetti and Dance Factory performers\, the night blends powerhouse vocals\, big laughs\, and genuine heart.​
URL:https://www.bathurstregion.com.au/event/switched/
LOCATION:KeyStone 1889\, 99 Keppel St\, Bathurst\, 2795
CATEGORIES:Concert or Performance,Food and Wine,History and Heritage
ATTACH;FMTTYPE=image/jpeg:https://www.bathurstregion.com.au/wp-content/uploads/2026/01/switched-.jpg
ORGANIZER;CN="KeyStone 1889":MAILTO:trish@keystone1889.com
END:VEVENT
BEGIN:VEVENT
DTSTART;TZID=Australia/Sydney:20260220T200000
DTEND;TZID=Australia/Sydney:20260220T223000
DTSTAMP:20260421T144934
CREATED:20251021T005210Z
LAST-MODIFIED:20251021T005213Z
UID:10004147-1771617600-1771626600@www.bathurstregion.com.au
SUMMARY:Best of the Bee Gees
DESCRIPTION:The Best of the Bee Gees Show returns to BMEC to honour the 1979 “Greatest” album\, with a set list of iconic disco\, ballads and songs written by the Bee Gees for other legends.\n\nEndorsed by the Gibb family and original Bee Gees musicians\, the core trio of Evan Webster (Barry Gibb)\, Russell Davey (Robin Gibb) and Greg Wain (Maurice Gibb)\, will be joined by special guest vocalist Debora McLane (Bee Gees niece).\n\nFrom You Should Be Dancing to the “Greatest” chart busters and memories which defined the decade: Massachusetts\, To Love Somebody\, I started a Joke\, Jive Talking\, Stayin’ Alive\, Night Fever\, How Deep Is Your Love\, Too Much Heaven\, Nights on Broadway and so much more.\n\n\nThis will be the 28th year playing Barry Gibb for Evan Webster who is also the creator\, producer and coordinator of the Best of the Bee Gees. Most weekends\, Evan appreciates the time on tour with his ‘on the road family’ sharing stories and performing to new audiences in Australia\, New Zealand\, Singapore\, Manila\, Spain\, Portugal\, the UK and global cruise ships including “The World” luxury liner.\n\nGreg Wain’s European career highlights include performing at the Royal Albert Hall\, international touring with London’s acclaimed vocal group Shout\, operatic productions with Pro Musica Chorus of London\, sharing the stage with Jose Carreras in Carmen\, the Jools Holland Big Band\, West End Starlight Express and since 2017\, playing Maurice with the Best of the Bee Gees in Australia.\n\nRussell Davey has toured New Caledonia\, South Africa\, Hong Kong\, Canada\, Spain\, Portugal\, New Zealand and the UK with multiple tribute shows. He joined the Best of the Bee Gees in 2013 and has shared the stage at sea with Suzie Quatro\, Tony Hadley\, Belinda Carlisle\, Go West and others.\n\nThis troupe of seasoned musicians received standing ovations during their 25th anniversary in 2023/24\, national concerts this year and most recently\, 11 shows throughout New Zealand’s North Island.\n\nIt would be a Tragedy to miss the Best of the Bee Gees’ sensational\, retrospective show “Greatest”!
URL:https://www.bathurstregion.com.au/event/best-of-the-bee-gees/
LOCATION:Bathurst Memorial Entertainment Centre\, 105 William Street\, Bathurst\, New South Wales\, 2795\, Australia
CATEGORIES:Concert or Performance
ATTACH;FMTTYPE=image/jpeg:https://www.bathurstregion.com.au/wp-content/uploads/2025/10/BeeGee_logo.jpg
ORGANIZER;CN="Bathurst Memorial Entertainment Centre":MAILTO:bmec@bathurst.nsw.gov.au
END:VEVENT
END:VCALENDAR