
BEGIN:VCALENDAR
VERSION:2.0
PRODID:-//Bathurst Region Tourism - ECPv6.15.16//NONSGML v1.0//EN
CALSCALE:GREGORIAN
METHOD:PUBLISH
X-ORIGINAL-URL:https://www.bathurstregion.com.au
X-WR-CALDESC:Events for Bathurst Region Tourism
REFRESH-INTERVAL;VALUE=DURATION:PT1H
X-Robots-Tag:noindex
X-PUBLISHED-TTL:PT1H
BEGIN:VTIMEZONE
TZID:Australia/Sydney
BEGIN:STANDARD
TZOFFSETFROM:+1100
TZOFFSETTO:+1000
TZNAME:AEST
DTSTART:20250405T160000
END:STANDARD
BEGIN:DAYLIGHT
TZOFFSETFROM:+1000
TZOFFSETTO:+1100
TZNAME:AEDT
DTSTART:20251004T160000
END:DAYLIGHT
BEGIN:STANDARD
TZOFFSETFROM:+1100
TZOFFSETTO:+1000
TZNAME:AEST
DTSTART:20260404T160000
END:STANDARD
BEGIN:DAYLIGHT
TZOFFSETFROM:+1000
TZOFFSETTO:+1100
TZNAME:AEDT
DTSTART:20261003T160000
END:DAYLIGHT
BEGIN:STANDARD
TZOFFSETFROM:+1100
TZOFFSETTO:+1000
TZNAME:AEST
DTSTART:20270403T160000
END:STANDARD
BEGIN:DAYLIGHT
TZOFFSETFROM:+1000
TZOFFSETTO:+1100
TZNAME:AEDT
DTSTART:20271002T160000
END:DAYLIGHT
END:VTIMEZONE
BEGIN:VEVENT
DTSTART;TZID=Australia/Sydney:20260207T080000
DTEND;TZID=Australia/Sydney:20260208T170000
DTSTAMP:20260421T102742
CREATED:20221106T045343Z
LAST-MODIFIED:20251125T004235Z
UID:10003895-1770451200-1770570000@www.bathurstregion.com.au
SUMMARY:Proctor Park Challenge - Girls Youth Football Tournament
DESCRIPTION:The Proctor Park Challenge is for teams in Under 12 Girls and Under 14/15/16 Girls from Girls Youth League\, Association Representative\, Association Club Teams to play shortened games over a weekend to provide pre-season games in an enjoyable and competitive environment
URL:https://www.bathurstregion.com.au/event/proctor-park-challenge/
LOCATION:Proctor Park\, Gormans Hill Road\, Bathurst\, NSW\, 2795\, Australia
CATEGORIES:Sporting Events
ATTACH;FMTTYPE=image/jpeg:https://www.bathurstregion.com.au/wp-content/uploads/2024/09/Bathurst-FNSW-Lock-Up-300x158-1-1.jpeg
ORGANIZER;CN="Bathurst District Football Inc":MAILTO:Secretary@bathurstfootball.net
END:VEVENT
BEGIN:VEVENT
DTSTART;TZID=Australia/Sydney:20260207T193000
DTEND;TZID=Australia/Sydney:20260207T213000
DTSTAMP:20260421T102742
CREATED:20251020T010714Z
LAST-MODIFIED:20251020T010716Z
UID:10004141-1770492600-1770499800@www.bathurstregion.com.au
SUMMARY:Julie Goodwin ‘Your Time Starts Now’ Tour
DESCRIPTION:Australia’s beloved home cook\, media personality and best-selling author Julie Goodwin is hitting the road in 2026 with her first-ever national live tour.\n\nThis two-hour live show is part cooking demonstration\, part heart-to-heart chat\, and 100% Julie.\n\nCo-hosted by her longtime friend and award-winning broadcaster\, David Rabbetts (Rabbit). With their undeniable chemistry honed over years co-hosting breakfast radio together\, the show promises laughs\, tears\, and a whole lot of heart.\n\nWhether you’re a die-hard MasterChef fan or someone who’s followed Julie throughout her career\, this is an unmissable evening of food\, friendship and fierce honesty.\n\n Your Time Starts Now is not just a cooking demonstration – it’s an invitation into Julie’s world. A space where food and storytelling collide\, where vulnerability is strength\, and where laughter and tears often sit at the same table:\n\n* A live 2 hour theatre experience like no other – warm\, candid\, and laugh-out-loud funny\n\n* Julie cooking on stage\, sharing stories\, techniques and recipes\n\n* Honest reflections on her extraordinary life: from overnight fame on MasterChef to the very real mental health struggles that followed\n\n* Readings from her 2024 memoir ‘Your Time Starts Now’\n\n* Conversations with “Rabbit” that are equal parts hilarious and deeply moving\n\n* Audience Q&A and interaction that makes the event feel like dinner at your best mate’s place – just with a few extra guests.
URL:https://www.bathurstregion.com.au/event/julie-goodwin-your-time-starts-now-tour/
LOCATION:Bathurst Memorial Entertainment Centre\, 105 William Street\, Bathurst\, New South Wales\, 2795\, Australia
CATEGORIES:Concert or Performance
ATTACH;FMTTYPE=image/jpeg:https://www.bathurstregion.com.au/wp-content/uploads/2025/10/JG-2026-YTSN-Tour_digital_BATHURST_venue-display.jpg
ORGANIZER;CN="Bathurst Memorial Entertainment Centre":MAILTO:bmec@bathurst.nsw.gov.au
END:VEVENT
END:VCALENDAR