
BEGIN:VCALENDAR
VERSION:2.0
PRODID:-//Bathurst Region Tourism - ECPv6.15.16//NONSGML v1.0//EN
CALSCALE:GREGORIAN
METHOD:PUBLISH
X-ORIGINAL-URL:https://www.bathurstregion.com.au
X-WR-CALDESC:Events for Bathurst Region Tourism
REFRESH-INTERVAL;VALUE=DURATION:PT1H
X-Robots-Tag:noindex
X-PUBLISHED-TTL:PT1H
BEGIN:VTIMEZONE
TZID:Australia/Sydney
BEGIN:STANDARD
TZOFFSETFROM:+1100
TZOFFSETTO:+1000
TZNAME:AEST
DTSTART:20250405T160000
END:STANDARD
BEGIN:DAYLIGHT
TZOFFSETFROM:+1000
TZOFFSETTO:+1100
TZNAME:AEDT
DTSTART:20251004T160000
END:DAYLIGHT
BEGIN:STANDARD
TZOFFSETFROM:+1100
TZOFFSETTO:+1000
TZNAME:AEST
DTSTART:20260404T160000
END:STANDARD
BEGIN:DAYLIGHT
TZOFFSETFROM:+1000
TZOFFSETTO:+1100
TZNAME:AEDT
DTSTART:20261003T160000
END:DAYLIGHT
BEGIN:STANDARD
TZOFFSETFROM:+1100
TZOFFSETTO:+1000
TZNAME:AEST
DTSTART:20270403T160000
END:STANDARD
BEGIN:DAYLIGHT
TZOFFSETFROM:+1000
TZOFFSETTO:+1100
TZNAME:AEDT
DTSTART:20271002T160000
END:DAYLIGHT
END:VTIMEZONE
BEGIN:VEVENT
DTSTART;TZID=Australia/Sydney:20260104T123000
DTEND;TZID=Australia/Sydney:20260104T134500
DTSTAMP:20260420T064645
CREATED:20250902T055353Z
LAST-MODIFIED:20250902T055353Z
UID:10004383-1767529800-1767534300@www.bathurstregion.com.au
SUMMARY:Blayney Public School Presents Childhood Favourites
DESCRIPTION:Blayney Public School students present their performance\n“Childhood Favourites“. \nEach class from K-6 will perform a musical number from a favourite childhood movie. \nWe look forward to seeing you at BMEC! \nThe audience can purchase tickets to attend the dress rehearsal at 10:15am\, or the performance at 12:30pm.
URL:https://www.bathurstregion.com.au/event/blayney-public-school-presents-childhood-favourites/2026-01-04/
LOCATION:Bathurst Memorial Entertainment Centre\, 105 William Street\, Bathurst\, New South Wales\, 2795\, Australia
CATEGORIES:Concert or Performance
ATTACH;FMTTYPE=image/png:https://www.bathurstregion.com.au/wp-content/uploads/2025/09/BHSCrest_PNG-red-Blayney.png
ORGANIZER;CN="Bathurst Memorial Entertainment Centre":MAILTO:bmec@bathurst.nsw.gov.au
END:VEVENT
BEGIN:VEVENT
DTSTART;TZID=Australia/Sydney:20260104T143000
DTEND;TZID=Australia/Sydney:20260104T163000
DTSTAMP:20260420T064645
CREATED:20200617T045925Z
LAST-MODIFIED:20251212T004742Z
UID:10003896-1767537000-1767544200@www.bathurstregion.com.au
SUMMARY:High Tea @ Abercrombie House
DESCRIPTION:This popular High Tea includes scrumptious savoury and sweet treats. Enjoy a variety of leaf tea\, plunger coffee and elegant live classical Celtic harp music. Main rooms and gardens are open to explore. This is an outstanding afternoon of elegance and style. \nAdult $70; Concession $65; Child under 14 yrs $55. \nTickets available at Bathurst Visitor Information Centre\, 1 Kendall Ave (6332 1444) and Abercrombie House or book online.
URL:https://www.bathurstregion.com.au/event/high-tea-abercrombie-house-2020-09-20-2021-04-04-2023-01-26/2026-01-04/
LOCATION:Abercrombie House\, 311 Ophir Road\, Bathurst\, New South Wales\, 2795\, Australia
CATEGORIES:Food and Wine,History and Heritage
ATTACH;FMTTYPE=image/jpeg:https://www.bathurstregion.com.au/wp-content/uploads/2021/08/Bathurst-Regional-Council-Abercrombie-House-Photo-credit-Nicola-Bailey-10-High-res-for-print.jpg
ORGANIZER;CN="Abercrombie House":MAILTO:abercrombiehouse@bigpond.com
END:VEVENT
END:VCALENDAR