
BEGIN:VCALENDAR
VERSION:2.0
PRODID:-//Bathurst Region Tourism - ECPv6.15.16//NONSGML v1.0//EN
CALSCALE:GREGORIAN
METHOD:PUBLISH
X-ORIGINAL-URL:https://www.bathurstregion.com.au
X-WR-CALDESC:Events for Bathurst Region Tourism
REFRESH-INTERVAL;VALUE=DURATION:PT1H
X-Robots-Tag:noindex
X-PUBLISHED-TTL:PT1H
BEGIN:VTIMEZONE
TZID:Australia/Sydney
BEGIN:STANDARD
TZOFFSETFROM:+1100
TZOFFSETTO:+1000
TZNAME:AEST
DTSTART:20240406T160000
END:STANDARD
BEGIN:DAYLIGHT
TZOFFSETFROM:+1000
TZOFFSETTO:+1100
TZNAME:AEDT
DTSTART:20241005T160000
END:DAYLIGHT
BEGIN:STANDARD
TZOFFSETFROM:+1100
TZOFFSETTO:+1000
TZNAME:AEST
DTSTART:20250405T160000
END:STANDARD
BEGIN:DAYLIGHT
TZOFFSETFROM:+1000
TZOFFSETTO:+1100
TZNAME:AEDT
DTSTART:20251004T160000
END:DAYLIGHT
BEGIN:STANDARD
TZOFFSETFROM:+1100
TZOFFSETTO:+1000
TZNAME:AEST
DTSTART:20260404T160000
END:STANDARD
BEGIN:DAYLIGHT
TZOFFSETFROM:+1000
TZOFFSETTO:+1100
TZNAME:AEDT
DTSTART:20261003T160000
END:DAYLIGHT
END:VTIMEZONE
BEGIN:VEVENT
DTSTART;TZID=Australia/Sydney:20251206T110000
DTEND;TZID=Australia/Sydney:20251206T120000
DTSTAMP:20260423T194700
CREATED:20251118T011704Z
LAST-MODIFIED:20251118T011717Z
UID:10004678-1765018800-1765022400@www.bathurstregion.com.au
SUMMARY:Exhibition Tours // Summer Exhibitions
DESCRIPTION:About the Exhibitions – RSVP \n\n\n\nWest of Central 2\n\n\n\nConceived as an exhibition responding to place\, West of Central embraces artists who live and work across Wiradjuri Country in Central West NSW. \n\n\n\nThis Earth-centric exhibition honours artists’ care\, concern\, and respect for Country. Home to an increasing cohort of contemporary artists seeking connection\, respite and balance\, regional Australia is a place where artists have space to create\, experiment and challenge. West of Central celebrates those who live and work regionally\, positioning the regional as central to their practice. \n\n\n\nFirst realised at BRAG in 2023\, this second chapter\, West of Central 2\, invited artists from LGAs of Lachlan\, Parkes\, Forbes\, Weddin\, Cabonne\, Cowra\, Blayney\, Orange\, Mid-Western\, Bathurst\, Oberon and Lithgow to respond to the ecologies\, histories\, and communities of these places. \n\n\n\nArtists: Adam Rish (Hill End)\, Gabrielle Bates (Kandos)\, Genevieve Carroll (Hill End)\, Graham Lupp (Bathurst)\, Gus Armstrong & Peter Swain (Kandos)\, Jonathan Jones (Bathurst)\, Laura Baker (Blayney)\, Nicola Mason (Napoleon Reef)\, Ros Auld (Borenore)\, Simone Darcy (Forbes)\, Steven Cavanagh (Hill End)\, Susan Baird (Hill End)\, the artHITects (Gary Carsley & Renjie Teoh) (Bathurst)\, Vicky Browne (Nullo Mountain). \n\n\n\nMore info \n\n\n\nOur Ngurang (Home) Program Exhibition\n\n\n\nBathurst Regional Art Gallery (BRAG) presents the 2025 Our Ngurang (Home) Program Exhibition \n\n\n\nIn 2025\, BRAG partnered with Wiradyuri Elders\, Artists\, and Community to develop and deliver the Our Ngurang (Home) Program – an education program for students and teachers across Wiradyuri County in the Bathurst Region. \n\n\n\nWith a local focus on our shared home of Wiradyuri Country\, students from Blayney Public School participated in a year-long learning program of art\, culture\, and language workshops with Wiradyuri/Kamilaroi artist Jonathan Jones\, Wiradyuri Elder Wirribee Aunty Leanna Carr\, Wiradyuri artist Jessica Leffley\, and Yiri Sue Rice. \n\n\n\nMore info \n\n\n\nBella Fenton: The Bogeyman\n\n\n\nBRAG presents Foyer Gallery Exhibition The Bogeyman by Bella Fenton\, Winner of the 2023 Bathurst Grange Distillery x BRAG Summer Gin Art Competition. \n\n\n\nMore info \n\n\n\nImage: Bella Fenton\, Exactly as I left it (detail)\, acrylic on canvas\, 33 x 43 cm. Courtesy the artist.
URL:https://www.bathurstregion.com.au/event/exhibition-tours-summer-exhibitions/2025-12-06/
LOCATION:Bathurst Regional Art Gallery\, 70 -78 Keppel Street\, Bathurst\, New South Wales\, 2795\, Australia
CATEGORIES:Art,Classes, Lessons, Workshops and Talks,Community Event,Exhibition and Shows
ATTACH;FMTTYPE=image/png:https://www.bathurstregion.com.au/wp-content/uploads/2025/11/image-11.png
ORGANIZER;CN="Bathurst Regional Art Gallery":MAILTO:brag@bathurst.nsw.gov.au
END:VEVENT
BEGIN:VEVENT
DTSTART;TZID=Australia/Sydney:20251206T123000
DTEND;TZID=Australia/Sydney:20251206T134500
DTSTAMP:20260423T194700
CREATED:20250902T055353Z
LAST-MODIFIED:20250902T055353Z
UID:10004354-1765024200-1765028700@www.bathurstregion.com.au
SUMMARY:Blayney Public School Presents Childhood Favourites
DESCRIPTION:Blayney Public School students present their performance\n“Childhood Favourites“. \nEach class from K-6 will perform a musical number from a favourite childhood movie. \nWe look forward to seeing you at BMEC! \nThe audience can purchase tickets to attend the dress rehearsal at 10:15am\, or the performance at 12:30pm.
URL:https://www.bathurstregion.com.au/event/blayney-public-school-presents-childhood-favourites/2025-12-06/
LOCATION:Bathurst Memorial Entertainment Centre\, 105 William Street\, Bathurst\, New South Wales\, 2795\, Australia
CATEGORIES:Concert or Performance
ATTACH;FMTTYPE=image/png:https://www.bathurstregion.com.au/wp-content/uploads/2025/09/BHSCrest_PNG-red-Blayney.png
ORGANIZER;CN="Bathurst Memorial Entertainment Centre":MAILTO:bmec@bathurst.nsw.gov.au
END:VEVENT
BEGIN:VEVENT
DTSTART;TZID=Australia/Sydney:20251206T200000
DTEND;TZID=Australia/Sydney:20251206T200000
DTSTAMP:20260423T194700
CREATED:20251118T022750Z
LAST-MODIFIED:20251118T022753Z
UID:10004693-1765051200-1765051200@www.bathurstregion.com.au
SUMMARY:The Radiators | With special guests K’nOath
DESCRIPTION:The Radiators have been blazing a trail through Aussie rock since 1978\, building a massive following with their infectious energy\, gritty lyrics and unforgettable live shows. Known for iconic tracks like Coming Home\, 17 (I Wish I Was)\, Gimme Head and No Tragedy\, the band has achieved multiple platinum and gold albums\, sold over a million records\, and played more than 4\,000 shows to over three million people across the country. \n\n\n\nFrom dominating pub stages in the ’80s to sharing the spotlight with legends like INXS\, AC/DC and Rose Tattoo\, The Radiators became known for their relentless touring and raw\, authentic sound. Still going strong today\, the band continues to tour nationally\, delivering powerful performances to fans old and new. \n\n\n\nKicking off the night is K’nOath\, a local rock outfit re-formed in 2022. With a fresh twist on classic hits\, they’ll have you singing\, dancing and rocking out from the very first chord. \n\n\n\nDon’t miss your chance to catch one of Australia’s most enduring rock acts – and support local live music while you’re at it. This is a night of true Aussie rock not to be missed.
URL:https://www.bathurstregion.com.au/event/the-radiators-with-special-guests-knoath/
LOCATION:Panthers Bathurst\, 132 Piper Street\, Bathurst\, NSW\, 2795\, Australia
CATEGORIES:Concert or Performance
ATTACH;FMTTYPE=image/png:https://www.bathurstregion.com.au/wp-content/uploads/2025/11/image-17.png
END:VEVENT
END:VCALENDAR