
BEGIN:VCALENDAR
VERSION:2.0
PRODID:-//Bathurst Region Tourism - ECPv6.15.16//NONSGML v1.0//EN
CALSCALE:GREGORIAN
METHOD:PUBLISH
X-WR-CALNAME:Bathurst Region Tourism
X-ORIGINAL-URL:https://www.bathurstregion.com.au
X-WR-CALDESC:Events for Bathurst Region Tourism
REFRESH-INTERVAL;VALUE=DURATION:PT1H
X-Robots-Tag:noindex
X-PUBLISHED-TTL:PT1H
BEGIN:VTIMEZONE
TZID:Australia/Sydney
BEGIN:STANDARD
TZOFFSETFROM:+1100
TZOFFSETTO:+1000
TZNAME:AEST
DTSTART:20240406T160000
END:STANDARD
BEGIN:DAYLIGHT
TZOFFSETFROM:+1000
TZOFFSETTO:+1100
TZNAME:AEDT
DTSTART:20241005T160000
END:DAYLIGHT
BEGIN:STANDARD
TZOFFSETFROM:+1100
TZOFFSETTO:+1000
TZNAME:AEST
DTSTART:20250405T160000
END:STANDARD
BEGIN:DAYLIGHT
TZOFFSETFROM:+1000
TZOFFSETTO:+1100
TZNAME:AEDT
DTSTART:20251004T160000
END:DAYLIGHT
BEGIN:STANDARD
TZOFFSETFROM:+1100
TZOFFSETTO:+1000
TZNAME:AEST
DTSTART:20260404T160000
END:STANDARD
BEGIN:DAYLIGHT
TZOFFSETFROM:+1000
TZOFFSETTO:+1100
TZNAME:AEDT
DTSTART:20261003T160000
END:DAYLIGHT
END:VTIMEZONE
BEGIN:VEVENT
DTSTART;TZID=Australia/Sydney:20251118T100000
DTEND;TZID=Australia/Sydney:20251118T130000
DTSTAMP:20260424T052323
CREATED:20251015T012930Z
LAST-MODIFIED:20251015T012930Z
UID:10004136-1763460000-1763470800@www.bathurstregion.com.au
SUMMARY:Telling Your Truths: Writing about Illness and Disability
DESCRIPTION:FREE. Limited Spaces. Bookings Essential – 6333 6281 \nIn this workshop\, Kim Kelly and Michelle Hamadache will share their stories of writing about and with illness and disability with practical writing advice.\nParticipants will also be encouraged to experiment with how they might express themselves\, and how to give themselves permission to write their truths in the ways that suits them best\, be that through life-writing\, fiction or poetry – to say the things we can’t say or the things that aren’t heard within doctors’ offices or even among friends. \nLiving with illness or disability\, or caring for a loved one living with health challenges\, can be isolating. We’re given lots of medical advice and helpful and not-so-helpful opinions on how to get through\, but at the end of the day we’re alone with our thoughts and experiences.\nWe’re often told of the therapeutic benefits of creativity and sharing our stories\, but how do we go about accessing the creative part of ourselves?\nThere’s also often a little voice in our heads saying\, ‘Why bother?’ or ‘I don’t have anything important to say’. But everyone has something important to say about their unique experience of life. \nTea and coffee provided. \nAbout the writers\nDr Michelle Hamadache teaches Creative Writing at Macquarie University and is editor of the magazine Mascara Literary Review. Her story on her father’s dementia appears in the anthology Writing Illness and Disability: Poised on the Pointe of Pain: Nureyev’s Foot and Other Essays. \nKim Kelly is the author of several novels. She is also currently in the midst of Creative Writing PhD research at Macquarie University. Her essay on kidney donation appears in the anthology Writing Illness and Disability: Poised on the Pointe of Pain: Nureyev’s Foot and Other Essays. She lives in Millthorpe.
URL:https://www.bathurstregion.com.au/event/telling-your-truths-writing-about-illness-and-disability/
LOCATION:Bathurst Library\, 70 -78 Keppel Street\, Bathurst\, New South Wales\, 2795\, Australia
CATEGORIES:Classes, Lessons, Workshops and Talks
ATTACH;FMTTYPE=image/png:https://www.bathurstregion.com.au/wp-content/uploads/2025/10/2025-BVIC-TEMPLATE-6.png
ORGANIZER;CN="Bathurst Library":MAILTO:library@bathurst.nsw.gov.au
END:VEVENT
BEGIN:VEVENT
DTSTART;TZID=Australia/Sydney:20251118T123000
DTEND;TZID=Australia/Sydney:20251118T134500
DTSTAMP:20260424T052323
CREATED:20250902T055353Z
LAST-MODIFIED:20250902T055353Z
UID:10004336-1763469000-1763473500@www.bathurstregion.com.au
SUMMARY:Blayney Public School Presents Childhood Favourites
DESCRIPTION:Blayney Public School students present their performance\n“Childhood Favourites“. \nEach class from K-6 will perform a musical number from a favourite childhood movie. \nWe look forward to seeing you at BMEC! \nThe audience can purchase tickets to attend the dress rehearsal at 10:15am\, or the performance at 12:30pm.
URL:https://www.bathurstregion.com.au/event/blayney-public-school-presents-childhood-favourites/2025-11-18/
LOCATION:Bathurst Memorial Entertainment Centre\, 105 William Street\, Bathurst\, New South Wales\, 2795\, Australia
CATEGORIES:Concert or Performance
ATTACH;FMTTYPE=image/png:https://www.bathurstregion.com.au/wp-content/uploads/2025/09/BHSCrest_PNG-red-Blayney.png
ORGANIZER;CN="Bathurst Memorial Entertainment Centre":MAILTO:bmec@bathurst.nsw.gov.au
END:VEVENT
END:VCALENDAR