
BEGIN:VCALENDAR
VERSION:2.0
PRODID:-//Bathurst Region Tourism - ECPv6.15.16//NONSGML v1.0//EN
CALSCALE:GREGORIAN
METHOD:PUBLISH
X-WR-CALNAME:Bathurst Region Tourism
X-ORIGINAL-URL:https://www.bathurstregion.com.au
X-WR-CALDESC:Events for Bathurst Region Tourism
REFRESH-INTERVAL;VALUE=DURATION:PT1H
X-Robots-Tag:noindex
X-PUBLISHED-TTL:PT1H
BEGIN:VTIMEZONE
TZID:Australia/Sydney
BEGIN:STANDARD
TZOFFSETFROM:+1100
TZOFFSETTO:+1000
TZNAME:AEST
DTSTART:20240406T160000
END:STANDARD
BEGIN:DAYLIGHT
TZOFFSETFROM:+1000
TZOFFSETTO:+1100
TZNAME:AEDT
DTSTART:20241005T160000
END:DAYLIGHT
BEGIN:STANDARD
TZOFFSETFROM:+1100
TZOFFSETTO:+1000
TZNAME:AEST
DTSTART:20250405T160000
END:STANDARD
BEGIN:DAYLIGHT
TZOFFSETFROM:+1000
TZOFFSETTO:+1100
TZNAME:AEDT
DTSTART:20251004T160000
END:DAYLIGHT
BEGIN:STANDARD
TZOFFSETFROM:+1100
TZOFFSETTO:+1000
TZNAME:AEST
DTSTART:20260404T160000
END:STANDARD
BEGIN:DAYLIGHT
TZOFFSETFROM:+1000
TZOFFSETTO:+1100
TZNAME:AEDT
DTSTART:20261003T160000
END:DAYLIGHT
END:VTIMEZONE
BEGIN:VEVENT
DTSTART;TZID=Australia/Sydney:20251115T123000
DTEND;TZID=Australia/Sydney:20251115T134500
DTSTAMP:20260424T222425
CREATED:20250902T055353Z
LAST-MODIFIED:20250902T055353Z
UID:10004333-1763209800-1763214300@www.bathurstregion.com.au
SUMMARY:Blayney Public School Presents Childhood Favourites
DESCRIPTION:Blayney Public School students present their performance\n“Childhood Favourites“. \nEach class from K-6 will perform a musical number from a favourite childhood movie. \nWe look forward to seeing you at BMEC! \nThe audience can purchase tickets to attend the dress rehearsal at 10:15am\, or the performance at 12:30pm.
URL:https://www.bathurstregion.com.au/event/blayney-public-school-presents-childhood-favourites/2025-11-15/
LOCATION:Bathurst Memorial Entertainment Centre\, 105 William Street\, Bathurst\, New South Wales\, 2795\, Australia
CATEGORIES:Concert or Performance
ATTACH;FMTTYPE=image/png:https://www.bathurstregion.com.au/wp-content/uploads/2025/09/BHSCrest_PNG-red-Blayney.png
ORGANIZER;CN="Bathurst Memorial Entertainment Centre":MAILTO:bmec@bathurst.nsw.gov.au
END:VEVENT
BEGIN:VEVENT
DTSTART;TZID=Australia/Sydney:20251115T190000
DTEND;TZID=Australia/Sydney:20251115T210000
DTSTAMP:20260424T222425
CREATED:20250605T022425Z
LAST-MODIFIED:20250605T022425Z
UID:10004246-1763233200-1763240400@www.bathurstregion.com.au
SUMMARY:The Saturday Night Social
DESCRIPTION:Don’t you ever wish you could travel back to the Saturday night dance?\nTake a spin across a glassy floor\, to a swinging live band under sparkling lights? \nOn this special Saturday night\, you can! Join Dance Makers Collective with live music from Felix Albert and the Gentlemanly Two in a solid evening of joyous dancing with your partners\, family and friends. \nThis event\, a spin-off of Dance Makers Collective’s 2020 Sydney Festival hit The Rivoli\, takes inspiration from the peak dance hall and disco eras\, reimagined for the modern lover of dancing. \nWhether you have a dance partner\, like a night out on the town\, or have a boogie in your bedroom\, The Saturday Night Social is the place for you! \nAbout the band – Felix Albert and the Gentlemanly Two \nPutting their own spin on tunes from recent times to back from the 1940’s and all rockin’ points in between the boy’s blast through a list of songs that can only result in full dance floors and sheer amazement of the skill and finesse with which they execute their unique style of Rockabilly. \nThe Central West outfit includes Pete “Felix Albert” Thoms on upright bass and vocals\, Ebbo “Wrecking Ball” Brown on drums\, Hughie “Hotrod” Brown (no relation) on electric guitar and lap steel.
URL:https://www.bathurstregion.com.au/event/the-saturday-night-social/
LOCATION:Bathurst Memorial Entertainment Centre\, 105 William Street\, Bathurst\, New South Wales\, 2795\, Australia
CATEGORIES:Concert or Performance
ATTACH;FMTTYPE=image/png:https://www.bathurstregion.com.au/wp-content/uploads/2025/06/Screenshot-2025-06-05-120222.png
ORGANIZER;CN="Bathurst Memorial Entertainment Centre":MAILTO:bmec@bathurst.nsw.gov.au
END:VEVENT
END:VCALENDAR