
BEGIN:VCALENDAR
VERSION:2.0
PRODID:-//Bathurst Region Tourism - ECPv6.15.16//NONSGML v1.0//EN
CALSCALE:GREGORIAN
METHOD:PUBLISH
X-ORIGINAL-URL:https://www.bathurstregion.com.au
X-WR-CALDESC:Events for Bathurst Region Tourism
REFRESH-INTERVAL;VALUE=DURATION:PT1H
X-Robots-Tag:noindex
X-PUBLISHED-TTL:PT1H
BEGIN:VTIMEZONE
TZID:Australia/Sydney
BEGIN:STANDARD
TZOFFSETFROM:+1100
TZOFFSETTO:+1000
TZNAME:AEST
DTSTART:20240406T160000
END:STANDARD
BEGIN:DAYLIGHT
TZOFFSETFROM:+1000
TZOFFSETTO:+1100
TZNAME:AEDT
DTSTART:20241005T160000
END:DAYLIGHT
BEGIN:STANDARD
TZOFFSETFROM:+1100
TZOFFSETTO:+1000
TZNAME:AEST
DTSTART:20250405T160000
END:STANDARD
BEGIN:DAYLIGHT
TZOFFSETFROM:+1000
TZOFFSETTO:+1100
TZNAME:AEDT
DTSTART:20251004T160000
END:DAYLIGHT
BEGIN:STANDARD
TZOFFSETFROM:+1100
TZOFFSETTO:+1000
TZNAME:AEST
DTSTART:20260404T160000
END:STANDARD
BEGIN:DAYLIGHT
TZOFFSETFROM:+1000
TZOFFSETTO:+1100
TZNAME:AEDT
DTSTART:20261003T160000
END:DAYLIGHT
END:VTIMEZONE
BEGIN:VEVENT
DTSTART;TZID=Australia/Sydney:20251017T123000
DTEND;TZID=Australia/Sydney:20251017T134500
DTSTAMP:20260426T025133
CREATED:20250902T055353Z
LAST-MODIFIED:20250902T055353Z
UID:10004304-1760704200-1760708700@www.bathurstregion.com.au
SUMMARY:Blayney Public School Presents Childhood Favourites
DESCRIPTION:Blayney Public School students present their performance\n“Childhood Favourites“. \nEach class from K-6 will perform a musical number from a favourite childhood movie. \nWe look forward to seeing you at BMEC! \nThe audience can purchase tickets to attend the dress rehearsal at 10:15am\, or the performance at 12:30pm.
URL:https://www.bathurstregion.com.au/event/blayney-public-school-presents-childhood-favourites/2025-10-17/
LOCATION:Bathurst Memorial Entertainment Centre\, 105 William Street\, Bathurst\, New South Wales\, 2795\, Australia
CATEGORIES:Concert or Performance
ATTACH;FMTTYPE=image/png:https://www.bathurstregion.com.au/wp-content/uploads/2025/09/BHSCrest_PNG-red-Blayney.png
ORGANIZER;CN="Bathurst Memorial Entertainment Centre":MAILTO:bmec@bathurst.nsw.gov.au
END:VEVENT
BEGIN:VEVENT
DTSTART;TZID=Australia/Sydney:20251017T190000
DTEND;TZID=Australia/Sydney:20251017T213000
DTSTAMP:20260426T025133
CREATED:20250723T054642Z
LAST-MODIFIED:20250723T054643Z
UID:10004526-1760727600-1760736600@www.bathurstregion.com.au
SUMMARY:Sleuthed – Crimes That Haunt Us
DESCRIPTION:Step into the shadows with Amanda Howard and James Phelps – two true crime experts exploring the darkest corners of Australia’s criminal past.\n\nFrom the blood-soaked soil of Belanglo State Forest to ghost infested prison cells\, these stories aren’t just unsettling – they’re unresolved.\n\nIn this true crime double bill\, Amanda Howard – “The Serial Killer Whisperer” – explores the chilling legacy of Belanglo State Forest\, a place stained by some of the nation’s darkest chapters. From the infamous crimes of Ivan Milat to lesser-known but equally horrifying events\, Amanda reveals and explores the crimes and why this forest continues to haunt the Australian psyche.\n\nThen\, James Phelps\, bestselling author and investigative journalist\, takes you deeper into the unknown\, unearthing cases where true crime and the paranormal collide – haunted prisons\, cursed crime scenes\, and stories too strange to explain. Perfectly timed for Halloween\, this evening is for those who love the sinister and spookier side of storytelling – where fact meets folklore and some crimes refuse to be forgotten.\n\nPerfectly timed for Halloween\, this event is for those who love the sinister and spookier side of storytelling.
URL:https://www.bathurstregion.com.au/event/sleuthed-crimes-that-haunt-us/
LOCATION:Bathurst Memorial Entertainment Centre\, 105 William Street\, Bathurst\, New South Wales\, 2795\, Australia
CATEGORIES:Concert or Performance
ATTACH;FMTTYPE=image/jpeg:https://www.bathurstregion.com.au/wp-content/uploads/2025/07/Sleuthed_banner.jpg
ORGANIZER;CN="Bathurst Memorial Entertainment Centre":MAILTO:bmec@bathurst.nsw.gov.au
END:VEVENT
END:VCALENDAR