
BEGIN:VCALENDAR
VERSION:2.0
PRODID:-//Bathurst Region Tourism - ECPv6.15.16//NONSGML v1.0//EN
CALSCALE:GREGORIAN
METHOD:PUBLISH
X-ORIGINAL-URL:https://www.bathurstregion.com.au
X-WR-CALDESC:Events for Bathurst Region Tourism
REFRESH-INTERVAL;VALUE=DURATION:PT1H
X-Robots-Tag:noindex
X-PUBLISHED-TTL:PT1H
BEGIN:VTIMEZONE
TZID:Australia/Sydney
BEGIN:STANDARD
TZOFFSETFROM:+1100
TZOFFSETTO:+1000
TZNAME:AEST
DTSTART:20240406T160000
END:STANDARD
BEGIN:DAYLIGHT
TZOFFSETFROM:+1000
TZOFFSETTO:+1100
TZNAME:AEDT
DTSTART:20241005T160000
END:DAYLIGHT
BEGIN:STANDARD
TZOFFSETFROM:+1100
TZOFFSETTO:+1000
TZNAME:AEST
DTSTART:20250405T160000
END:STANDARD
BEGIN:DAYLIGHT
TZOFFSETFROM:+1000
TZOFFSETTO:+1100
TZNAME:AEDT
DTSTART:20251004T160000
END:DAYLIGHT
BEGIN:STANDARD
TZOFFSETFROM:+1100
TZOFFSETTO:+1000
TZNAME:AEST
DTSTART:20260404T160000
END:STANDARD
BEGIN:DAYLIGHT
TZOFFSETFROM:+1000
TZOFFSETTO:+1100
TZNAME:AEDT
DTSTART:20261003T160000
END:DAYLIGHT
END:VTIMEZONE
BEGIN:VEVENT
DTSTART;TZID=Australia/Sydney:20251011T123000
DTEND;TZID=Australia/Sydney:20251011T134500
DTSTAMP:20260426T080828
CREATED:20250902T055353Z
LAST-MODIFIED:20250902T055353Z
UID:10004298-1760185800-1760190300@www.bathurstregion.com.au
SUMMARY:Blayney Public School Presents Childhood Favourites
DESCRIPTION:Blayney Public School students present their performance\n“Childhood Favourites“. \nEach class from K-6 will perform a musical number from a favourite childhood movie. \nWe look forward to seeing you at BMEC! \nThe audience can purchase tickets to attend the dress rehearsal at 10:15am\, or the performance at 12:30pm.
URL:https://www.bathurstregion.com.au/event/blayney-public-school-presents-childhood-favourites/2025-10-11/
LOCATION:Bathurst Memorial Entertainment Centre\, 105 William Street\, Bathurst\, New South Wales\, 2795\, Australia
CATEGORIES:Concert or Performance
ATTACH;FMTTYPE=image/png:https://www.bathurstregion.com.au/wp-content/uploads/2025/09/BHSCrest_PNG-red-Blayney.png
ORGANIZER;CN="Bathurst Memorial Entertainment Centre":MAILTO:bmec@bathurst.nsw.gov.au
END:VEVENT
BEGIN:VEVENT
DTSTART;TZID=Australia/Sydney:20251011T190000
DTEND;TZID=Australia/Sydney:20251011T220000
DTSTAMP:20260426T080828
CREATED:20251007T030812Z
LAST-MODIFIED:20251007T030812Z
UID:10004617-1760209200-1760220000@www.bathurstregion.com.au
SUMMARY:Nathan Cavaleri: Blues With A Story
DESCRIPTION:A night of blues-rock\, captivating stories\, and spine-tingling moments.\nAs seen on ABC’s Australian Story\, Nathan Cavaleri’s life has been anything but ordinary—world tours at 8\, playing with B.B. King\, surviving leukemia\, and stepping away from fame… only to return with more purpose than ever.\nWith New Blues With A Story\, Nathan delivers more than a gig. Expect blistering guitar work\,\nrich vocals\, and stories that cut through—unexpectedly vulnerable\, disarmingly real\, and deeply felt.\nThis is a show that leaves a mark.
URL:https://www.bathurstregion.com.au/event/nathan-cavaleri-blues-with-a-story/
LOCATION:KeyStone 1889\, 99 Keppel St\, Bathurst\, 2795
CATEGORIES:Community Event,Concert or Performance,Food and Wine,History and Heritage
ATTACH;FMTTYPE=image/png:https://www.bathurstregion.com.au/wp-content/uploads/2025/10/IMG_2758.png
ORGANIZER;CN="KeyStone 1889":MAILTO:trish@keystone1889.com
END:VEVENT
BEGIN:VEVENT
DTSTART;TZID=Australia/Sydney:20251011T193000
DTEND;TZID=Australia/Sydney:20251011T230000
DTSTAMP:20260426T080828
CREATED:20250430T062711Z
LAST-MODIFIED:20250430T062711Z
UID:10003816-1760211000-1760223600@www.bathurstregion.com.au
SUMMARY:LIVE MUSIC | The Mud Monkeys
DESCRIPTION:Enjoy some live and local entertainment at Panthers Bathurst with the Mud Monkeys!\n\nAfter what started out as a few mates getting together to have a bit of fun playing music together The Mud Monkeys came to life late in 2008. They are a covers band that plays hit songs from the 60’s to the 00’s\, priding themselves on playing the songs just like they sounded on the radio when they were released.\n\nWith Dave Newstead on Guitar\, Greg Bell on Bass and Andrew Elliott on Drums they have over 60 years of experience in the music industry. The band has played over 400 gigs together and have played for crowds in private settings of twenty\, to corporate events for thousands.
URL:https://www.bathurstregion.com.au/event/live-music-the-mud-monkeys/
LOCATION:Panthers Bathurst\, 132 Piper Street\, Bathurst\, NSW\, 2795\, Australia
CATEGORIES:Concert or Performance
ATTACH;FMTTYPE=image/jpeg:https://www.bathurstregion.com.au/wp-content/uploads/2025/04/Resized_band_photo_psd_1-1.jpeg
END:VEVENT
END:VCALENDAR