
BEGIN:VCALENDAR
VERSION:2.0
PRODID:-//Bathurst Region Tourism - ECPv6.15.16//NONSGML v1.0//EN
CALSCALE:GREGORIAN
METHOD:PUBLISH
X-ORIGINAL-URL:https://www.bathurstregion.com.au
X-WR-CALDESC:Events for Bathurst Region Tourism
REFRESH-INTERVAL;VALUE=DURATION:PT1H
X-Robots-Tag:noindex
X-PUBLISHED-TTL:PT1H
BEGIN:VTIMEZONE
TZID:Australia/Sydney
BEGIN:STANDARD
TZOFFSETFROM:+1100
TZOFFSETTO:+1000
TZNAME:AEST
DTSTART:20240406T160000
END:STANDARD
BEGIN:DAYLIGHT
TZOFFSETFROM:+1000
TZOFFSETTO:+1100
TZNAME:AEDT
DTSTART:20241005T160000
END:DAYLIGHT
BEGIN:STANDARD
TZOFFSETFROM:+1100
TZOFFSETTO:+1000
TZNAME:AEST
DTSTART:20250405T160000
END:STANDARD
BEGIN:DAYLIGHT
TZOFFSETFROM:+1000
TZOFFSETTO:+1100
TZNAME:AEDT
DTSTART:20251004T160000
END:DAYLIGHT
BEGIN:STANDARD
TZOFFSETFROM:+1100
TZOFFSETTO:+1000
TZNAME:AEST
DTSTART:20260404T160000
END:STANDARD
BEGIN:DAYLIGHT
TZOFFSETFROM:+1000
TZOFFSETTO:+1100
TZNAME:AEDT
DTSTART:20261003T160000
END:DAYLIGHT
END:VTIMEZONE
BEGIN:VEVENT
DTSTART;TZID=Australia/Sydney:20251010T123000
DTEND;TZID=Australia/Sydney:20251010T134500
DTSTAMP:20260426T080740
CREATED:20250902T055353Z
LAST-MODIFIED:20250902T055353Z
UID:10004297-1760099400-1760103900@www.bathurstregion.com.au
SUMMARY:Blayney Public School Presents Childhood Favourites
DESCRIPTION:Blayney Public School students present their performance\n“Childhood Favourites“. \nEach class from K-6 will perform a musical number from a favourite childhood movie. \nWe look forward to seeing you at BMEC! \nThe audience can purchase tickets to attend the dress rehearsal at 10:15am\, or the performance at 12:30pm.
URL:https://www.bathurstregion.com.au/event/blayney-public-school-presents-childhood-favourites/2025-10-10/
LOCATION:Bathurst Memorial Entertainment Centre\, 105 William Street\, Bathurst\, New South Wales\, 2795\, Australia
CATEGORIES:Concert or Performance
ATTACH;FMTTYPE=image/png:https://www.bathurstregion.com.au/wp-content/uploads/2025/09/BHSCrest_PNG-red-Blayney.png
ORGANIZER;CN="Bathurst Memorial Entertainment Centre":MAILTO:bmec@bathurst.nsw.gov.au
END:VEVENT
BEGIN:VEVENT
DTSTART;TZID=Australia/Sydney:20251010T193000
DTEND;TZID=Australia/Sydney:20251010T220000
DTSTAMP:20260426T080740
CREATED:20250430T062711Z
LAST-MODIFIED:20250430T062711Z
UID:10003815-1760124600-1760133600@www.bathurstregion.com.au
SUMMARY:LIVE MUSIC | K'nOath
DESCRIPTION:Get ready for a high-energy night of live rock ‘n’ roll as K’nOath takes the stage at Panthers Bathurst. More than just a pub rock band\, K’nOath is a rendition band\, putting their own spin on your favourite songs with passion and enthusiasm that will have you singing along and dancing from start to finish. \nRe-formed in 2022\, K’nOath delivers electrifying performances that bring classic hits to life\, creating an atmosphere that’s impossible to resist. If you love live music\, this is the place to be. Don’t miss an unforgettable night of great entertainment and rock ‘n’ roll energy at Panthers Bathurst!
URL:https://www.bathurstregion.com.au/event/live-music-knoath/
LOCATION:Panthers Bathurst\, 132 Piper Street\, Bathurst\, NSW\, 2795\, Australia
CATEGORIES:Concert or Performance
ATTACH;FMTTYPE=image/png:https://www.bathurstregion.com.au/wp-content/uploads/2025/04/Live-music-Featured-image-1.png
END:VEVENT
END:VCALENDAR