
BEGIN:VCALENDAR
VERSION:2.0
PRODID:-//Bathurst Region Tourism - ECPv6.15.16//NONSGML v1.0//EN
CALSCALE:GREGORIAN
METHOD:PUBLISH
X-WR-CALNAME:Bathurst Region Tourism
X-ORIGINAL-URL:https://www.bathurstregion.com.au
X-WR-CALDESC:Events for Bathurst Region Tourism
REFRESH-INTERVAL;VALUE=DURATION:PT1H
X-Robots-Tag:noindex
X-PUBLISHED-TTL:PT1H
BEGIN:VTIMEZONE
TZID:Australia/Sydney
BEGIN:STANDARD
TZOFFSETFROM:+1100
TZOFFSETTO:+1000
TZNAME:AEST
DTSTART:20250405T160000
END:STANDARD
BEGIN:DAYLIGHT
TZOFFSETFROM:+1000
TZOFFSETTO:+1100
TZNAME:AEDT
DTSTART:20251004T160000
END:DAYLIGHT
BEGIN:STANDARD
TZOFFSETFROM:+1100
TZOFFSETTO:+1000
TZNAME:AEST
DTSTART:20260404T160000
END:STANDARD
BEGIN:DAYLIGHT
TZOFFSETFROM:+1000
TZOFFSETTO:+1100
TZNAME:AEDT
DTSTART:20261003T160000
END:DAYLIGHT
BEGIN:STANDARD
TZOFFSETFROM:+1100
TZOFFSETTO:+1000
TZNAME:AEST
DTSTART:20270403T160000
END:STANDARD
BEGIN:DAYLIGHT
TZOFFSETFROM:+1000
TZOFFSETTO:+1100
TZNAME:AEDT
DTSTART:20271002T160000
END:DAYLIGHT
END:VTIMEZONE
BEGIN:VEVENT
DTSTART;TZID=Australia/Sydney:20260612T193000
DTEND;TZID=Australia/Sydney:20260612T220000
DTSTAMP:20260421T182443
CREATED:20251111T034612Z
LAST-MODIFIED:20251111T034613Z
UID:10004768-1781292600-1781301600@www.bathurstregion.com.au
SUMMARY:Björn Again – ABBA FOREVER Tour
DESCRIPTION:Bathurst\, get ready to party with BJÖRN AGAIN!\n\nThe only ABBA-endorsed tribute show hits the stage for one spectacular night. It’ll be a Super Trouper celebration of ABBA and their timeless music that the whole family will love.\n\nThis internationally acclaimed show brings the glitter\, the glam\, and all the greatest hits with dazzling energy\, spot-on vocals\, and outrageous costumes. It’s a full-blown ABBA revival where audiences of all ages can sing\, dance\, and party like it’s 1979.\n\nExpect all the classics —SOS\, Mamma Mia\, Dancing Queen\, Gimme! Gimme! Gimme! —plus ballads like The Winner Takes It All\, Fernando\, and Knowing Me\, Knowing You\, performed with incredible musicianship\, a cheeky sense of humour\, and that signature Björn Again magic.\n\nWith performances in over 120 countries\, including The Royal Albert Hall\, Wembley Stadium\, the Sydney Opera House\, and Glastonbury Festival\, BJÖRN AGAIN is a global sensation.\n\nPraised by rock royalty and media worldwide —Metalica\, Nirvana\, Sir Tom Jones\, and ABBA themselves – the show has earned glowing reviews:\n\n“Fans had better make the most out of Björn Again because that’s the closest they are going to get to seeing ABBA. ABBA will never reform!” – Benny Andersson\n\n“One of the most entertaining live shows in the world today.” – Time Out New York “Fabulously flawless!” – Rolling Stone\n\nTell your mum\, tell your grumpy teenager\, tell Fernando – tickets won’t last!
URL:https://www.bathurstregion.com.au/event/bjorn-again-abba-forever-tour/
LOCATION:Bathurst Memorial Entertainment Centre\, 105 William Street\, Bathurst\, New South Wales\, 2795\, Australia
CATEGORIES:Concert or Performance
ATTACH;FMTTYPE=image/jpeg:https://www.bathurstregion.com.au/wp-content/uploads/2025/11/BA-AF2026-DunedinRegentTheatre-28Mar-1980x1020-1.jpg
ORGANIZER;CN="Bathurst Memorial Entertainment Centre":MAILTO:bmec@bathurst.nsw.gov.au
END:VEVENT
BEGIN:VEVENT
DTSTART;TZID=Australia/Sydney:20260613T193000
DTEND;TZID=Australia/Sydney:20260613T204000
DTSTAMP:20260421T182443
CREATED:20260128T234212Z
LAST-MODIFIED:20260128T234212Z
UID:10004896-1781379000-1781383200@www.bathurstregion.com.au
SUMMARY:And Also With You
DESCRIPTION:From the age of 0-18\, Simon Vaughan was a Christian. Not just the ‘tick the box on the census form’ kind but the ‘attend church every week\, read your Bible every day (or at least feel guilty if you don’t)\, constantly praying’ kind. For 18 years\, church was everything from an extended family\, to a school to a dating service. \nAnd Also With You is a storytelling adventure that recounts the good\, the bad and the ‘peace be with you’ of growing up when you FROG (fully rely on God). From youth group camps to purity pledges it’s about living with the weight of original sin on your shoulders and the eventual choice to cast if off. \nThe show is about growing up a Christian\, grappling with life’s biggest questions and ﬁnding your place in the world. When Simon was a Christian\, all his non-Christian friends thought his faith was weird and confusing. When he left the church at 18\, all his Christian friends were devastated and wanted to know what went wrong. The show explains himself to both groups. \nA church service without all the boring stuff\, And Also With You takes you inside church walls to ﬁnd out what life is really like when Jesus is your best friend.
URL:https://www.bathurstregion.com.au/event/and-also-with-you/
LOCATION:Bathurst Memorial Entertainment Centre\, 105 William Street\, Bathurst\, New South Wales\, 2795\, Australia
CATEGORIES:Concert or Performance
ATTACH;FMTTYPE=image/png:https://www.bathurstregion.com.au/wp-content/uploads/2026/01/And-Also-With-You-Image-4.5.png
ORGANIZER;CN="Bathurst Memorial Entertainment Centre":MAILTO:bmec@bathurst.nsw.gov.au
END:VEVENT
BEGIN:VEVENT
DTSTART;TZID=Australia/Sydney:20260619T190000
DTEND;TZID=Australia/Sydney:20260619T200500
DTSTAMP:20260421T182443
CREATED:20260128T234212Z
LAST-MODIFIED:20260128T234212Z
UID:10004897-1781895600-1781899500@www.bathurstregion.com.au
SUMMARY:Blueberry Play
DESCRIPTION:Being 17 is awkward. Having to take care of your sick dad when you’re 17 is another story. Especially when he keeps trying to shave his eyebrows off. \nBlueberry Play is the Griffin Award-shortlisted play from playwright Ang Collins\, presented in a brand new smash-hit production from regional new work powerhouse Lingua Franca. \nA monologue for a solo performer (the astonishing Madelaine Osborn)\, Blueberry Play is a vivid and heart-bursting monologue that explores the high highs and the low lows of being a teenage girl in a small town. From the public pool to the locker rooms at school to back home where things are just a bit topsy-turvy\, this is an Aussie coming-of-age story with a refreshing twist. \nA play for anyone that remember what it feels like being a young person\, Blueberry Play is heart-rending\, intimately observed\, often hilarious\, and packaged in a powerful one-person performance\, and an absolutely unforgettable night out at the theatre. \nThis production was originally supported by Upstage at the Playhouse\, a new work development initiative from the Civic Theatre Newcastle.
URL:https://www.bathurstregion.com.au/event/blueberry-play/
LOCATION:Bathurst Memorial Entertainment Centre\, 105 William Street\, Bathurst\, New South Wales\, 2795\, Australia
CATEGORIES:Concert or Performance
ATTACH;FMTTYPE=image/jpeg:https://www.bathurstregion.com.au/wp-content/uploads/2026/01/Blueberry-Play-1-HERO-photo-by-Edwina-Richards.jpg
ORGANIZER;CN="Bathurst Memorial Entertainment Centre":MAILTO:bmec@bathurst.nsw.gov.au
END:VEVENT
BEGIN:VEVENT
DTSTART;TZID=Australia/Sydney:20260623T193000
DTEND;TZID=Australia/Sydney:20260623T220000
DTSTAMP:20260421T182443
CREATED:20260128T234212Z
LAST-MODIFIED:20260128T234212Z
UID:10004898-1782243000-1782252000@www.bathurstregion.com.au
SUMMARY:Seven Drunken Nights
DESCRIPTION:Proudly celebrating its incredible 10th Anniversary\, having sold out venues worldwide\, Seven Drunken Nights – The Dubliners’ Songbook returns to Australia for 2026! \nPerformed by a phenomenal cast of Irish musicians\, the show is packed full of classics like Whiskey in the Jar\, The Irish Rover and Rocky Road to Dublin – guaranteed to get your toes tapping. \nWith breath taking performances and authentic Irish spirit\, the show spans over 50 years commemorating the music of The Dubliners in association with the legendary O’Donoghues Pub. \nSeven Drunken Nights is the ultimate Irish show that has audiences across the globe returning year after year.
URL:https://www.bathurstregion.com.au/event/seven-drunken-nights/
LOCATION:Bathurst Memorial Entertainment Centre\, 105 William Street\, Bathurst\, New South Wales\, 2795\, Australia
CATEGORIES:Concert or Performance
ATTACH;FMTTYPE=image/jpeg:https://www.bathurstregion.com.au/wp-content/uploads/2026/01/SDN-Aus-1080x1080-1.jpg
ORGANIZER;CN="Bathurst Memorial Entertainment Centre":MAILTO:bmec@bathurst.nsw.gov.au
END:VEVENT
BEGIN:VEVENT
DTSTART;TZID=Australia/Sydney:20260628T130000
DTEND;TZID=Australia/Sydney:20260628T151500
DTSTAMP:20260421T182443
CREATED:20260224T005820Z
LAST-MODIFIED:20260224T005820Z
UID:10004960-1782651600-1782659700@www.bathurstregion.com.au
SUMMARY:BMEC ON-SCREEN Playboy of the Western World
DESCRIPTION:Nicola Coughlan (Bridgerton) joins Éanna Hardwicke (The Sixth Commandment) and Siobhán McSweeney (Derry Girls) in John Millington Synge’s riveting play of youth and self-discovery. \nPegeen Flaherty’s life is turned upside down when a young man walks into her pub claiming that he’s killed his father. Instead of being shunned\, the killer becomes a local hero and begins to win hearts\, that is until a second man unexpectedly arrives on the scene… \nFilmed live on stage at the National Theatre\, Caitríona McLaughlin directs this darkly funny tale full to the brim with secrets.
URL:https://www.bathurstregion.com.au/event/bmec-on-screen-playboy-of-the-western-world/
LOCATION:Bathurst Memorial Entertainment Centre\, 105 William Street\, Bathurst\, New South Wales\, 2795\, Australia
CATEGORIES:Concert or Performance
ATTACH;FMTTYPE=image/jpeg:https://www.bathurstregion.com.au/wp-content/uploads/2026/02/The-Playboy-of-the-Western-World-at-the-National-Theatre.-c-Marc-Brenner-0003-scaled.jpg
ORGANIZER;CN="Bathurst Memorial Entertainment Centre":MAILTO:bmec@bathurst.nsw.gov.au
END:VEVENT
END:VCALENDAR