
BEGIN:VCALENDAR
VERSION:2.0
PRODID:-//Bathurst Region Tourism - ECPv6.15.16//NONSGML v1.0//EN
CALSCALE:GREGORIAN
METHOD:PUBLISH
X-ORIGINAL-URL:https://www.bathurstregion.com.au
X-WR-CALDESC:Events for Bathurst Region Tourism
REFRESH-INTERVAL;VALUE=DURATION:PT1H
X-Robots-Tag:noindex
X-PUBLISHED-TTL:PT1H
BEGIN:VTIMEZONE
TZID:Australia/Sydney
BEGIN:STANDARD
TZOFFSETFROM:+1100
TZOFFSETTO:+1000
TZNAME:AEST
DTSTART:20250405T160000
END:STANDARD
BEGIN:DAYLIGHT
TZOFFSETFROM:+1000
TZOFFSETTO:+1100
TZNAME:AEDT
DTSTART:20251004T160000
END:DAYLIGHT
BEGIN:STANDARD
TZOFFSETFROM:+1100
TZOFFSETTO:+1000
TZNAME:AEST
DTSTART:20260404T160000
END:STANDARD
BEGIN:DAYLIGHT
TZOFFSETFROM:+1000
TZOFFSETTO:+1100
TZNAME:AEDT
DTSTART:20261003T160000
END:DAYLIGHT
BEGIN:STANDARD
TZOFFSETFROM:+1100
TZOFFSETTO:+1000
TZNAME:AEST
DTSTART:20270403T160000
END:STANDARD
BEGIN:DAYLIGHT
TZOFFSETFROM:+1000
TZOFFSETTO:+1100
TZNAME:AEDT
DTSTART:20271002T160000
END:DAYLIGHT
END:VTIMEZONE
BEGIN:VEVENT
DTSTART;TZID=Australia/Sydney:20260502T200000
DTEND;TZID=Australia/Sydney:20260502T223000
DTSTAMP:20260421T182638
CREATED:20260128T234212Z
LAST-MODIFIED:20260128T234212Z
UID:10004895-1777752000-1777761000@www.bathurstregion.com.au
SUMMARY:Godspell
DESCRIPTION:Before Wicked\, Stephen Schwartz burst onto the music theatre scene with Godspell\, introducing his ability to discover new meaning in established narratives. Equal parts playful and profound\, Godspell is a theatrical celebration that reminds us what truly matters\, and in 2026 BMMS is staging a special charity production of the timeless hit. \nOnly one performance at the Bathurst Memorial Entertainment Centre\, with all profits going towards the Central Tablelands and Blue Mountains Community Legal Centre. \nIn a world of increasing polarisation\, social inequality and uncertainty\, Godspell\, with its themes of compassion and generosity\, is a humorous and lively exploration of the value of community and connection. With rich harmonies\, a live 6-piece band\, and hits like Day by Day & Turn Back\, O Man\, the show’s eclectic mix of pop\, rock\, gospel\, and vaudeville makes for an infectious soundtrack.
URL:https://www.bathurstregion.com.au/event/godspell/
LOCATION:Bathurst Memorial Entertainment Centre\, 105 William Street\, Bathurst\, New South Wales\, 2795\, Australia
CATEGORIES:Concert or Performance
ATTACH;FMTTYPE=image/png:https://www.bathurstregion.com.au/wp-content/uploads/2026/01/v_TGdkuw.png
ORGANIZER;CN="Bathurst Memorial Entertainment Centre":MAILTO:bmec@bathurst.nsw.gov.au
END:VEVENT
BEGIN:VEVENT
DTSTART;TZID=Australia/Sydney:20260508T180000
DTEND;TZID=Australia/Sydney:20260508T190000
DTSTAMP:20260421T182638
CREATED:20260324T230922Z
LAST-MODIFIED:20260324T230925Z
UID:10005019-1778263200-1778266800@www.bathurstregion.com.au
SUMMARY:History Talk: Machattie Park
DESCRIPTION:How does a gaol in the centre of town become the ‘beauty spot of the West?’ Join Bathurst local Jan Page to find out in this history talk about Machattie Park.\nBookings essential: Call 6333 6281.\nMachattie Park in the heart of Bathurst is much-loved by locals and visitors alike who are drawn to its peaceful shade\, beautiful features and gardens\, and the spectacular annual begonia display.  It is a place for gatherings and celebrations and a place of memories both personal and of prominent Bathurstians.  The beautiful park stands on the site of Bathurst’s second gaol\, and its story is a fascinating one of transformation.  \nDescribed as “the beauty spot of the West”\, Machattie Park was at the heart of civic events and public entertainment with grand occasions\, regular band concerts and fund-raising activities.  Although there have been changes over the years as the plantings matured and successive gardeners adapted to the evolving garden and changing times\, the Victorian design of the original vision remains.\nJan Page OAM is the author of Machattie Park Bathurst. A well-known local\, Jan is also President of the Friends of Bathurst War Memorial Carillon and President of the Bathurst Family History Group. \nThis talk is part of the Australian Heritage Festival 2026 celebrating the theme ‘Change’.\nImage: Courtesy Bathurst District Historical Society
URL:https://www.bathurstregion.com.au/event/history-talk-machattie-park/
LOCATION:Bathurst Library\, 70 -78 Keppel Street\, Bathurst\, New South Wales\, 2795\, Australia
CATEGORIES:Classes, Lessons, Workshops and Talks,History and Heritage
ATTACH;FMTTYPE=image/png:https://www.bathurstregion.com.au/wp-content/uploads/2026/03/BVIC-Machattie.png
ORGANIZER;CN="Bathurst Library":MAILTO:library@bathurst.nsw.gov.au
END:VEVENT
BEGIN:VEVENT
DTSTART;TZID=Australia/Sydney:20260510T150000
DTEND;TZID=Australia/Sydney:20260510T170000
DTSTAMP:20260421T182638
CREATED:20251216T215938Z
LAST-MODIFIED:20260219T211225Z
UID:10004722-1778425200-1778432400@www.bathurstregion.com.au
SUMMARY:Australian Haydn Ensemble – Beethoven's Fourth
DESCRIPTION:How does that one go again? Neglected even amongst Beethoven’s even-numbered “B-side” symphonies\, No. 4 in B flat can be slow to spring to mind\, but once that effervescent first subject banishes the mock-gloomy introduction\, the delights of this work come flooding back. “Masterclass” is applicable\, but it’s far too much fun for that. The Watts arrangement for flute and string sextet lends a filigree of clarity to a warm and witty work that will leave audiences beaming. \nPre-interval also sees the AHE in miniature symphonic mode. In 2025\, listeners loved the Linz\, so roll on Mozart’s prequel\, The Haffner Symphony\, K. 385\, also presented in Cimador’s bite-sized arrangement. Written in a whirlwind of deadlines\, weddings and house-moving\, Mozart famously forgot he’d composed it at all – only to discover it was rather good. Generations of listeners agree: it brims over with opera buffa bravura and rollicking rhythm. \nBoccherini may be short on symphonies to pare down\, but his predilection for extra bottom end with his string quintets always gives them an ambition beyond the chamber. The one in A minor from 1778’s Op. 25 has the deep lustre and nobility of a substantial work. As you’ll discover\, there’s no shortage of his unmistakable character: from galloping caballos to a closing rondo in Turkish style. \nLean and lovely fare and a fourth to be reckoned with. \nBMEC’s presentation of The Australian Haydn Ensemble is proudly sponsored by Ben Gelin OAM Solicitor and Notary Public. \nEvent Notes: Genre Classical Music\nAge: All ages
URL:https://www.bathurstregion.com.au/event/australian-haydn-ensemble-beethovens-fourth/
LOCATION:Bathurst Memorial Entertainment Centre\, 105 William Street\, Bathurst\, New South Wales\, 2795\, Australia
CATEGORIES:Concert or Performance
ATTACH;FMTTYPE=image/jpeg:https://www.bathurstregion.com.au/wp-content/uploads/2025/12/Australian-Haydn-Ensemble-–-Beethovens-Fourth.jpg
ORGANIZER;CN="Bathurst Memorial Entertainment Centre":MAILTO:bmec@bathurst.nsw.gov.au
END:VEVENT
BEGIN:VEVENT
DTSTART;TZID=Australia/Sydney:20260517T103000
DTEND;TZID=Australia/Sydney:20260517T143000
DTSTAMP:20260421T182638
CREATED:20221026T003343Z
LAST-MODIFIED:20251003T015433Z
UID:10003886-1779013800-1779028200@www.bathurstregion.com.au
SUMMARY:Bathurst Miniature Railway
DESCRIPTION:Pack a picnic lunch and take the kids down to the miniature railway to enjoy a few rides on working scale model trains\, just across the road from the Adventure Playground. Covered shoes must be worn. Trains run the 3rd Sunday of the month\, weather permitting.
URL:https://www.bathurstregion.com.au/event/bathurst-miniature-railway/2026-05-17/
LOCATION:John Matthews Sporting Complex\, Durham Street\, Bathurst\, New South Wales\, 2795\, Australia
CATEGORIES:Community Event,History and Heritage
ATTACH;FMTTYPE=image/jpeg:https://www.bathurstregion.com.au/wp-content/uploads/2022/10/Minature-railway2-1.jpg
ORGANIZER;CN="Bathurst Miniature Railway Society":MAILTO:bxminirail@gmail.com
END:VEVENT
BEGIN:VEVENT
DTSTART;TZID=Australia/Sydney:20260517T110000
DTEND;TZID=Australia/Sydney:20260517T133000
DTSTAMP:20260421T182638
CREATED:20260421T053326Z
LAST-MODIFIED:20260421T053327Z
UID:10005040-1779015600-1779024600@www.bathurstregion.com.au
SUMMARY:Big Band Blast Bandemonium
DESCRIPTION:The Ultimate Weekend of Big Band Music Returns!\nGet ready for another unforgettable weekend as the Big Band Blast Festival swings back into Bathurst!\nExperience the energy\, talent\, and rhythm of Australia’s finest young musicians in a celebration of big band\nmusic like no other.\n\nBandemonium – Student Showcase\nThe Big Band Blast Festival concludes with an electrifying showcase featuring 15 talented high school big bands from across the region and beyond. With performances happening simultaneously across 4 stages\, you’ll have the freedom to explore and enjoy the incredible variety of sounds throughout the day. Move from stage to stage at your own pace and immerse yourself in the energy\, skill\, and passion of Australia’s next generation of jazz musicians. It’s a dynamic\, festival-style experience where every performance brings something special—don’t miss this chance to catch all the action!\n\nAbout Big Band Blast\nNow in its 12th year\, Big Band Blast continues to provide outstanding educational and performance opportunities for high school big bands from across Australia. Proudly supported by The Mitchell Conservatorium of Music and Festivals Australia\, this event celebrates creativity\, collaboration\, and community spirit—right here in Bathurst.\n\nDon’t Miss Out!\nJoin the fun\, feel the rhythm\, and be part of the excitement that makes Big Band Blast a highlight of the Bathurst cultural calendar. Book your tickets now and secure your seat for an incredible weekend of big band brilliance!
URL:https://www.bathurstregion.com.au/event/big-band-blast-bandemonium/
LOCATION:Bathurst Memorial Entertainment Centre\, 105 William Street\, Bathurst\, New South Wales\, 2795\, Australia
CATEGORIES:Concert or Performance
ATTACH;FMTTYPE=image/jpeg:https://www.bathurstregion.com.au/wp-content/uploads/2026/04/Picture1-1-1-scaled.jpg
ORGANIZER;CN="Bathurst Memorial Entertainment Centre":MAILTO:bmec@bathurst.nsw.gov.au
END:VEVENT
BEGIN:VEVENT
DTSTART;TZID=Australia/Sydney:20260520T193000
DTEND;TZID=Australia/Sydney:20260520T204000
DTSTAMP:20260421T182638
CREATED:20260128T234244Z
LAST-MODIFIED:20260128T234244Z
UID:10004894-1779305400-1779309600@www.bathurstregion.com.au
SUMMARY:Lose To Win
DESCRIPTION:An extraordinary journey from South Sudan to the stage. \n“In this country\, you think it’s your right to have three meals a day. Me\, where I came from? I think it’s a miracle.” \nFrom South Sudan to Egypt to Australia\, this is the extraordinary journey of Mandela Mathia. Fleeing his war-torn home as a child\, Mandela spent many years journeying\, searching\, and eventually finding his way to our stage. This is a joyful\, poignant solo show\, straight from the man who lived it. \nA celebration of the South Sudanese community\, of resilience\, and the power of imagination\, Lose To Win is an astonishing modern Australian story.” \n★★★★ Sydney Arts Guide – “It’s that big smile again. He can say something difficult with a grin and we smile back.” \nSydney Morning Herald – “Not a soul is born without a backstory\, but few are as gripping as Mandela Mathia’s.” \nTheatre Reds – “Mandela Mathia has an extraordinary stage presence – warm and generous spirited.”
URL:https://www.bathurstregion.com.au/event/lose-to-win/
LOCATION:Bathurst Memorial Entertainment Centre\, 105 William Street\, Bathurst\, New South Wales\, 2795\, Australia
CATEGORIES:Concert or Performance
ATTACH;FMTTYPE=image/jpeg:https://www.bathurstregion.com.au/wp-content/uploads/2026/01/Lose-to-Win_Hero_Landscape.jpg
ORGANIZER;CN="Bathurst Memorial Entertainment Centre":MAILTO:bmec@bathurst.nsw.gov.au
END:VEVENT
BEGIN:VEVENT
DTSTART;TZID=Australia/Sydney:20260522T180000
DTEND;TZID=Australia/Sydney:20260522T220000
DTSTAMP:20260421T182638
CREATED:20260408T220928Z
LAST-MODIFIED:20260408T220928Z
UID:10005027-1779472800-1779487200@www.bathurstregion.com.au
SUMMARY:Evening Ragas at the Keystone
DESCRIPTION:This will be a very rare concert of North Indian classical music featuring 8th generation Sarangi master Sangeet Mishra from India and Local musician Rob Shannon accompanying on tabla ( drums).\nBack after his sell out concert at BRAG 3 years ago\, this concert promises to take the listener on a soulful journey into the heart of Indian classical music.\nThe Friday evening concert will also include a dinner and concert option as well.\nFor anyone who loves fine music be it Classical or Jazz\, this music will inspire you to want to look into this profoundly beautiful music.\nTo take the audience even deeper into the culture\, the performance is accompanied by a projection of Sunset on the Ganges and through the streets of Varanasi (Benares) the Holy city Sangeets home town
URL:https://www.bathurstregion.com.au/event/evening-ragas-at-the-keystone/
LOCATION:KeyStone 1889\, 99 Keppel St\, Bathurst\, 2795
CATEGORIES:Concert or Performance
ATTACH;FMTTYPE=image/png:https://www.bathurstregion.com.au/wp-content/uploads/2026/04/Blue-flames-copy.png
ORGANIZER;CN="KeyStone 1889":MAILTO:trish@keystone1889.com
END:VEVENT
BEGIN:VEVENT
DTSTART;TZID=Australia/Sydney:20260524T100000
DTEND;TZID=Australia/Sydney:20260524T120000
DTSTAMP:20260421T182638
CREATED:20260408T220911Z
LAST-MODIFIED:20260408T220912Z
UID:10005028-1779616800-1779624000@www.bathurstregion.com.au
SUMMARY:Morning Ragas at The Keystone
DESCRIPTION:This is the second instalment of Evening Ragas at the Keystone. Morning ragas. As this system of Indian classical music is not only set to seasons\, it is also set to times of day\, so certain melody forms or Ragas can only be performed at the prescribed time. As the musicians tour the world playing this music it is common that the audiences are mostly exposed to evening ragas. So this is a rare opportunity to experience the morning music. \nThis concert will be very relaxed\, the audience is encouraged to dress in comfortable clothes and bring a cushion\, or use the seating provided of course. There will bear sick packs and chai available as an add on to the ticket price\n ( check link ). So come and enjoy some Sunday Morning Music and take a break from the hectic world. Once again there will be projections\, this time Sunrise of the Ganges\, that has been specifically designed by Sarangi student and artist Annabel McLure.
URL:https://www.bathurstregion.com.au/event/morning-ragas-at-the-keystone/
LOCATION:KeyStone 1889\, 99 Keppel St\, Bathurst\, 2795
CATEGORIES:Art,Concert or Performance
ATTACH;FMTTYPE=image/jpeg:https://www.bathurstregion.com.au/wp-content/uploads/2026/04/IMG_0223.jpg
ORGANIZER;CN="KeyStone 1889":MAILTO:trish@keystone1889.com
END:VEVENT
BEGIN:VEVENT
DTSTART;TZID=Australia/Sydney:20260529T200000
DTEND;TZID=Australia/Sydney:20260529T213000
DTSTAMP:20260421T182638
CREATED:20251111T034553Z
LAST-MODIFIED:20251111T034555Z
UID:10004769-1780084800-1780090200@www.bathurstregion.com.au
SUMMARY:Nurse Georgie Carroll – Infectious
DESCRIPTION:“Really Funny… Just Brilliant.’’ – Simon Cowell\n\nAs seen on Britain’s Got Talent\, winner of ‘Best Comedy Show’ at the Adelaide Fringe Festival and following a sold-out UK\, New Zealand\, and Australian tour in 2024\, don’t miss Nurse Georgie Carroll this March! Georgie has seen it all and is bringing her hilarious award-winning stand-up to Tamworth for one night only. You’ll laugh\, you’ll gasp\, you’ll cry\, it might even hurt\, but it will make you better. She should have been a midwife as she always delivers!\n\n★★★★★ “Exceptional” Mervyn Stutters Pick of The Fringe\n★★★★★”Nurse Georgie Carroll proves that laughter is the best medicine & you cannot miss your dose!” Lost in Theatre Land UK\n★★★★★ ”Sublime comedy” Glam Adelaide\n★★★★★ “Rollicking\, riotous comedy” The Age\n\nMore information visit georgiecarroll.com or alist.com.au\nEvent Notes: Suitable for ages 15+
URL:https://www.bathurstregion.com.au/event/nurse-georgie-carroll-infectious/
LOCATION:Bathurst Memorial Entertainment Centre\, 105 William Street\, Bathurst\, New South Wales\, 2795\, Australia
CATEGORIES:Concert or Performance
ATTACH;FMTTYPE=image/jpeg:https://www.bathurstregion.com.au/wp-content/uploads/2025/11/GeorgieCarroll_Infectious_700x700.jpg
ORGANIZER;CN="Bathurst Memorial Entertainment Centre":MAILTO:bmec@bathurst.nsw.gov.au
END:VEVENT
BEGIN:VEVENT
DTSTART;TZID=Australia/Sydney:20260531T130000
DTEND;TZID=Australia/Sydney:20260531T154500
DTSTAMP:20260421T182638
CREATED:20260224T005820Z
LAST-MODIFIED:20260224T005820Z
UID:10004959-1780232400-1780242300@www.bathurstregion.com.au
SUMMARY:BMEC ON-SCREEN Othello National Theatre Live
DESCRIPTION:Shakespeare’s OTHELLO rages to life like never before in a ‘compelling’ (★★★★ Telegraph) new production starring David Harewood OBE (Homeland\, Best of Enemies)\, Toby Jones OBE (Mr Bates vs the Post Office\, Detectorists)\, Caitlin FitzGerald (Succession\, Masters of Sex)\, Vinette Robinson (Boiling Point) and Luke Treadaway (A Street Cat Named Bob). \nDirected by Tony Award-winner Tom Morris OBE (War Horse\, Dr Semmelweis\, The Grinning Man) with music by PJ Harvey\, this epic story of manipulation\, jealousy and toxic masculinity explores the darker side of power\, rage and desire. \nFilmed live at the Theatre Royal Haymarket in London especially for the big screen\, this is ‘an electrifying star-studded Othello.’ (★★★★ Mail on Sunday)
URL:https://www.bathurstregion.com.au/event/bmec-on-screen-othello-national-theatre-live/
LOCATION:Bathurst Memorial Entertainment Centre\, 105 William Street\, Bathurst\, New South Wales\, 2795\, Australia
CATEGORIES:Concert or Performance
ATTACH;FMTTYPE=image/jpeg:https://www.bathurstregion.com.au/wp-content/uploads/2026/02/Othello-16x9-main-image.jpg
ORGANIZER;CN="Bathurst Memorial Entertainment Centre":MAILTO:bmec@bathurst.nsw.gov.au
END:VEVENT
END:VCALENDAR