
BEGIN:VCALENDAR
VERSION:2.0
PRODID:-//Bathurst Region Tourism - ECPv6.15.16//NONSGML v1.0//EN
CALSCALE:GREGORIAN
METHOD:PUBLISH
X-WR-CALNAME:Bathurst Region Tourism
X-ORIGINAL-URL:https://www.bathurstregion.com.au
X-WR-CALDESC:Events for Bathurst Region Tourism
REFRESH-INTERVAL;VALUE=DURATION:PT1H
X-Robots-Tag:noindex
X-PUBLISHED-TTL:PT1H
BEGIN:VTIMEZONE
TZID:Australia/Sydney
BEGIN:STANDARD
TZOFFSETFROM:+1100
TZOFFSETTO:+1000
TZNAME:AEST
DTSTART:20250405T160000
END:STANDARD
BEGIN:DAYLIGHT
TZOFFSETFROM:+1000
TZOFFSETTO:+1100
TZNAME:AEDT
DTSTART:20251004T160000
END:DAYLIGHT
BEGIN:STANDARD
TZOFFSETFROM:+1100
TZOFFSETTO:+1000
TZNAME:AEST
DTSTART:20260404T160000
END:STANDARD
BEGIN:DAYLIGHT
TZOFFSETFROM:+1000
TZOFFSETTO:+1100
TZNAME:AEDT
DTSTART:20261003T160000
END:DAYLIGHT
BEGIN:STANDARD
TZOFFSETFROM:+1100
TZOFFSETTO:+1000
TZNAME:AEST
DTSTART:20270403T160000
END:STANDARD
BEGIN:DAYLIGHT
TZOFFSETFROM:+1000
TZOFFSETTO:+1100
TZNAME:AEDT
DTSTART:20271002T160000
END:DAYLIGHT
END:VTIMEZONE
BEGIN:VEVENT
DTSTART;TZID=Australia/Sydney:20260409T083000
DTEND;TZID=Australia/Sydney:20260410T150000
DTSTAMP:20260420T095339
CREATED:20260402T022110Z
LAST-MODIFIED:20260402T022111Z
UID:10005025-1775723400-1775833200@www.bathurstregion.com.au
SUMMARY:Panthers Foundation Play Like A panther Holiday Clinic
DESCRIPTION:Panthers foundation are running 2 days (9am-3pm) of rugby league fun at Bathurst’s Cubis Park. These days are for participants aged in Primary School as a grass roots clinic.
URL:https://www.bathurstregion.com.au/event/panthers-foundation-play-like-a-panther-holiday-clinic/
LOCATION:Cubis Park\, 37 Alexander Street\, Eglinton\, 2795
CATEGORIES:School Holiday Activity
ATTACH;FMTTYPE=image/jpeg:https://www.bathurstregion.com.au/wp-content/uploads/2026/04/Bathurst-PLAP-2026.jpg
ORGANIZER;CN="Panthers Foundation":MAILTO:Foundation@panthers.com.au
END:VEVENT
BEGIN:VEVENT
DTSTART;TZID=Australia/Sydney:20260411T180000
DTEND;TZID=Australia/Sydney:20260411T210000
DTSTAMP:20260420T095339
CREATED:20260316T022403Z
LAST-MODIFIED:20260316T022407Z
UID:10005018-1775930400-1775941200@www.bathurstregion.com.au
SUMMARY:All Fools' Ball
DESCRIPTION:Dress up in your best swing dance outfit\, put on your dancing shoes and party like it’s 1946!\n\nTo celebrate 150 years since the railway arrived in Bathurst\, the Bathurst Rail Museum is inviting the community to dance the night away with the Mitchell Conservatoriums CONnections Big Band at the All Fools’ Ball.\n\nThe All Fools’ Ball was a popular event in Bathurst\, traditionally held around April Fools Day in various locations over the years. For the Bathurst railway community\, it was a great opportunity to socialise. The venue for the evening – the Railway Institute\, home to the Bathurst Rail Museum – was for learning the trades of the railway\, but it was also a community hub for dances\, sports and other social activities.\n\n “The Railway Institute certainly knows how to put some kick into its social events\, as was exemplified at their All Fools Ball…”\n -National Advocate\, 10 October 1936
URL:https://www.bathurstregion.com.au/event/all-fools-ball/
LOCATION:Bathurst Rail Museum\, 126 Havannah Street\, Bathurst\, NSW\, 2795\, Australia
CATEGORIES:History and Heritage
ATTACH;FMTTYPE=image/jpeg:https://www.bathurstregion.com.au/wp-content/uploads/2026/03/All-Fools-Ball-landscape.jpg
ORGANIZER;CN="Bathurst Rail Museum":MAILTO:railmuseum@bathurst.nsw.gov.au
END:VEVENT
BEGIN:VEVENT
DTSTART;TZID=Australia/Sydney:20260412T140000
DTEND;TZID=Australia/Sydney:20260412T160000
DTSTAMP:20260420T095339
CREATED:20260327T004355Z
LAST-MODIFIED:20260327T004356Z
UID:10005020-1776002400-1776009600@www.bathurstregion.com.au
SUMMARY:Macquarie Male Singers Concert
DESCRIPTION:Bathurst’s All-Male Choir singing for you!
URL:https://www.bathurstregion.com.au/event/macquarie-male-singers-concert/
CATEGORIES:Concert or Performance
ATTACH;FMTTYPE=image/jpeg:https://www.bathurstregion.com.au/wp-content/uploads/2026/03/Macquarie-Male-Singers-Concert.jpg
END:VEVENT
END:VCALENDAR