
BEGIN:VCALENDAR
VERSION:2.0
PRODID:-//Bathurst Region Tourism - ECPv6.15.16//NONSGML v1.0//EN
CALSCALE:GREGORIAN
METHOD:PUBLISH
X-ORIGINAL-URL:https://www.bathurstregion.com.au
X-WR-CALDESC:Events for Bathurst Region Tourism
REFRESH-INTERVAL;VALUE=DURATION:PT1H
X-Robots-Tag:noindex
X-PUBLISHED-TTL:PT1H
BEGIN:VTIMEZONE
TZID:Australia/Sydney
BEGIN:STANDARD
TZOFFSETFROM:+1100
TZOFFSETTO:+1000
TZNAME:AEST
DTSTART:20250405T160000
END:STANDARD
BEGIN:DAYLIGHT
TZOFFSETFROM:+1000
TZOFFSETTO:+1100
TZNAME:AEDT
DTSTART:20251004T160000
END:DAYLIGHT
BEGIN:STANDARD
TZOFFSETFROM:+1100
TZOFFSETTO:+1000
TZNAME:AEST
DTSTART:20260404T160000
END:STANDARD
BEGIN:DAYLIGHT
TZOFFSETFROM:+1000
TZOFFSETTO:+1100
TZNAME:AEDT
DTSTART:20261003T160000
END:DAYLIGHT
BEGIN:STANDARD
TZOFFSETFROM:+1100
TZOFFSETTO:+1000
TZNAME:AEST
DTSTART:20270403T160000
END:STANDARD
BEGIN:DAYLIGHT
TZOFFSETFROM:+1000
TZOFFSETTO:+1100
TZNAME:AEDT
DTSTART:20271002T160000
END:DAYLIGHT
END:VTIMEZONE
BEGIN:VEVENT
DTSTART;TZID=Australia/Sydney:20260411T180000
DTEND;TZID=Australia/Sydney:20260411T210000
DTSTAMP:20260425T064609
CREATED:20260316T022403Z
LAST-MODIFIED:20260316T022407Z
UID:10005018-1775930400-1775941200@www.bathurstregion.com.au
SUMMARY:All Fools' Ball
DESCRIPTION:Dress up in your best swing dance outfit\, put on your dancing shoes and party like it’s 1946!\n\nTo celebrate 150 years since the railway arrived in Bathurst\, the Bathurst Rail Museum is inviting the community to dance the night away with the Mitchell Conservatoriums CONnections Big Band at the All Fools’ Ball.\n\nThe All Fools’ Ball was a popular event in Bathurst\, traditionally held around April Fools Day in various locations over the years. For the Bathurst railway community\, it was a great opportunity to socialise. The venue for the evening – the Railway Institute\, home to the Bathurst Rail Museum – was for learning the trades of the railway\, but it was also a community hub for dances\, sports and other social activities.\n\n “The Railway Institute certainly knows how to put some kick into its social events\, as was exemplified at their All Fools Ball…”\n -National Advocate\, 10 October 1936
URL:https://www.bathurstregion.com.au/event/all-fools-ball/
LOCATION:Bathurst Rail Museum\, 126 Havannah Street\, Bathurst\, NSW\, 2795\, Australia
CATEGORIES:History and Heritage
ATTACH;FMTTYPE=image/jpeg:https://www.bathurstregion.com.au/wp-content/uploads/2026/03/All-Fools-Ball-landscape.jpg
ORGANIZER;CN="Bathurst Rail Museum":MAILTO:railmuseum@bathurst.nsw.gov.au
END:VEVENT
END:VCALENDAR