
BEGIN:VCALENDAR
VERSION:2.0
PRODID:-//Bathurst Region Tourism - ECPv6.15.16//NONSGML v1.0//EN
CALSCALE:GREGORIAN
METHOD:PUBLISH
X-ORIGINAL-URL:https://www.bathurstregion.com.au
X-WR-CALDESC:Events for Bathurst Region Tourism
REFRESH-INTERVAL;VALUE=DURATION:PT1H
X-Robots-Tag:noindex
X-PUBLISHED-TTL:PT1H
BEGIN:VTIMEZONE
TZID:Australia/Sydney
BEGIN:STANDARD
TZOFFSETFROM:+1100
TZOFFSETTO:+1000
TZNAME:AEST
DTSTART:20250405T160000
END:STANDARD
BEGIN:DAYLIGHT
TZOFFSETFROM:+1000
TZOFFSETTO:+1100
TZNAME:AEDT
DTSTART:20251004T160000
END:DAYLIGHT
BEGIN:STANDARD
TZOFFSETFROM:+1100
TZOFFSETTO:+1000
TZNAME:AEST
DTSTART:20260404T160000
END:STANDARD
BEGIN:DAYLIGHT
TZOFFSETFROM:+1000
TZOFFSETTO:+1100
TZNAME:AEDT
DTSTART:20261003T160000
END:DAYLIGHT
BEGIN:STANDARD
TZOFFSETFROM:+1100
TZOFFSETTO:+1000
TZNAME:AEST
DTSTART:20270403T160000
END:STANDARD
BEGIN:DAYLIGHT
TZOFFSETFROM:+1000
TZOFFSETTO:+1100
TZNAME:AEDT
DTSTART:20271002T160000
END:DAYLIGHT
END:VTIMEZONE
BEGIN:VEVENT
DTSTART;TZID=Australia/Sydney:20260602T190000
DTEND;TZID=Australia/Sydney:20260602T203000
DTSTAMP:20260426T111755
CREATED:20250804T040344Z
LAST-MODIFIED:20250804T052820Z
UID:10004551-1780426800-1780432200@www.bathurstregion.com.au
SUMMARY:Public Choir
DESCRIPTION:Get Ready to Sing! Mitchell Conservatorium Pub Choir is Back!You asked\, and we listened! We’ve been flooded with emails\, comments\, and letters about the return of our Pub Choir\, and we’re thrilled to announce that the Mitchell Conservatorium Public Choir is officially making its long-awaited comeback! \n\n\n\nA massive shout-out goes to our fantastic partners in “rhyme” at the Victoria Bathurst. Their support has been instrumental in bringing this initiative back to life and providing a brand-new home for our harmonious gatherings: Little Alberts\, basically right across the road from the Con!The choir will run the first Tuesday of every month at 7pm. \n\n\n\nNo tickets are required for the event however we have placed a small cover charge of $5 on the door to cover staffing and material costs.
URL:https://www.bathurstregion.com.au/event/public-choir/2026-06-02/
LOCATION:Little Alberts @ The Victoria Bathurst\, 3 Keppel Street\, Bathurst\, NSW\, 2795
CATEGORIES:Community Event,Concert or Performance
ATTACH;FMTTYPE=image/jpeg:https://www.bathurstregion.com.au/wp-content/uploads/2025/08/Untitled-1.jpg
ORGANIZER;CN="Mitchell Conservatorium":MAILTO:bathurst@mitchellconservatorium.edu.au
END:VEVENT
BEGIN:VEVENT
DTSTART;TZID=Australia/Sydney:20260608T000000
DTEND;TZID=Australia/Sydney:20260628T235959
DTSTAMP:20260426T111755
CREATED:20220731T230255Z
LAST-MODIFIED:20251125T021749Z
UID:10003645-1780876800-1782691199@www.bathurstregion.com.au
SUMMARY:Hudsons Circus
DESCRIPTION:Hudsons Circus presents a 2 hour traditional style Circus with a modern twist featuring ‘Edge of your seat Daredevils\, Hilarious clowns and beautiful animal acts’ in a fast paced show for the whole family.
URL:https://www.bathurstregion.com.au/event/hudsons-circus/
LOCATION:Bathurst Showground\, Lot 1 Kendall Avenue\, Bathurst\, NSW\, 2795\, Australia
ATTACH;FMTTYPE=image/png:https://www.bathurstregion.com.au/wp-content/uploads/2022/08/image.png
ORGANIZER;CN="Hudsons Circus":MAILTO:hudsonscircus@gmail.com
END:VEVENT
BEGIN:VEVENT
DTSTART;TZID=Australia/Sydney:20260612T193000
DTEND;TZID=Australia/Sydney:20260612T220000
DTSTAMP:20260426T111755
CREATED:20251111T034612Z
LAST-MODIFIED:20251111T034613Z
UID:10004768-1781292600-1781301600@www.bathurstregion.com.au
SUMMARY:Björn Again – ABBA FOREVER Tour
DESCRIPTION:Bathurst\, get ready to party with BJÖRN AGAIN!\n\nThe only ABBA-endorsed tribute show hits the stage for one spectacular night. It’ll be a Super Trouper celebration of ABBA and their timeless music that the whole family will love.\n\nThis internationally acclaimed show brings the glitter\, the glam\, and all the greatest hits with dazzling energy\, spot-on vocals\, and outrageous costumes. It’s a full-blown ABBA revival where audiences of all ages can sing\, dance\, and party like it’s 1979.\n\nExpect all the classics —SOS\, Mamma Mia\, Dancing Queen\, Gimme! Gimme! Gimme! —plus ballads like The Winner Takes It All\, Fernando\, and Knowing Me\, Knowing You\, performed with incredible musicianship\, a cheeky sense of humour\, and that signature Björn Again magic.\n\nWith performances in over 120 countries\, including The Royal Albert Hall\, Wembley Stadium\, the Sydney Opera House\, and Glastonbury Festival\, BJÖRN AGAIN is a global sensation.\n\nPraised by rock royalty and media worldwide —Metalica\, Nirvana\, Sir Tom Jones\, and ABBA themselves – the show has earned glowing reviews:\n\n“Fans had better make the most out of Björn Again because that’s the closest they are going to get to seeing ABBA. ABBA will never reform!” – Benny Andersson\n\n“One of the most entertaining live shows in the world today.” – Time Out New York “Fabulously flawless!” – Rolling Stone\n\nTell your mum\, tell your grumpy teenager\, tell Fernando – tickets won’t last!
URL:https://www.bathurstregion.com.au/event/bjorn-again-abba-forever-tour/
LOCATION:Bathurst Memorial Entertainment Centre\, 105 William Street\, Bathurst\, New South Wales\, 2795\, Australia
CATEGORIES:Concert or Performance
ATTACH;FMTTYPE=image/jpeg:https://www.bathurstregion.com.au/wp-content/uploads/2025/11/BA-AF2026-DunedinRegentTheatre-28Mar-1980x1020-1.jpg
ORGANIZER;CN="Bathurst Memorial Entertainment Centre":MAILTO:bmec@bathurst.nsw.gov.au
END:VEVENT
BEGIN:VEVENT
DTSTART;TZID=Australia/Sydney:20260613T193000
DTEND;TZID=Australia/Sydney:20260613T204000
DTSTAMP:20260426T111755
CREATED:20260128T234212Z
LAST-MODIFIED:20260128T234212Z
UID:10004896-1781379000-1781383200@www.bathurstregion.com.au
SUMMARY:And Also With You
DESCRIPTION:From the age of 0-18\, Simon Vaughan was a Christian. Not just the ‘tick the box on the census form’ kind but the ‘attend church every week\, read your Bible every day (or at least feel guilty if you don’t)\, constantly praying’ kind. For 18 years\, church was everything from an extended family\, to a school to a dating service. \nAnd Also With You is a storytelling adventure that recounts the good\, the bad and the ‘peace be with you’ of growing up when you FROG (fully rely on God). From youth group camps to purity pledges it’s about living with the weight of original sin on your shoulders and the eventual choice to cast if off. \nThe show is about growing up a Christian\, grappling with life’s biggest questions and ﬁnding your place in the world. When Simon was a Christian\, all his non-Christian friends thought his faith was weird and confusing. When he left the church at 18\, all his Christian friends were devastated and wanted to know what went wrong. The show explains himself to both groups. \nA church service without all the boring stuff\, And Also With You takes you inside church walls to ﬁnd out what life is really like when Jesus is your best friend.
URL:https://www.bathurstregion.com.au/event/and-also-with-you/
LOCATION:Bathurst Memorial Entertainment Centre\, 105 William Street\, Bathurst\, New South Wales\, 2795\, Australia
CATEGORIES:Concert or Performance
ATTACH;FMTTYPE=image/png:https://www.bathurstregion.com.au/wp-content/uploads/2026/01/And-Also-With-You-Image-4.5.png
ORGANIZER;CN="Bathurst Memorial Entertainment Centre":MAILTO:bmec@bathurst.nsw.gov.au
END:VEVENT
BEGIN:VEVENT
DTSTART;TZID=Australia/Sydney:20260616T180000
DTEND;TZID=Australia/Sydney:20260616T190000
DTSTAMP:20260426T111755
CREATED:20260422T061701Z
LAST-MODIFIED:20260422T061702Z
UID:10005058-1781632800-1781636400@www.bathurstregion.com.au
SUMMARY:George Frideric Handel - a harmony of friendships
DESCRIPTION:Discover more about the life of George Frideric Handel (1685-1759)\, a composer known for his operas and oratorios\, presented by musicologist Dennis Dorwick. \nMany know the music of Handel\, a German-born English composer\, but few know the details of his life. This talk will focus on the stories of three people who influenced his life in crucial and sometimes\, unusual\, ways.\nYou might imagine a composer writing music in a quiet garret… however\, music is almost always a collegial art. This was certainly true for Handel who loved both opera and oratorio. These stage arts demanded singing actors who could move both the hearts and minds of his audience. ‘Handel – a Harmony of Friendships’ will be accompanied with both images and musical examples. \nDennis Dorwick has a Master of Music (Research) from the Sydney Conservatorium of Music and is a member of both the American Handel Society and the Handel Institute (UK). He is a flute player and a music teacher of over 21 years. He has recently moved to Bathurst and continues to broaden his research on the life and music of Handel.\nTo book a spot\, call the library on 6333 6281.
URL:https://www.bathurstregion.com.au/event/george-frideric-handel-a-harmony-of-friendships/
LOCATION:Bathurst Library\, 70 -78 Keppel Street\, Bathurst\, New South Wales\, 2795\, Australia
CATEGORIES:Classes, Lessons, Workshops and Talks,Culture,History and Heritage
ATTACH;FMTTYPE=image/png:https://www.bathurstregion.com.au/wp-content/uploads/2026/04/BVIC-Handel.png
ORGANIZER;CN="Bathurst Library":MAILTO:library@bathurst.nsw.gov.au
END:VEVENT
BEGIN:VEVENT
DTSTART;TZID=Australia/Sydney:20260619T190000
DTEND;TZID=Australia/Sydney:20260619T200500
DTSTAMP:20260426T111755
CREATED:20260128T234212Z
LAST-MODIFIED:20260128T234212Z
UID:10004897-1781895600-1781899500@www.bathurstregion.com.au
SUMMARY:Blueberry Play
DESCRIPTION:Being 17 is awkward. Having to take care of your sick dad when you’re 17 is another story. Especially when he keeps trying to shave his eyebrows off. \nBlueberry Play is the Griffin Award-shortlisted play from playwright Ang Collins\, presented in a brand new smash-hit production from regional new work powerhouse Lingua Franca. \nA monologue for a solo performer (the astonishing Madelaine Osborn)\, Blueberry Play is a vivid and heart-bursting monologue that explores the high highs and the low lows of being a teenage girl in a small town. From the public pool to the locker rooms at school to back home where things are just a bit topsy-turvy\, this is an Aussie coming-of-age story with a refreshing twist. \nA play for anyone that remember what it feels like being a young person\, Blueberry Play is heart-rending\, intimately observed\, often hilarious\, and packaged in a powerful one-person performance\, and an absolutely unforgettable night out at the theatre. \nThis production was originally supported by Upstage at the Playhouse\, a new work development initiative from the Civic Theatre Newcastle.
URL:https://www.bathurstregion.com.au/event/blueberry-play/
LOCATION:Bathurst Memorial Entertainment Centre\, 105 William Street\, Bathurst\, New South Wales\, 2795\, Australia
CATEGORIES:Concert or Performance
ATTACH;FMTTYPE=image/jpeg:https://www.bathurstregion.com.au/wp-content/uploads/2026/01/Blueberry-Play-1-HERO-photo-by-Edwina-Richards.jpg
ORGANIZER;CN="Bathurst Memorial Entertainment Centre":MAILTO:bmec@bathurst.nsw.gov.au
END:VEVENT
BEGIN:VEVENT
DTSTART;TZID=Australia/Sydney:20260626T200000
DTEND;TZID=Australia/Sydney:20260626T214000
DTSTAMP:20260426T111755
CREATED:20260128T234212Z
LAST-MODIFIED:20260128T234212Z
UID:10004899-1782504000-1782510000@www.bathurstregion.com.au
SUMMARY:Sydney Comedy Festival Showcase
DESCRIPTION:The Sydney Comedy Festival Showcase tour will be tearing up the freeways of Australia to bring the best of the 2026 Festival! \nExpertly curated and lovingly presented\, the Showcase will feature some of the Festival’s hottest acts live on stage for an incredible two hours of hard-hitting laughter. Boasting a line-up of veteran favourites and some of the freshest emerging talents\, this jam-packed night of pure entertainment will leave you sore from belly laughs!
URL:https://www.bathurstregion.com.au/event/sydney-comedy-festival-showcase-2/
LOCATION:Bathurst Memorial Entertainment Centre\, 105 William Street\, Bathurst\, New South Wales\, 2795\, Australia
CATEGORIES:Concert or Performance
ATTACH;FMTTYPE=image/png:https://www.bathurstregion.com.au/wp-content/uploads/2026/01/SCF25_Showcase-Tour__1080-x-1080.png
ORGANIZER;CN="Bathurst Memorial Entertainment Centre":MAILTO:bmec@bathurst.nsw.gov.au
END:VEVENT
BEGIN:VEVENT
DTSTART;TZID=Australia/Sydney:20260627T140000
DTEND;TZID=Australia/Sydney:20260627T163000
DTSTAMP:20260426T111755
CREATED:20251209T040901Z
LAST-MODIFIED:20251209T040905Z
UID:10004706-1782568800-1782577800@www.bathurstregion.com.au
SUMMARY:The Robertson Brothers Presents: Everly Brothers & Friends and Roy Orbison
DESCRIPTION:CELEBRATING THE EVERLY BROTHERS AND ROY ORBISON’S 70TH ANNIVERSARY!\nIn 1956\, two of the most influential acts of the 1950s and 60s — The Everly Brothers and Roy Orbison — stepped into the recording studio for the very first time. The music they created went on to inspire generations and shape the soundtrack of an era. Now\, 70 years later\, their timeless songs are being celebrated like never before!\n\nAustralia’s #1 vocal duo\, the much-loved Robertson Brothers\, join forces with the internationally acclaimed Dean Bourne — the world’s greatest Roy Orbison tribute artist — and the Variety Show team for an unforgettable 2-hour audio-visual spectacular.\n\nThis unique concert also showcases the hits by The Beatles\, The Hollies and Simon & Garfunkel that were inspired and influenced by the Everly Brothers iconic songs and harmonies. For the first time ever\, you’ll experience the soaring harmonies of Phil and Don Everly and the haunting voice of Roy Orbison\, brought to life with the powerful accompaniment of the Variety Show Digital Band and Orchestra through some of the greatest songs ever written.\n\n“One Night\, Two Icons\, Endless Memories” .. A Musical Anniversary You Can’t Miss!
URL:https://www.bathurstregion.com.au/event/the-robertson-brothers-presents-everly-brothers-friends-and-roy-orbison/
LOCATION:Bathurst Memorial Entertainment Centre\, 105 William Street\, Bathurst\, New South Wales\, 2795\, Australia
CATEGORIES:Concert or Performance
ATTACH;FMTTYPE=image/jpeg:https://www.bathurstregion.com.au/wp-content/uploads/2025/12/1080x1080-1-Everly-Brothers.jpg
ORGANIZER;CN="Bathurst Memorial Entertainment Centre":MAILTO:bmec@bathurst.nsw.gov.au
END:VEVENT
BEGIN:VEVENT
DTSTART;TZID=Australia/Sydney:20260628T120000
DTEND;TZID=Australia/Sydney:20260628T160000
DTSTAMP:20260426T111755
CREATED:20251027T011016Z
LAST-MODIFIED:20251027T032256Z
UID:10004650-1782648000-1782662400@www.bathurstregion.com.au
SUMMARY:Old Government Cottage Open Day
DESCRIPTION:Open on the fourth Sunday of each month this fine example of early domestic Australian architecture\, Old Government Cottage has operated as a museum since 1965.  It is believed the cottage was built in the 1850s by Miss Ann Falloon\, as a residence and school to young ladies.  Old Government Cottage houses an exhibition on the development of Bathurst\, artworks and a display of local domestic objects.  The garden contains many heritage plants\, farm equipment and an original baker’s oven.
URL:https://www.bathurstregion.com.au/event/old-government-cottage-open-day-2/2026-06-28/
LOCATION:Old Government Cottage\, 16 Stanley Street\, Bathurst\, NSW\, 2795
CATEGORIES:History and Heritage
ATTACH;FMTTYPE=image/jpeg:https://www.bathurstregion.com.au/wp-content/uploads/2025/10/The-Flower-Garden-at-Old-Government-Cottage-has-a-wonderful-array-of-blooms-and-frangrance.jpg
ORGANIZER;CN="Bathurst District Historical Society":MAILTO:info@bathursthistory.org.au
END:VEVENT
BEGIN:VEVENT
DTSTART;TZID=Australia/Sydney:20260628T130000
DTEND;TZID=Australia/Sydney:20260628T151500
DTSTAMP:20260426T111755
CREATED:20260224T005820Z
LAST-MODIFIED:20260224T005820Z
UID:10004960-1782651600-1782659700@www.bathurstregion.com.au
SUMMARY:BMEC ON-SCREEN Playboy of the Western World
DESCRIPTION:Nicola Coughlan (Bridgerton) joins Éanna Hardwicke (The Sixth Commandment) and Siobhán McSweeney (Derry Girls) in John Millington Synge’s riveting play of youth and self-discovery. \nPegeen Flaherty’s life is turned upside down when a young man walks into her pub claiming that he’s killed his father. Instead of being shunned\, the killer becomes a local hero and begins to win hearts\, that is until a second man unexpectedly arrives on the scene… \nFilmed live on stage at the National Theatre\, Caitríona McLaughlin directs this darkly funny tale full to the brim with secrets.
URL:https://www.bathurstregion.com.au/event/bmec-on-screen-playboy-of-the-western-world/
LOCATION:Bathurst Memorial Entertainment Centre\, 105 William Street\, Bathurst\, New South Wales\, 2795\, Australia
CATEGORIES:Concert or Performance
ATTACH;FMTTYPE=image/jpeg:https://www.bathurstregion.com.au/wp-content/uploads/2026/02/The-Playboy-of-the-Western-World-at-the-National-Theatre.-c-Marc-Brenner-0003-scaled.jpg
ORGANIZER;CN="Bathurst Memorial Entertainment Centre":MAILTO:bmec@bathurst.nsw.gov.au
END:VEVENT
END:VCALENDAR