
BEGIN:VCALENDAR
VERSION:2.0
PRODID:-//Bathurst Region Tourism - ECPv6.15.16//NONSGML v1.0//EN
CALSCALE:GREGORIAN
METHOD:PUBLISH
X-ORIGINAL-URL:https://www.bathurstregion.com.au
X-WR-CALDESC:Events for Bathurst Region Tourism
REFRESH-INTERVAL;VALUE=DURATION:PT1H
X-Robots-Tag:noindex
X-PUBLISHED-TTL:PT1H
BEGIN:VTIMEZONE
TZID:Australia/Sydney
BEGIN:STANDARD
TZOFFSETFROM:+1100
TZOFFSETTO:+1000
TZNAME:AEST
DTSTART:20250405T160000
END:STANDARD
BEGIN:DAYLIGHT
TZOFFSETFROM:+1000
TZOFFSETTO:+1100
TZNAME:AEDT
DTSTART:20251004T160000
END:DAYLIGHT
BEGIN:STANDARD
TZOFFSETFROM:+1100
TZOFFSETTO:+1000
TZNAME:AEST
DTSTART:20260404T160000
END:STANDARD
BEGIN:DAYLIGHT
TZOFFSETFROM:+1000
TZOFFSETTO:+1100
TZNAME:AEDT
DTSTART:20261003T160000
END:DAYLIGHT
BEGIN:STANDARD
TZOFFSETFROM:+1100
TZOFFSETTO:+1000
TZNAME:AEST
DTSTART:20270403T160000
END:STANDARD
BEGIN:DAYLIGHT
TZOFFSETFROM:+1000
TZOFFSETTO:+1100
TZNAME:AEDT
DTSTART:20271002T160000
END:DAYLIGHT
END:VTIMEZONE
BEGIN:VEVENT
DTSTART;TZID=Australia/Sydney:20260209T130000
DTEND;TZID=Australia/Sydney:20260209T180000
DTSTAMP:20260423T102310
CREATED:20260105T210839Z
LAST-MODIFIED:20260105T210842Z
UID:10004269-1770642000-1770660000@www.bathurstregion.com.au
SUMMARY:Bathurst Thoroughbred Racing
DESCRIPTION:Come and join us on Monday 9th February for great racing action. Enjoy a nice sandwich from the Lions Club Van while enjoying a cool beverage and watching the thoroughbred athletes in action.
URL:https://www.bathurstregion.com.au/event/bathurst-thoroughbred-racing/
LOCATION:Bathurst Thoroughbred Racing\, 55 Eleven Mile Dr\, Bathurst\, 2795
CATEGORIES:Sporting Events
ATTACH;FMTTYPE=image/jpeg:https://www.bathurstregion.com.au/wp-content/uploads/2026/01/Saddling-up-scaled.jpg
ORGANIZER;CN="Bathurst Thoroughbred Racing":MAILTO:admin@btracing.com.au
END:VEVENT
BEGIN:VEVENT
DTSTART;TZID=Australia/Sydney:20260212T104500
DTEND;TZID=Australia/Sydney:20260212T123000
DTSTAMP:20260423T102310
CREATED:20260128T234211Z
LAST-MODIFIED:20260128T234211Z
UID:10004918-1770893100-1770899400@www.bathurstregion.com.au
SUMMARY:Meguiar's Bathurst 12 Hour Track to Town
DESCRIPTION:Track to Town returns as part of the 2026 Meguiar’s Bathurst 12 Hour \nThe entire Meguiar’s Bathurst 12 Hour field will be driven from Mount Panorama to the centre of Bathurst for the 2026 Track to Town celebrations on Thursday the 12th of February. \nHead down to Russell Street to see all the cars up close and get your favourite driver’s signature. The field of cars will arrive at Russell Street by approx. 11am with a drivers signing session from 11.30am to 12.15pm. \nFor more information visit https://www.bathurst.nsw.gov.au/Events/Bathurst-12-Hour
URL:https://www.bathurstregion.com.au/event/meguiars-bathurst-12-hour-track-to-town/
LOCATION:Russell Street (between William &amp; George Street)
CATEGORIES:Festivals and Celebrations,Sporting Events
ATTACH;FMTTYPE=image/jpeg:https://www.bathurstregion.com.au/wp-content/uploads/2026/01/Track-to-Town-LR-18-scaled.jpg
ORGANIZER;CN="Bathurst Regional Council Events":MAILTO:events@bathurst.nsw.gov.au
END:VEVENT
BEGIN:VEVENT
DTSTART;TZID=Australia/Sydney:20260213T043000
DTEND;TZID=Australia/Sydney:20260215T190000
DTSTAMP:20260423T102310
CREATED:20221024T020815Z
LAST-MODIFIED:20251120T232856Z
UID:10003873-1770957000-1771182000@www.bathurstregion.com.au
SUMMARY:Meguiar's Bathurst 12 Hour
DESCRIPTION:AUSTRALIA’S INTERNATIONAL ENDURANCE RACE \n\n\n\n\n\n\n\nAustralia’s International Endurance Race returns to its traditional date at Mount Panorama\, 13 – 15 February.  \n\n\n\nThe Bathurst 12 Hour has become one of the most anticipated and fast-growing races on the GT calendar\, with 12 hours of exhilarating race action\, unique bars\, classic cars on display\, entertainment and food offerings. \n\n\n\n \n\n\n\n \n\n\n\n\n\n\n\nhttps://www.facebook.com/Bathurst12Hour
URL:https://www.bathurstregion.com.au/event/liqui-moly-bathurst-12-hour-2/
LOCATION:Mount Panorama\, Mountain Straight\, Bathurst\, NSW\, 2795\, Australia
CATEGORIES:Sporting Events
ATTACH;FMTTYPE=image/jpeg:https://www.bathurstregion.com.au/wp-content/uploads/2022/10/514362059_1154916913343924_2292548716744787441_n.jpg
END:VEVENT
BEGIN:VEVENT
DTSTART;TZID=Australia/Sydney:20260215T080000
DTEND;TZID=Australia/Sydney:20260215T230000
DTSTAMP:20260423T102310
CREATED:20250930T010535Z
LAST-MODIFIED:20250930T010535Z
UID:10004596-1771142400-1771196400@www.bathurstregion.com.au
SUMMARY:THE ANNUAL CARROLL/SCOTT MEMORIAL TRIATHLON
DESCRIPTION:This is the Bathurst Wallabies Triathlon Club’s premier trophy race of the season and the final club triathlon for the Summer Season. The event celebrates the lives of two of the Triathlon clubs founding members Dave Carroll and Dave Scott.\nThe event is based at the Stanley Street Clubhouse (behind the Pool) on the 15/02/2026\, with the main senior race start planned for 8am. The course consists of a 200m pool swim\, swimming around the buoys which will be in the shape of an “M” – getting in the Northeast corner and exist at the Southeast Corner. Then a 15km lap of the historic 11mile track on the bike obeying all road rules – followed by a 2.5km run (lap of the River Park.\nThere will be other race options on the day including a teams Section.\nThe Senior Racing will be followed by Junior Racing. The Juniors generally split into Joeys (5-8yrs) and Boomers (8-12yrs) events. The distances for the junior events can vary depending on the participants and conditions.
URL:https://www.bathurstregion.com.au/event/the-annual-carroll-scott-memorial-triathlon/
LOCATION:Stanley Street\, Bathurst\, NSW\, 2795\, Stanley Street\, Bathurst\, 2795
CATEGORIES:Community Event,Sporting Events
ATTACH;FMTTYPE=image/jpeg:https://www.bathurstregion.com.au/wp-content/uploads/2025/09/dCarrollScottCupPhoto2.jpg
ORGANIZER;CN="Bathurst Wallabies Triathlon Club":MAILTO:president@bathursttriclub.com.au
END:VEVENT
END:VCALENDAR