
BEGIN:VCALENDAR
VERSION:2.0
PRODID:-//Bathurst Region Tourism - ECPv6.15.16//NONSGML v1.0//EN
CALSCALE:GREGORIAN
METHOD:PUBLISH
X-ORIGINAL-URL:https://www.bathurstregion.com.au
X-WR-CALDESC:Events for Bathurst Region Tourism
REFRESH-INTERVAL;VALUE=DURATION:PT1H
X-Robots-Tag:noindex
X-PUBLISHED-TTL:PT1H
BEGIN:VTIMEZONE
TZID:Australia/Sydney
BEGIN:STANDARD
TZOFFSETFROM:+1100
TZOFFSETTO:+1000
TZNAME:AEST
DTSTART:20240406T160000
END:STANDARD
BEGIN:DAYLIGHT
TZOFFSETFROM:+1000
TZOFFSETTO:+1100
TZNAME:AEDT
DTSTART:20241005T160000
END:DAYLIGHT
BEGIN:STANDARD
TZOFFSETFROM:+1100
TZOFFSETTO:+1000
TZNAME:AEST
DTSTART:20250405T160000
END:STANDARD
BEGIN:DAYLIGHT
TZOFFSETFROM:+1000
TZOFFSETTO:+1100
TZNAME:AEDT
DTSTART:20251004T160000
END:DAYLIGHT
BEGIN:STANDARD
TZOFFSETFROM:+1100
TZOFFSETTO:+1000
TZNAME:AEST
DTSTART:20260404T160000
END:STANDARD
BEGIN:DAYLIGHT
TZOFFSETFROM:+1000
TZOFFSETTO:+1100
TZNAME:AEDT
DTSTART:20261003T160000
END:DAYLIGHT
END:VTIMEZONE
BEGIN:VEVENT
DTSTART;TZID=Australia/Sydney:20251120T080000
DTEND;TZID=Australia/Sydney:20251123T170000
DTSTAMP:20260421T165015
CREATED:20221024T033914Z
LAST-MODIFIED:20250130T050136Z
UID:10003876-1763625600-1763917200@www.bathurstregion.com.au
SUMMARY:Challenge Bathurst
DESCRIPTION:Conquer the Mountain! \n\n\n\nExperience the thrill of driving your street or track racing car on Mount Panorama at Challenge Bathurst\, a unique and exclusive opportunity. \n\n\n\nChallenge Bathurst is designed specifically to allow experienced motorsport competitors and owners of performance road registered cars to drive at Bathurst. \n\n\n\nMore information can be found at www.challengebathurst.com 
URL:https://www.bathurstregion.com.au/event/challenge-bathurst/
LOCATION:Mount Panorama\, Mountain Straight\, Bathurst\, NSW\, 2795\, Australia
CATEGORIES:Sporting Events
ATTACH;FMTTYPE=image/jpeg:https://www.bathurstregion.com.au/wp-content/uploads/2024/03/410381483_742176394611054_2078901281853615967_n-1.jpg
END:VEVENT
BEGIN:VEVENT
DTSTART;TZID=Australia/Sydney:20251123T080000
DTEND;TZID=Australia/Sydney:20251123T120000
DTSTAMP:20260421T165015
CREATED:20250930T010535Z
LAST-MODIFIED:20250930T010535Z
UID:10004593-1763884800-1763899200@www.bathurstregion.com.au
SUMMARY:THE 8TH ANNUAL BATHURST WOMEN’S TRIATHLON (& Support Events)
DESCRIPTION:This event is legendary in NSW for introducing the sport of triathlon to thousands of women. In 2018 Bathurst club management (including Richard & Anna Blackie) decided to create an event specifically targeting female participants\, a grant was organised and Anna Blackie took on the Race Director role. The event would be a great success and grew rapidly receiving great praise from the sports management body\, Triathlon NSW. State CEO Adam Wicks and NSW President Glenn Schwarzel so impressed they promoted the format to other clubs. In 2024 NSW Triathlon stated “that the Bathurst Event inspired the entire program! Over 3000 first time ladies have now gone through the program and tried a triathlon\, all thanks to the concept born in Bathurst Wallabies Triathlon Club”….\nDon’t miss the opportunity to do this famous & historic event!!\nThe Main Senior event will be the 8th Running of the Annual Bathurst Women’s Triathlon will start around 8:10 to 8:15am and allows competitors to select between two cycle courses – No.1 -The Standard “Historic” 11mile track or No2. a 10-lap ride on a 600m Closed Road circuit. The event will have a rolling start with the participants who doing the 11-mile Drive Course\, followed by those in the Stanley Street Lap Course.\nThe Men’s Triathlon is a support event and will also start in the rolling start at Approx 8am. NOTE participants seeding themselves at the start.\nJunior Events start after the Senior Racing – Juniors to be split into Joeys (5-8yrs) and Boomers (8-12yrs). The distances for the junior events can vary depending on the participants and conditions.\nThe general guide for the basic Boomers course is 100m swim then 3.5km (6 laps) Bike and then 900m run. (Depending on entries the category can be split into a second Boomers event with a 150m swim.\nThe basic Joeys Course is 25m swim across the pool 2.25km ride (4laps) and 300m Run. (Note1 the chief cycling marshal may bring some riders in after 3 laps).\nRACE ENTRY – the “my.raceresult” entry link will appear approximately a week before the event on the Club Site.. Stay tuned for more news on this historic Bathurst event.
URL:https://www.bathurstregion.com.au/event/the-8th-annual-bathurst-womens-triathlon-support-events/
LOCATION:Stanley Street\, Bathurst\, NSW\, 2795\, Stanley Street\, Bathurst\, 2795
CATEGORIES:Community Event,History and Heritage,Sporting Events
ATTACH;FMTTYPE=image/jpeg:https://www.bathurstregion.com.au/wp-content/uploads/2025/09/dBathurst-2024-Marketing-Image-2z.jpg
ORGANIZER;CN="Bathurst Wallabies Triathlon Club":MAILTO:president@bathursttriclub.com.au
END:VEVENT
END:VCALENDAR