
BEGIN:VCALENDAR
VERSION:2.0
PRODID:-//Bathurst Region Tourism - ECPv6.15.16//NONSGML v1.0//EN
CALSCALE:GREGORIAN
METHOD:PUBLISH
X-WR-CALNAME:Bathurst Region Tourism
X-ORIGINAL-URL:https://www.bathurstregion.com.au
X-WR-CALDESC:Events for Bathurst Region Tourism
REFRESH-INTERVAL;VALUE=DURATION:PT1H
X-Robots-Tag:noindex
X-PUBLISHED-TTL:PT1H
BEGIN:VTIMEZONE
TZID:Australia/Sydney
BEGIN:STANDARD
TZOFFSETFROM:+1100
TZOFFSETTO:+1000
TZNAME:AEST
DTSTART:20250405T160000
END:STANDARD
BEGIN:DAYLIGHT
TZOFFSETFROM:+1000
TZOFFSETTO:+1100
TZNAME:AEDT
DTSTART:20251004T160000
END:DAYLIGHT
BEGIN:STANDARD
TZOFFSETFROM:+1100
TZOFFSETTO:+1000
TZNAME:AEST
DTSTART:20260404T160000
END:STANDARD
BEGIN:DAYLIGHT
TZOFFSETFROM:+1000
TZOFFSETTO:+1100
TZNAME:AEDT
DTSTART:20261003T160000
END:DAYLIGHT
BEGIN:STANDARD
TZOFFSETFROM:+1100
TZOFFSETTO:+1000
TZNAME:AEST
DTSTART:20270403T160000
END:STANDARD
BEGIN:DAYLIGHT
TZOFFSETFROM:+1000
TZOFFSETTO:+1100
TZNAME:AEDT
DTSTART:20271002T160000
END:DAYLIGHT
END:VTIMEZONE
BEGIN:VEVENT
DTSTART;TZID=Australia/Sydney:20260209T130000
DTEND;TZID=Australia/Sydney:20260209T180000
DTSTAMP:20260424T033025
CREATED:20260105T210839Z
LAST-MODIFIED:20260105T210842Z
UID:10004269-1770642000-1770660000@www.bathurstregion.com.au
SUMMARY:Bathurst Thoroughbred Racing
DESCRIPTION:Come and join us on Monday 9th February for great racing action. Enjoy a nice sandwich from the Lions Club Van while enjoying a cool beverage and watching the thoroughbred athletes in action.
URL:https://www.bathurstregion.com.au/event/bathurst-thoroughbred-racing/
LOCATION:Bathurst Thoroughbred Racing\, 55 Eleven Mile Dr\, Bathurst\, 2795
CATEGORIES:Sporting Events
ATTACH;FMTTYPE=image/jpeg:https://www.bathurstregion.com.au/wp-content/uploads/2026/01/Saddling-up-scaled.jpg
ORGANIZER;CN="Bathurst Thoroughbred Racing":MAILTO:admin@btracing.com.au
END:VEVENT
END:VCALENDAR