
BEGIN:VCALENDAR
VERSION:2.0
PRODID:-//Bathurst Region Tourism - ECPv6.15.16//NONSGML v1.0//EN
CALSCALE:GREGORIAN
METHOD:PUBLISH
X-ORIGINAL-URL:https://www.bathurstregion.com.au
X-WR-CALDESC:Events for Bathurst Region Tourism
REFRESH-INTERVAL;VALUE=DURATION:PT1H
X-Robots-Tag:noindex
X-PUBLISHED-TTL:PT1H
BEGIN:VTIMEZONE
TZID:Australia/Sydney
BEGIN:STANDARD
TZOFFSETFROM:+1100
TZOFFSETTO:+1000
TZNAME:AEST
DTSTART:20240406T160000
END:STANDARD
BEGIN:DAYLIGHT
TZOFFSETFROM:+1000
TZOFFSETTO:+1100
TZNAME:AEDT
DTSTART:20241005T160000
END:DAYLIGHT
BEGIN:STANDARD
TZOFFSETFROM:+1100
TZOFFSETTO:+1000
TZNAME:AEST
DTSTART:20250405T160000
END:STANDARD
BEGIN:DAYLIGHT
TZOFFSETFROM:+1000
TZOFFSETTO:+1100
TZNAME:AEDT
DTSTART:20251004T160000
END:DAYLIGHT
BEGIN:STANDARD
TZOFFSETFROM:+1100
TZOFFSETTO:+1000
TZNAME:AEST
DTSTART:20260404T160000
END:STANDARD
BEGIN:DAYLIGHT
TZOFFSETFROM:+1000
TZOFFSETTO:+1100
TZNAME:AEDT
DTSTART:20261003T160000
END:DAYLIGHT
END:VTIMEZONE
BEGIN:VEVENT
DTSTART;TZID=Australia/Sydney:20251222T083000
DTEND;TZID=Australia/Sydney:20251223T120000
DTSTAMP:20260426T105444
CREATED:20220615T024003Z
LAST-MODIFIED:20251117T002830Z
UID:10003642-1766392200-1766491200@www.bathurstregion.com.au
SUMMARY:Tennis - Holiday Coaching Clinic
DESCRIPTION:Great tennis activities for beginners through to advanced players! Great holiday activity to learn new skills\, meet new people\, work on your tennis game and keep active and healthy. Now with pickleball!
URL:https://www.bathurstregion.com.au/event/tennis-holiday-coaching-clinic/2025-12-22/
LOCATION:Bathurst Tennis Centre\, 261 Durham Street\, Bathurst\, NSW\, 2795
CATEGORIES:Classes, Lessons, Workshops and Talks,Community Event,Sporting Events
ATTACH;FMTTYPE=image/jpeg:https://www.bathurstregion.com.au/wp-content/uploads/2022/06/Untitled-2.jpg
ORGANIZER;CN="Bathurst Tennis Centre":MAILTO:mitto@bathursttenniscentre.com.au
END:VEVENT
BEGIN:VEVENT
DTSTART;TZID=Australia/Sydney:20251223T083000
DTEND;TZID=Australia/Sydney:20251224T120000
DTSTAMP:20260426T105444
CREATED:20220615T024003Z
LAST-MODIFIED:20251117T002830Z
UID:10003643-1766478600-1766577600@www.bathurstregion.com.au
SUMMARY:Tennis - Holiday Coaching Clinic
DESCRIPTION:Great tennis activities for beginners through to advanced players! Great holiday activity to learn new skills\, meet new people\, work on your tennis game and keep active and healthy. Now with pickleball!
URL:https://www.bathurstregion.com.au/event/tennis-holiday-coaching-clinic/2025-12-23/
LOCATION:Bathurst Tennis Centre\, 261 Durham Street\, Bathurst\, NSW\, 2795
CATEGORIES:Classes, Lessons, Workshops and Talks,Community Event,Sporting Events
ATTACH;FMTTYPE=image/jpeg:https://www.bathurstregion.com.au/wp-content/uploads/2022/06/Untitled-2.jpg
ORGANIZER;CN="Bathurst Tennis Centre":MAILTO:mitto@bathursttenniscentre.com.au
END:VEVENT
BEGIN:VEVENT
DTSTART;TZID=Australia/Sydney:20251223T130000
DTEND;TZID=Australia/Sydney:20251223T180000
DTSTAMP:20260426T105444
CREATED:20251124T012954Z
LAST-MODIFIED:20251124T012956Z
UID:10004697-1766494800-1766512800@www.bathurstregion.com.au
SUMMARY:Bathurst Thoroughbred Racing
DESCRIPTION:Come and Join us for our Christmas meeting. We will have fun for all the family with the jumping castle\, face painting\, Pooka Entertainment\, a visit from Santa and the inaugural Christmas Guinea Pig Cup. Bring your friends and join us for a Canapes Function in the Racing Lounge. Tickets available at 123tix. See you trackside !
URL:https://www.bathurstregion.com.au/event/bathurst-thoroughbred-racing-15/
LOCATION:Bathurst Thoroughbred Racing\, 55 Eleven Mile Dr\, Bathurst\, 2795
CATEGORIES:Sporting Events
ATTACH;FMTTYPE=image/png:https://www.bathurstregion.com.au/wp-content/uploads/2025/11/Merry-Christmas-Meeting-2.png
ORGANIZER;CN="Bathurst Throughbred Racing":MAILTO:manager@btracing.com.au
END:VEVENT
END:VCALENDAR