
BEGIN:VCALENDAR
VERSION:2.0
PRODID:-//Bathurst Region Tourism - ECPv6.15.16//NONSGML v1.0//EN
CALSCALE:GREGORIAN
METHOD:PUBLISH
X-ORIGINAL-URL:https://www.bathurstregion.com.au
X-WR-CALDESC:Events for Bathurst Region Tourism
REFRESH-INTERVAL;VALUE=DURATION:PT1H
X-Robots-Tag:noindex
X-PUBLISHED-TTL:PT1H
BEGIN:VTIMEZONE
TZID:Australia/Sydney
BEGIN:STANDARD
TZOFFSETFROM:+1100
TZOFFSETTO:+1000
TZNAME:AEST
DTSTART:20240406T160000
END:STANDARD
BEGIN:DAYLIGHT
TZOFFSETFROM:+1000
TZOFFSETTO:+1100
TZNAME:AEDT
DTSTART:20241005T160000
END:DAYLIGHT
BEGIN:STANDARD
TZOFFSETFROM:+1100
TZOFFSETTO:+1000
TZNAME:AEST
DTSTART:20250405T160000
END:STANDARD
BEGIN:DAYLIGHT
TZOFFSETFROM:+1000
TZOFFSETTO:+1100
TZNAME:AEDT
DTSTART:20251004T160000
END:DAYLIGHT
BEGIN:STANDARD
TZOFFSETFROM:+1100
TZOFFSETTO:+1000
TZNAME:AEST
DTSTART:20260404T160000
END:STANDARD
BEGIN:DAYLIGHT
TZOFFSETFROM:+1000
TZOFFSETTO:+1100
TZNAME:AEDT
DTSTART:20261003T160000
END:DAYLIGHT
END:VTIMEZONE
BEGIN:VEVENT
DTSTART;TZID=Australia/Sydney:20251104T120000
DTEND;TZID=Australia/Sydney:20251104T170000
DTSTAMP:20260420T142154
CREATED:20251003T014329Z
LAST-MODIFIED:20251003T014331Z
UID:10004602-1762257600-1762275600@www.bathurstregion.com.au
SUMMARY:Melbourne Cup Long Lunch
DESCRIPTION:Join us for a spectacular Long Lunch featuring delicious canapés\, a two-course meal\, and a complimentary drink with each meal. Enjoy the excitement of the race with a live screening\, plus live music by Jo Hyndes\, fun sweeps\, and fabulous prizes for best dressed. Don’t miss your chance to win our lucky door prizes while soaking up the vibrant atmosphere.\n\n​Tickets are just $110 per person – secure your spot now and make this Melbourne Cup Day one to remember!
URL:https://www.bathurstregion.com.au/event/melbourne-cup-long-lunch/
LOCATION:The Greens on William\, 29 William Street\, Bathurst\, NSW\, 2795
CATEGORIES:Sporting Events
ATTACH;FMTTYPE=image/png:https://www.bathurstregion.com.au/wp-content/uploads/2025/10/Long-Lunch-Melbourne-Cup.png
ORGANIZER;CN="The Greens On William":MAILTO:info@thegreensonwilliam.com.au
END:VEVENT
END:VCALENDAR