
BEGIN:VCALENDAR
VERSION:2.0
PRODID:-//Bathurst Region Tourism - ECPv6.15.16//NONSGML v1.0//EN
CALSCALE:GREGORIAN
METHOD:PUBLISH
X-ORIGINAL-URL:https://www.bathurstregion.com.au
X-WR-CALDESC:Events for Bathurst Region Tourism
REFRESH-INTERVAL;VALUE=DURATION:PT1H
X-Robots-Tag:noindex
X-PUBLISHED-TTL:PT1H
BEGIN:VTIMEZONE
TZID:Australia/Sydney
BEGIN:STANDARD
TZOFFSETFROM:+1100
TZOFFSETTO:+1000
TZNAME:AEST
DTSTART:20250405T160000
END:STANDARD
BEGIN:DAYLIGHT
TZOFFSETFROM:+1000
TZOFFSETTO:+1100
TZNAME:AEDT
DTSTART:20251004T160000
END:DAYLIGHT
BEGIN:STANDARD
TZOFFSETFROM:+1100
TZOFFSETTO:+1000
TZNAME:AEST
DTSTART:20260404T160000
END:STANDARD
BEGIN:DAYLIGHT
TZOFFSETFROM:+1000
TZOFFSETTO:+1100
TZNAME:AEDT
DTSTART:20261003T160000
END:DAYLIGHT
BEGIN:STANDARD
TZOFFSETFROM:+1100
TZOFFSETTO:+1000
TZNAME:AEST
DTSTART:20270403T160000
END:STANDARD
BEGIN:DAYLIGHT
TZOFFSETFROM:+1000
TZOFFSETTO:+1100
TZNAME:AEDT
DTSTART:20271002T160000
END:DAYLIGHT
END:VTIMEZONE
BEGIN:VEVENT
DTSTART;TZID=Australia/Sydney:20260109T170000
DTEND;TZID=Australia/Sydney:20260109T220000
DTSTAMP:20260425T080731
CREATED:20251124T005027Z
LAST-MODIFIED:20251124T005027Z
UID:10004247-1767978000-1767996000@www.bathurstregion.com.au
SUMMARY:Oberon Cup Night
DESCRIPTION:Event Details:\n– When 5pm – 10pm\, Friday 9th of January\n– Venue: Bathurst Harness Racing Club\n– Admission: FREE! \nGet ready for an amazing evening at Oberon Cup Night\, a family-friendly harness racing event packed with excitement both on and off the track! Enjoy a full race card featuring harness racing action\, perfect for racing fans and newcomers alike. \nBring the whole family!\n– Jumping Castle\n– Face Painting\n– Swirl and Dip Ice Cream & Coffee Van \nRelax\, cheer\, and indulge with the full bistro and bar open\, including tap beer for the adults. \nWhether you’re here for the racing\, the food\, or the fun\, Oberon Cup Night promises a fantastic evening for all ages. Mark your calendar and join us for a great night out!
URL:https://www.bathurstregion.com.au/event/oberon-cup-night/
LOCATION:Bathurst Harness Racing Club\, 169 College Road\, Bathurst\, NSW\, 2795\, Australia
CATEGORIES:Sporting Events
ATTACH;FMTTYPE=image/png:https://www.bathurstregion.com.au/wp-content/uploads/2025/11/Bathurst-Tourism-Oberon-Cup.png
END:VEVENT
BEGIN:VEVENT
DTSTART;TZID=Australia/Sydney:20260110T090000
DTEND;TZID=Australia/Sydney:20260110T090000
DTSTAMP:20260425T080731
CREATED:20250106T011616Z
LAST-MODIFIED:20251120T233528Z
UID:10004732-1768035600-1768035600@www.bathurstregion.com.au
SUMMARY:Rockley Rodeo
DESCRIPTION:Head to the 2026 Rockley rodeo for a day of bull riding\, bronc riding and barrel racing right into the evening. But remember to hang around for our amazing after party at the bar with live music and a whole lot of dancing. \n\n\n\nGate opens from 9am for 11am start.
URL:https://www.bathurstregion.com.au/event/middle-creek-quarry-rockley-rodeo/
LOCATION:Rockley Sportsground\, Budden Street\, Rockley\, NSW\, 2795\, Australia
CATEGORIES:Sporting Events
ATTACH;FMTTYPE=image/jpeg:https://www.bathurstregion.com.au/wp-content/uploads/2025/01/465556001_1069494264725451_2113250202744406064_n.jpg
ORGANIZER;CN="Rockley Rodeo NSW":MAILTO:committee@rockleyrodeo.org.au
END:VEVENT
BEGIN:VEVENT
DTSTART;TZID=Australia/Sydney:20260121T170000
DTEND;TZID=Australia/Sydney:20260121T220000
DTSTAMP:20260425T080731
CREATED:20251124T005027Z
LAST-MODIFIED:20251124T005027Z
UID:10004249-1769014800-1769032800@www.bathurstregion.com.au
SUMMARY:Soldiers Saddle Night
DESCRIPTION:Event Details:\n– When 5pm – 10pm\, Wednesday 21st of January\n– Venue: Bathurst Harness Racing Club\n– Admission: FREE! \nJoin us for Soldiers Saddle\, a special harness racing event that brings the community together to celebrate our servicemen and women. While the event pays tribute to our soldiers and the ANZAC tradition\, the night’s going to be a lively\, family-friendly celebration filled with fun\, entertainment\, and racing action.\nEnjoy a full race card under the lights.\nBring the kids along for an evening packed with activities:\n– Jumping Castle\n– Face Painting\n– Swirl and Dip Ice Cream & Coffee Van \nFor the grown-ups\, relax with great food and drinks from the full bistro and bar\, including tap beer.\nCome together for a meaningful yet fun-packed night that celebrates remembrance. Whether you’re here for the racing\, the food\, or the fun\, Soldiers Saddle’s a fantastic evening to remember.
URL:https://www.bathurstregion.com.au/event/soldiers-saddle-night/
LOCATION:Bathurst Harness Racing Club\, 169 College Road\, Bathurst\, NSW\, 2795\, Australia
CATEGORIES:Sporting Events
ATTACH;FMTTYPE=image/png:https://www.bathurstregion.com.au/wp-content/uploads/2025/11/Bathurst-Tourism-Soldiers-Saddle.png
END:VEVENT
BEGIN:VEVENT
DTSTART;TZID=Australia/Sydney:20260126T090000
DTEND;TZID=Australia/Sydney:20260126T230000
DTSTAMP:20260425T080731
CREATED:20250930T010535Z
LAST-MODIFIED:20250930T010535Z
UID:10004595-1769418000-1769468400@www.bathurstregion.com.au
SUMMARY:BATHURST ANNUAL AUSTRALIA DAY TRIATHLON
DESCRIPTION:Bathurst’s Biggest Triathlon Event of the Year\nWhile the Australia Day Triathlon in Bathurst is one of the most prestigious events in Country NSW\, it is a wonderful way to celebrate Australia Day\, giving the citizens of Bathurst an opportunity to get “out an active” on Australia Day Morning. The Australia Day event is the Bathurst Wallabies Triathlon Clubs round in the Central West Interclub series and is quite a spectacle\, bragging an excellent Honour Roll.\nThe event is based at Stanley Street which is a very historic site\, being where Governor and Lady Macquarie proclaimed the city and first European Settlement in Inland Australia. But prior to this\, the venue was the meeting place of the two dominant water courses of the Bathurst Plains: with the Wambool (Macquarie River) and Vale creek joining at the location. This had created a sandy beach & swimming hole long before white settlement. (NOTE around a century ago\, the Queen Charlotte’s Vale Creek was redirected by the Municipal Council to join the Macquarie/Wambool River further upstream).\nThe 2026 Aussie Day event starting adjacent to the Wambuul Ceremonial Ground & 2015 Bicentennial meeting site\, with race organisers asking all to consider the history of the Wiradyuri Nation at this old natural water hole site. This event is a celebration of life in Australia on our National Day\, as well as the Bathurst round of the Central West Interclub Series.
URL:https://www.bathurstregion.com.au/event/bathurst-annual-australia-day-triathlon/
LOCATION:Stanley Street\, Bathurst\, NSW\, 2795\, Stanley Street\, Bathurst\, 2795
CATEGORIES:Community Event,Festivals and Celebrations,School Holiday Activity,Sporting Events
ATTACH;FMTTYPE=image/jpeg:https://www.bathurstregion.com.au/wp-content/uploads/2025/09/AussieDay-GirlsTri_Tx2.jpg
ORGANIZER;CN="Bathurst Wallabies Triathlon Club":MAILTO:president@bathursttriclub.com.au
END:VEVENT
BEGIN:VEVENT
DTSTART;TZID=Australia/Sydney:20260130T163000
DTEND;TZID=Australia/Sydney:20260130T163000
DTSTAMP:20260425T080731
CREATED:20251118T004139Z
LAST-MODIFIED:20251118T004143Z
UID:10004670-1769790600-1769790600@www.bathurstregion.com.au
SUMMARY:Bathurst Carnival of Cups
DESCRIPTION:Join us on Friday January 30 at the Gold Crown Paceway for the Carnival of Cups. \n\n\n\nGet Ready for the Bathurst Carnival of Cups!\n\n\n\nCome join us at Bathurst Harness Racing Club on January 30\, 2026\, for a fantastic night of elite harness racing\, entertainment\, food and fun! \n\n\n\nExperience the thrill of the races and cheer on your favourite horses to the tunes of Birds Of Tokyo who will be joined by You Am I\, Bachelor Girl\, Matt Boylan-Smith with support by Chloe Swannell. \n\n\n\nDon’t miss out on this exciting event\, that also features the inaugural running of the $60\,000 “The Gold Rush Cup” as well as the $75\,000 TAB Regional Championships Western Final. \n\n\n\nBring your friends and family along for a night filled with excitement and entertainment. See you there!
URL:https://www.bathurstregion.com.au/event/bathurst-carnival-of-cups/
LOCATION:Bathurst Harness Racing Club\, 169 College Road\, Bathurst\, NSW\, 2795\, Australia
CATEGORIES:Sporting Events
ATTACH;FMTTYPE=image/png:https://www.bathurstregion.com.au/wp-content/uploads/2025/11/image-5.png
END:VEVENT
BEGIN:VEVENT
DTSTART;TZID=Australia/Sydney:20260131T000000
DTEND;TZID=Australia/Sydney:20260201T235959
DTSTAMP:20260425T080731
CREATED:20221106T033544Z
LAST-MODIFIED:20251125T004117Z
UID:10003894-1769817600-1769990399@www.bathurstregion.com.au
SUMMARY:Bathurst Cup - Boys Youth Football Tournament
DESCRIPTION:The Bathurst Cup is for teams in Under 13-16 Boys and U18 Boys (limited number) from Boys Youth League\, Association Youth League\, Association Representative\, Association Club Teams to play shortened games over a weekend to provide pre-season games in an enjoyable and competitive environment. 
URL:https://www.bathurstregion.com.au/event/bathurst-cup-2/
CATEGORIES:Sporting Events
ATTACH;FMTTYPE=image/jpeg:https://www.bathurstregion.com.au/wp-content/uploads/2024/09/Bathurst-FNSW-Lock-Up-300x158-1-1.jpeg
ORGANIZER;CN="Bathurst District Football Inc":MAILTO:Secretary@bathurstfootball.net
END:VEVENT
END:VCALENDAR