
BEGIN:VCALENDAR
VERSION:2.0
PRODID:-//Bathurst Region Tourism - ECPv6.15.16//NONSGML v1.0//EN
CALSCALE:GREGORIAN
METHOD:PUBLISH
X-WR-CALNAME:Bathurst Region Tourism
X-ORIGINAL-URL:https://www.bathurstregion.com.au
X-WR-CALDESC:Events for Bathurst Region Tourism
REFRESH-INTERVAL;VALUE=DURATION:PT1H
X-Robots-Tag:noindex
X-PUBLISHED-TTL:PT1H
BEGIN:VTIMEZONE
TZID:Australia/Sydney
BEGIN:STANDARD
TZOFFSETFROM:+1100
TZOFFSETTO:+1000
TZNAME:AEST
DTSTART:20250405T160000
END:STANDARD
BEGIN:DAYLIGHT
TZOFFSETFROM:+1000
TZOFFSETTO:+1100
TZNAME:AEDT
DTSTART:20251004T160000
END:DAYLIGHT
BEGIN:STANDARD
TZOFFSETFROM:+1100
TZOFFSETTO:+1000
TZNAME:AEST
DTSTART:20260404T160000
END:STANDARD
BEGIN:DAYLIGHT
TZOFFSETFROM:+1000
TZOFFSETTO:+1100
TZNAME:AEDT
DTSTART:20261003T160000
END:DAYLIGHT
BEGIN:STANDARD
TZOFFSETFROM:+1100
TZOFFSETTO:+1000
TZNAME:AEST
DTSTART:20270403T160000
END:STANDARD
BEGIN:DAYLIGHT
TZOFFSETFROM:+1000
TZOFFSETTO:+1100
TZNAME:AEDT
DTSTART:20271002T160000
END:DAYLIGHT
END:VTIMEZONE
BEGIN:VEVENT
DTSTART;TZID=Australia/Sydney:20260208T070000
DTEND;TZID=Australia/Sydney:20260208T110000
DTSTAMP:20260421T103442
CREATED:20240112T051158Z
LAST-MODIFIED:20260111T230347Z
UID:10003706-1770534000-1770548400@www.bathurstregion.com.au
SUMMARY:Newbridge Swap Meet
DESCRIPTION:A swap meet is all about cars. And people arrive in cars to look at parts for cars (and bikes\, of course\, and the toys and laundry tubs and vintage wares and any manner of other treasures that you cannot live without). Luckily\, the organisers have a plan and can confirm that\, once again\, there is free parking on the oval for visitors to the Newbridge Swap Meet. Careful and courteous parking on the roadside in the village is also permitted. \nRunning from 7am to 11am on Sunday\, February 8 at the Newbridge Showground\, visitor entry is only $5 and children under 16 can enter for free. Bring the family for a morning out in this historic and picturesque village just 40 minutes from Orange\, 35 minutes from Bathurst and 15 minutes from Blayney. \nNewbridge Swap Meet will be held at Newbridge Showground\, 40 Three Brothers Road\, Newbridge. \nFor more information follow the Newbridge Swap Meet Facebook page https://bit.ly/3HhVKHq
URL:https://www.bathurstregion.com.au/event/newbridge-swap-meet/
LOCATION:Newbridge Showground\, Three Brothers Road\, Newbridge\, 2795
CATEGORIES:Community Event,Markets
ATTACH;FMTTYPE=image/jpeg:https://www.bathurstregion.com.au/wp-content/uploads/2025/01/big-cars-and-little-ones.jpg
ORGANIZER;CN="Newbridge Progress Association":MAILTO:springintonew@outlook.com
END:VEVENT
END:VCALENDAR