
BEGIN:VCALENDAR
VERSION:2.0
PRODID:-//Bathurst Region Tourism - ECPv6.15.16//NONSGML v1.0//EN
CALSCALE:GREGORIAN
METHOD:PUBLISH
X-ORIGINAL-URL:https://www.bathurstregion.com.au
X-WR-CALDESC:Events for Bathurst Region Tourism
REFRESH-INTERVAL;VALUE=DURATION:PT1H
X-Robots-Tag:noindex
X-PUBLISHED-TTL:PT1H
BEGIN:VTIMEZONE
TZID:Australia/Sydney
BEGIN:STANDARD
TZOFFSETFROM:+1100
TZOFFSETTO:+1000
TZNAME:AEST
DTSTART:20240406T160000
END:STANDARD
BEGIN:DAYLIGHT
TZOFFSETFROM:+1000
TZOFFSETTO:+1100
TZNAME:AEDT
DTSTART:20241005T160000
END:DAYLIGHT
BEGIN:STANDARD
TZOFFSETFROM:+1100
TZOFFSETTO:+1000
TZNAME:AEST
DTSTART:20250405T160000
END:STANDARD
BEGIN:DAYLIGHT
TZOFFSETFROM:+1000
TZOFFSETTO:+1100
TZNAME:AEDT
DTSTART:20251004T160000
END:DAYLIGHT
BEGIN:STANDARD
TZOFFSETFROM:+1100
TZOFFSETTO:+1000
TZNAME:AEST
DTSTART:20260404T160000
END:STANDARD
BEGIN:DAYLIGHT
TZOFFSETFROM:+1000
TZOFFSETTO:+1100
TZNAME:AEDT
DTSTART:20261003T160000
END:DAYLIGHT
END:VTIMEZONE
BEGIN:VEVENT
DTSTART;TZID=Australia/Sydney:20251212T160000
DTEND;TZID=Australia/Sydney:20251212T170000
DTSTAMP:20260421T201137
CREATED:20240103T004839Z
LAST-MODIFIED:20260114T021027Z
UID:10003685-1765555200-1765558800@www.bathurstregion.com.au
SUMMARY:Bathurst Grange Distillery Tour & Tasting
DESCRIPTION:Friday Tour Time: 4pm \n\n\n\nSaturday Tour Times: 11am\, 2pm\, 3pm & 4pm \n\n\n\nBook tours here http://bit.ly/4o2mTBx \n\n\n\nJoin a tour at the Bathurst Grange Distillery and see surrounding gardens and farmland on the heritage property\, The Grange\, established in 1823. \n\n\n\nShare the passion for distilling Whisky and Gin as they explain the techniques and craft of making the premium spirits. \n\n\n\n​Learn the art of distillation. \n\n\n\n\nTaste premium small batch spirits\n\n\n\nSee farmland & friendly animals\n\n\n\nDiscover the history of the region\n\n\n\n\nCost : $20 per person \n\n\n\n\n\nBathurst Grange Distillery \n\n\n\nBathurst Grange Distillery\, 3249 O’Connell Rd\, Bathurst02 7228 79130413 632 643www.bathurstgrange.com.au
URL:https://www.bathurstregion.com.au/event/bathurst-grange-distillery-tour-tasting-2-2024-01-13/2025-12-12/
LOCATION:Bathurst Grange Distillery\, Bathurst Grange Distillery\, 3249 O'Connell Rd\, Bathurst\, Bathurst\, 2795\, Australia
CATEGORIES:Classes, Lessons, Workshops and Talks,History and Heritage,Markets,Tours
ATTACH;FMTTYPE=image/jpeg:https://www.bathurstregion.com.au/wp-content/uploads/2024/01/Untitled-1-Recovered.jpg
END:VEVENT
BEGIN:VEVENT
DTSTART;TZID=Australia/Sydney:20251213T110000
DTEND;TZID=Australia/Sydney:20251213T170000
DTSTAMP:20260421T201137
CREATED:20260114T023559Z
LAST-MODIFIED:20260114T023559Z
UID:10003700-1765623600-1765645200@www.bathurstregion.com.au
SUMMARY:Bathurst Grange Distillery Tour & Tasting
DESCRIPTION:Friday Tour Time: 4pm \n\n\n\nSaturday Tour Times: 11am\, 2pm\, 3pm & 4pm \n\n\n\nBook tours here http://bit.ly/4o2mTBx \n\n\n\nJoin a tour at the Bathurst Grange Distillery and see surrounding gardens and farmland on the heritage property\, The Grange\, established in 1823. \n\n\n\nShare the passion for distilling Whisky and Gin as they explain the techniques and craft of making the premium spirits. \n\n\n\n​Learn the art of distillation. \n\n\n\n\nTaste premium small batch spirits\n\n\n\nSee farmland & friendly animals\n\n\n\nDiscover the history of the region\n\n\n\n\nCost : $20 per person \n\n\n\n\n\nBathurst Grange Distillery \n\n\n\nBathurst Grange Distillery\, 3249 O’Connell Rd\, Bathurst02 7228 79130413 632 643www.bathurstgrange.com.au
URL:https://www.bathurstregion.com.au/event/bathurst-grange-distillery-tour-tasting-2-2024-01-13/2025-12-13/
LOCATION:Bathurst Grange Distillery\, Bathurst Grange Distillery\, 3249 O'Connell Rd\, Bathurst\, Bathurst\, 2795\, Australia
CATEGORIES:Classes, Lessons, Workshops and Talks,History and Heritage,Markets,Tours
ATTACH;FMTTYPE=image/jpeg:https://www.bathurstregion.com.au/wp-content/uploads/2024/01/Untitled-1-Recovered.jpg
END:VEVENT
BEGIN:VEVENT
DTSTART;TZID=Australia/Sydney:20251214T090000
DTEND;TZID=Australia/Sydney:20251214T130000
DTSTAMP:20260421T201137
CREATED:20251119T231712Z
LAST-MODIFIED:20251119T231714Z
UID:10004698-1765702800-1765717200@www.bathurstregion.com.au
SUMMARY:Rockley Artistsans Christmas Market
DESCRIPTION:Steven’s Park comes alive with the Christmas Market.  Live music with Francis Kate Music\, plus food and coffee stalls\, and loads of stalls for your Christmas shopping.  \nSimmone Louge will be selling her signature Christmas fare.  Santa will arrive on the village RFS truck.  Kids activities at the pub or book in for a Matt Moran lunch.
URL:https://www.bathurstregion.com.au/event/rockley-artistsans-christmas-market-2/
LOCATION:Stevens Park\, Rockley
CATEGORIES:Markets
ATTACH;FMTTYPE=image/jpeg:https://www.bathurstregion.com.au/wp-content/uploads/2025/11/IMG_2429-2.jpeg
ORGANIZER;CN="Rockley and District Community Association Inc.":MAILTO:johnmontya@gmail.com
END:VEVENT
END:VCALENDAR