
BEGIN:VCALENDAR
VERSION:2.0
PRODID:-//Bathurst Region Tourism - ECPv6.15.16//NONSGML v1.0//EN
CALSCALE:GREGORIAN
METHOD:PUBLISH
X-WR-CALNAME:Bathurst Region Tourism
X-ORIGINAL-URL:https://www.bathurstregion.com.au
X-WR-CALDESC:Events for Bathurst Region Tourism
REFRESH-INTERVAL;VALUE=DURATION:PT1H
X-Robots-Tag:noindex
X-PUBLISHED-TTL:PT1H
BEGIN:VTIMEZONE
TZID:Australia/Sydney
BEGIN:STANDARD
TZOFFSETFROM:+1100
TZOFFSETTO:+1000
TZNAME:AEST
DTSTART:20250405T160000
END:STANDARD
BEGIN:DAYLIGHT
TZOFFSETFROM:+1000
TZOFFSETTO:+1100
TZNAME:AEDT
DTSTART:20251004T160000
END:DAYLIGHT
BEGIN:STANDARD
TZOFFSETFROM:+1100
TZOFFSETTO:+1000
TZNAME:AEST
DTSTART:20260404T160000
END:STANDARD
BEGIN:DAYLIGHT
TZOFFSETFROM:+1000
TZOFFSETTO:+1100
TZNAME:AEDT
DTSTART:20261003T160000
END:DAYLIGHT
BEGIN:STANDARD
TZOFFSETFROM:+1100
TZOFFSETTO:+1000
TZNAME:AEST
DTSTART:20270403T160000
END:STANDARD
BEGIN:DAYLIGHT
TZOFFSETFROM:+1000
TZOFFSETTO:+1100
TZNAME:AEDT
DTSTART:20271002T160000
END:DAYLIGHT
END:VTIMEZONE
BEGIN:VEVENT
DTSTART;TZID=Australia/Sydney:20260307T100000
DTEND;TZID=Australia/Sydney:20260307T140000
DTSTAMP:20260421T164444
CREATED:20260114T205958Z
LAST-MODIFIED:20260114T205958Z
UID:10003664-1772877600-1772892000@www.bathurstregion.com.au
SUMMARY:Bloom Kids Market
DESCRIPTION:Have your kids outgrown their clothes\, shoes\, and toys?\nTurn those preloved treasures into extra cash by booking a stall at the Bloom Kids Market!\nIt’s the perfect way to clear out wardrobes\, pass on quality items to new families\, and support sustainable fashion in our community.\nWhether it’s stylish outfits\, shoes\, accessories\, toys\, or books\, Bloom gives your items a second life while you enjoy a fun and rewarding market day.\nSpaces are limited\, so secure your stall now and be part of this exciting event!
URL:https://www.bathurstregion.com.au/event/bloom-kids-market/
LOCATION:The Greens on William\, 29 William Street\, Bathurst\, NSW\, 2795
CATEGORIES:Markets
ATTACH;FMTTYPE=image/png:https://www.bathurstregion.com.au/wp-content/uploads/2026/01/Bloom-Poster-V2-1.png
ORGANIZER;CN="The Greens On William":MAILTO:info@thegreensonwilliam.com.au
END:VEVENT
BEGIN:VEVENT
DTSTART;TZID=Australia/Sydney:20260308T090000
DTEND;TZID=Australia/Sydney:20260308T130000
DTSTAMP:20260421T164444
CREATED:20260224T005958Z
LAST-MODIFIED:20260224T010000Z
UID:10004956-1772960400-1772974800@www.bathurstregion.com.au
SUMMARY:Rockley Artisans Market
DESCRIPTION:The Autumn markets are on again with artisans from across the central west selling their products and produce.  Everything from jewellery to wine and almost everything in between!\n\nMake a day of it in the beautiful village of Rockley\, full of stunning building\, friendly locals and Matt Moran’s pub.  \n\nBring a picnic or gather supplies at the market and enjoy a autumnal feast in Steven’s Park.
URL:https://www.bathurstregion.com.au/event/rockley-artisans-market/
LOCATION:Stevens Park\, Rockley
CATEGORIES:Markets
ATTACH;FMTTYPE=image/jpeg:https://www.bathurstregion.com.au/wp-content/uploads/2026/02/IMG_2436-rotated.jpeg
ORGANIZER;CN="Rockley and District Community Association Inc.":MAILTO:johnmontya@gmail.com
END:VEVENT
END:VCALENDAR