
BEGIN:VCALENDAR
VERSION:2.0
PRODID:-//Bathurst Region Tourism - ECPv6.15.16//NONSGML v1.0//EN
CALSCALE:GREGORIAN
METHOD:PUBLISH
X-ORIGINAL-URL:https://www.bathurstregion.com.au
X-WR-CALDESC:Events for Bathurst Region Tourism
REFRESH-INTERVAL;VALUE=DURATION:PT1H
X-Robots-Tag:noindex
X-PUBLISHED-TTL:PT1H
BEGIN:VTIMEZONE
TZID:Australia/Sydney
BEGIN:STANDARD
TZOFFSETFROM:+1100
TZOFFSETTO:+1000
TZNAME:AEST
DTSTART:20240406T160000
END:STANDARD
BEGIN:DAYLIGHT
TZOFFSETFROM:+1000
TZOFFSETTO:+1100
TZNAME:AEDT
DTSTART:20241005T160000
END:DAYLIGHT
BEGIN:STANDARD
TZOFFSETFROM:+1100
TZOFFSETTO:+1000
TZNAME:AEST
DTSTART:20250405T160000
END:STANDARD
BEGIN:DAYLIGHT
TZOFFSETFROM:+1000
TZOFFSETTO:+1100
TZNAME:AEDT
DTSTART:20251004T160000
END:DAYLIGHT
BEGIN:STANDARD
TZOFFSETFROM:+1100
TZOFFSETTO:+1000
TZNAME:AEST
DTSTART:20260404T160000
END:STANDARD
BEGIN:DAYLIGHT
TZOFFSETFROM:+1000
TZOFFSETTO:+1100
TZNAME:AEDT
DTSTART:20261003T160000
END:DAYLIGHT
END:VTIMEZONE
BEGIN:VEVENT
DTSTART;TZID=Australia/Sydney:20250927T110000
DTEND;TZID=Australia/Sydney:20251108T120000
DTSTAMP:20260422T053646
CREATED:20250811T020134Z
LAST-MODIFIED:20250811T020134Z
UID:10003993-1758970800-1762603200@www.bathurstregion.com.au
SUMMARY:Exhibition Tours
DESCRIPTION:Join us at the gallery each Saturday during our current exhibitions\, for a free guided tour!  \nSaturdays\, 11am\nFREE\, all welcome\, RSVP online or at BRAG reception \nOur current suite of exhibitions includes: \nA Tear in the Fabric presents new and existing works from nine Asian and Asian Australian artists who embrace distortion as a mode of disruption. In partnership with 4A Centre for Contemporary Asian Art\, the exhibition revolves around notions of aesthetic\, material and conceptual interventions integrated into established forms of creative practice. Picking at the seams to make space for new narratives and artistic approaches\, we see exploratory excursions into concepts of place\, materiality\, memory\, identity and perception\, manifesting in a diverse range of mediums. \nTea Ceremony in the Celestial Garden\, is reminiscent of the famous Japanese food display ‘shokuhin sampuru’ or French pastries display in Paris\, the cakes are mouth-watering\, but not for consumption. The construction of the cakes in ceramics is labour-intensive\, down to each sprinkle of hundreds and thousands. Their imaginary forms conjure a colourful\, dream-like world. This project was created during a 2025 artist residency at the PumpHouse Albury. \nLandscapes of Imagination: From the Collection\, bringing together works from the Bathurst Regional Art Gallery Collection that reflect the enduring artistic allure of Hill End. This historic village has captured the imaginations of artists drawn to its layered histories\, dramatic terrain\, and evocative sense of place. \nImage: Jayanto Tan\, Berries Cream Tarts\, 2025\, ceramic\, 9 x 26 x 26 x 26 cm. Courtesy the artist.
URL:https://www.bathurstregion.com.au/event/exhibition-tours-3/2025-09-27/
LOCATION:Bathurst Regional Art Gallery\, 70-78 Keppel Street\, Bathurst\, 2795
CATEGORIES:Art,Tours
ATTACH;FMTTYPE=image/jpeg:https://www.bathurstregion.com.au/wp-content/uploads/2025/08/Jayanto-Tan-2-scaled.jpg
ORGANIZER;CN="Bathurst Regional Art Gallery":MAILTO:brag@bathurst.nsw.gov.au
END:VEVENT
BEGIN:VEVENT
DTSTART;TZID=Australia/Sydney:20251004T110000
DTEND;TZID=Australia/Sydney:20251115T120000
DTSTAMP:20260422T053646
CREATED:20250811T020134Z
LAST-MODIFIED:20250811T020134Z
UID:10003994-1759575600-1763208000@www.bathurstregion.com.au
SUMMARY:Exhibition Tours
DESCRIPTION:Join us at the gallery each Saturday during our current exhibitions\, for a free guided tour!  \nSaturdays\, 11am\nFREE\, all welcome\, RSVP online or at BRAG reception \nOur current suite of exhibitions includes: \nA Tear in the Fabric presents new and existing works from nine Asian and Asian Australian artists who embrace distortion as a mode of disruption. In partnership with 4A Centre for Contemporary Asian Art\, the exhibition revolves around notions of aesthetic\, material and conceptual interventions integrated into established forms of creative practice. Picking at the seams to make space for new narratives and artistic approaches\, we see exploratory excursions into concepts of place\, materiality\, memory\, identity and perception\, manifesting in a diverse range of mediums. \nTea Ceremony in the Celestial Garden\, is reminiscent of the famous Japanese food display ‘shokuhin sampuru’ or French pastries display in Paris\, the cakes are mouth-watering\, but not for consumption. The construction of the cakes in ceramics is labour-intensive\, down to each sprinkle of hundreds and thousands. Their imaginary forms conjure a colourful\, dream-like world. This project was created during a 2025 artist residency at the PumpHouse Albury. \nLandscapes of Imagination: From the Collection\, bringing together works from the Bathurst Regional Art Gallery Collection that reflect the enduring artistic allure of Hill End. This historic village has captured the imaginations of artists drawn to its layered histories\, dramatic terrain\, and evocative sense of place. \nImage: Jayanto Tan\, Berries Cream Tarts\, 2025\, ceramic\, 9 x 26 x 26 x 26 cm. Courtesy the artist.
URL:https://www.bathurstregion.com.au/event/exhibition-tours-3/2025-10-04/
LOCATION:Bathurst Regional Art Gallery\, 70-78 Keppel Street\, Bathurst\, 2795
CATEGORIES:Art,Tours
ATTACH;FMTTYPE=image/jpeg:https://www.bathurstregion.com.au/wp-content/uploads/2025/08/Jayanto-Tan-2-scaled.jpg
ORGANIZER;CN="Bathurst Regional Art Gallery":MAILTO:brag@bathurst.nsw.gov.au
END:VEVENT
BEGIN:VEVENT
DTSTART;TZID=Australia/Sydney:20251011T110000
DTEND;TZID=Australia/Sydney:20251122T110000
DTSTAMP:20260422T053646
CREATED:20250811T020134Z
LAST-MODIFIED:20250811T020134Z
UID:10003995-1760180400-1763809200@www.bathurstregion.com.au
SUMMARY:Exhibition Tours
DESCRIPTION:Join us at the gallery each Saturday during our current exhibitions\, for a free guided tour!  \nSaturdays\, 11am\nFREE\, all welcome\, RSVP online or at BRAG reception \nOur current suite of exhibitions includes: \nA Tear in the Fabric presents new and existing works from nine Asian and Asian Australian artists who embrace distortion as a mode of disruption. In partnership with 4A Centre for Contemporary Asian Art\, the exhibition revolves around notions of aesthetic\, material and conceptual interventions integrated into established forms of creative practice. Picking at the seams to make space for new narratives and artistic approaches\, we see exploratory excursions into concepts of place\, materiality\, memory\, identity and perception\, manifesting in a diverse range of mediums. \nTea Ceremony in the Celestial Garden\, is reminiscent of the famous Japanese food display ‘shokuhin sampuru’ or French pastries display in Paris\, the cakes are mouth-watering\, but not for consumption. The construction of the cakes in ceramics is labour-intensive\, down to each sprinkle of hundreds and thousands. Their imaginary forms conjure a colourful\, dream-like world. This project was created during a 2025 artist residency at the PumpHouse Albury. \nLandscapes of Imagination: From the Collection\, bringing together works from the Bathurst Regional Art Gallery Collection that reflect the enduring artistic allure of Hill End. This historic village has captured the imaginations of artists drawn to its layered histories\, dramatic terrain\, and evocative sense of place. \nImage: Jayanto Tan\, Berries Cream Tarts\, 2025\, ceramic\, 9 x 26 x 26 x 26 cm. Courtesy the artist.
URL:https://www.bathurstregion.com.au/event/exhibition-tours-3/2025-10-11/
LOCATION:Bathurst Regional Art Gallery\, 70-78 Keppel Street\, Bathurst\, 2795
CATEGORIES:Art,Tours
ATTACH;FMTTYPE=image/jpeg:https://www.bathurstregion.com.au/wp-content/uploads/2025/08/Jayanto-Tan-2-scaled.jpg
ORGANIZER;CN="Bathurst Regional Art Gallery":MAILTO:brag@bathurst.nsw.gov.au
END:VEVENT
BEGIN:VEVENT
DTSTART;TZID=Australia/Sydney:20251018T110000
DTEND;TZID=Australia/Sydney:20251129T110000
DTSTAMP:20260422T053646
CREATED:20250811T020134Z
LAST-MODIFIED:20250811T020134Z
UID:10003996-1760785200-1764414000@www.bathurstregion.com.au
SUMMARY:Exhibition Tours
DESCRIPTION:Join us at the gallery each Saturday during our current exhibitions\, for a free guided tour!  \nSaturdays\, 11am\nFREE\, all welcome\, RSVP online or at BRAG reception \nOur current suite of exhibitions includes: \nA Tear in the Fabric presents new and existing works from nine Asian and Asian Australian artists who embrace distortion as a mode of disruption. In partnership with 4A Centre for Contemporary Asian Art\, the exhibition revolves around notions of aesthetic\, material and conceptual interventions integrated into established forms of creative practice. Picking at the seams to make space for new narratives and artistic approaches\, we see exploratory excursions into concepts of place\, materiality\, memory\, identity and perception\, manifesting in a diverse range of mediums. \nTea Ceremony in the Celestial Garden\, is reminiscent of the famous Japanese food display ‘shokuhin sampuru’ or French pastries display in Paris\, the cakes are mouth-watering\, but not for consumption. The construction of the cakes in ceramics is labour-intensive\, down to each sprinkle of hundreds and thousands. Their imaginary forms conjure a colourful\, dream-like world. This project was created during a 2025 artist residency at the PumpHouse Albury. \nLandscapes of Imagination: From the Collection\, bringing together works from the Bathurst Regional Art Gallery Collection that reflect the enduring artistic allure of Hill End. This historic village has captured the imaginations of artists drawn to its layered histories\, dramatic terrain\, and evocative sense of place. \nImage: Jayanto Tan\, Berries Cream Tarts\, 2025\, ceramic\, 9 x 26 x 26 x 26 cm. Courtesy the artist.
URL:https://www.bathurstregion.com.au/event/exhibition-tours-3/2025-10-18/
LOCATION:Bathurst Regional Art Gallery\, 70-78 Keppel Street\, Bathurst\, 2795
CATEGORIES:Art,Tours
ATTACH;FMTTYPE=image/jpeg:https://www.bathurstregion.com.au/wp-content/uploads/2025/08/Jayanto-Tan-2-scaled.jpg
ORGANIZER;CN="Bathurst Regional Art Gallery":MAILTO:brag@bathurst.nsw.gov.au
END:VEVENT
BEGIN:VEVENT
DTSTART;TZID=Australia/Sydney:20251025T110000
DTEND;TZID=Australia/Sydney:20251206T110000
DTSTAMP:20260422T053646
CREATED:20250811T020134Z
LAST-MODIFIED:20250811T020134Z
UID:10003997-1761390000-1765018800@www.bathurstregion.com.au
SUMMARY:Exhibition Tours
DESCRIPTION:Join us at the gallery each Saturday during our current exhibitions\, for a free guided tour!  \nSaturdays\, 11am\nFREE\, all welcome\, RSVP online or at BRAG reception \nOur current suite of exhibitions includes: \nA Tear in the Fabric presents new and existing works from nine Asian and Asian Australian artists who embrace distortion as a mode of disruption. In partnership with 4A Centre for Contemporary Asian Art\, the exhibition revolves around notions of aesthetic\, material and conceptual interventions integrated into established forms of creative practice. Picking at the seams to make space for new narratives and artistic approaches\, we see exploratory excursions into concepts of place\, materiality\, memory\, identity and perception\, manifesting in a diverse range of mediums. \nTea Ceremony in the Celestial Garden\, is reminiscent of the famous Japanese food display ‘shokuhin sampuru’ or French pastries display in Paris\, the cakes are mouth-watering\, but not for consumption. The construction of the cakes in ceramics is labour-intensive\, down to each sprinkle of hundreds and thousands. Their imaginary forms conjure a colourful\, dream-like world. This project was created during a 2025 artist residency at the PumpHouse Albury. \nLandscapes of Imagination: From the Collection\, bringing together works from the Bathurst Regional Art Gallery Collection that reflect the enduring artistic allure of Hill End. This historic village has captured the imaginations of artists drawn to its layered histories\, dramatic terrain\, and evocative sense of place. \nImage: Jayanto Tan\, Berries Cream Tarts\, 2025\, ceramic\, 9 x 26 x 26 x 26 cm. Courtesy the artist.
URL:https://www.bathurstregion.com.au/event/exhibition-tours-3/2025-10-25/
LOCATION:Bathurst Regional Art Gallery\, 70-78 Keppel Street\, Bathurst\, 2795
CATEGORIES:Art,Tours
ATTACH;FMTTYPE=image/jpeg:https://www.bathurstregion.com.au/wp-content/uploads/2025/08/Jayanto-Tan-2-scaled.jpg
ORGANIZER;CN="Bathurst Regional Art Gallery":MAILTO:brag@bathurst.nsw.gov.au
END:VEVENT
BEGIN:VEVENT
DTSTART;TZID=Australia/Sydney:20251101T110000
DTEND;TZID=Australia/Sydney:20251213T110000
DTSTAMP:20260422T053646
CREATED:20250811T020134Z
LAST-MODIFIED:20250811T020134Z
UID:10003998-1761994800-1765623600@www.bathurstregion.com.au
SUMMARY:Exhibition Tours
DESCRIPTION:Join us at the gallery each Saturday during our current exhibitions\, for a free guided tour!  \nSaturdays\, 11am\nFREE\, all welcome\, RSVP online or at BRAG reception \nOur current suite of exhibitions includes: \nA Tear in the Fabric presents new and existing works from nine Asian and Asian Australian artists who embrace distortion as a mode of disruption. In partnership with 4A Centre for Contemporary Asian Art\, the exhibition revolves around notions of aesthetic\, material and conceptual interventions integrated into established forms of creative practice. Picking at the seams to make space for new narratives and artistic approaches\, we see exploratory excursions into concepts of place\, materiality\, memory\, identity and perception\, manifesting in a diverse range of mediums. \nTea Ceremony in the Celestial Garden\, is reminiscent of the famous Japanese food display ‘shokuhin sampuru’ or French pastries display in Paris\, the cakes are mouth-watering\, but not for consumption. The construction of the cakes in ceramics is labour-intensive\, down to each sprinkle of hundreds and thousands. Their imaginary forms conjure a colourful\, dream-like world. This project was created during a 2025 artist residency at the PumpHouse Albury. \nLandscapes of Imagination: From the Collection\, bringing together works from the Bathurst Regional Art Gallery Collection that reflect the enduring artistic allure of Hill End. This historic village has captured the imaginations of artists drawn to its layered histories\, dramatic terrain\, and evocative sense of place. \nImage: Jayanto Tan\, Berries Cream Tarts\, 2025\, ceramic\, 9 x 26 x 26 x 26 cm. Courtesy the artist.
URL:https://www.bathurstregion.com.au/event/exhibition-tours-3/2025-11-01/
LOCATION:Bathurst Regional Art Gallery\, 70-78 Keppel Street\, Bathurst\, 2795
CATEGORIES:Art,Tours
ATTACH;FMTTYPE=image/jpeg:https://www.bathurstregion.com.au/wp-content/uploads/2025/08/Jayanto-Tan-2-scaled.jpg
ORGANIZER;CN="Bathurst Regional Art Gallery":MAILTO:brag@bathurst.nsw.gov.au
END:VEVENT
BEGIN:VEVENT
DTSTART;TZID=Australia/Sydney:20251108T000000
DTEND;TZID=Australia/Sydney:20251108T235959
DTSTAMP:20260422T053646
CREATED:20251107T040626Z
LAST-MODIFIED:20251107T040627Z
UID:10004764-1762560000-1762646399@www.bathurstregion.com.au
SUMMARY:Peter Wilson Ceramics Open Weekend
DESCRIPTION:Annual studio exhibition and sale of Peter Wilson ceramics from 10am to 4pm on 8th and 9th November\, 2025
URL:https://www.bathurstregion.com.au/event/peter-wilson-ceramics-open-weekend/
LOCATION:NSW
CATEGORIES:Exhibition and Shows
ATTACH;FMTTYPE=image/jpeg:https://www.bathurstregion.com.au/wp-content/uploads/2025/11/IMG_0020-1.jpeg
ORGANIZER;CN="Peter Wilson":MAILTO:peter_wilson2@bigpond.com
END:VEVENT
BEGIN:VEVENT
DTSTART;TZID=Australia/Sydney:20251108T000000
DTEND;TZID=Australia/Sydney:20251108T235959
DTSTAMP:20260422T053646
CREATED:20251107T040801Z
LAST-MODIFIED:20251107T040802Z
UID:10004763-1762560000-1762646399@www.bathurstregion.com.au
SUMMARY:Peter Wilson Ceramics Open Weekend
DESCRIPTION:Annual studio exhibition and sale of Peter Wilson ceramics from 10am to 4pm on 8th and 9th November\, 2025
URL:https://www.bathurstregion.com.au/event/peter-wilson-ceramics-open-weekend-2/
LOCATION:NSW
CATEGORIES:Exhibition and Shows
ATTACH;FMTTYPE=image/jpeg:https://www.bathurstregion.com.au/wp-content/uploads/2025/11/IMG_0020.jpeg
ORGANIZER;CN="Peter Wilson":MAILTO:peter_wilson2@bigpond.com
END:VEVENT
BEGIN:VEVENT
DTSTART;TZID=Australia/Sydney:20251108T000000
DTEND;TZID=Australia/Sydney:20251108T235959
DTSTAMP:20260422T053646
CREATED:20251107T040815Z
LAST-MODIFIED:20251107T040817Z
UID:10004766-1762560000-1762646399@www.bathurstregion.com.au
SUMMARY:Peter Wilson Ceramics Open Weekend
DESCRIPTION:Annual studio exhibition and sale of Peter Wilson ceramics from 10am to 4pm on 8th and 9th November\, 2025
URL:https://www.bathurstregion.com.au/event/peter-wilson-ceramics-open-weekend-3/
LOCATION:NSW
CATEGORIES:Exhibition and Shows
ATTACH;FMTTYPE=image/jpeg:https://www.bathurstregion.com.au/wp-content/uploads/2025/11/IMG_0020-2.jpeg
ORGANIZER;CN="Peter Wilson":MAILTO:peter_wilson2@bigpond.com
END:VEVENT
BEGIN:VEVENT
DTSTART;TZID=Australia/Sydney:20251108T100000
DTEND;TZID=Australia/Sydney:20251108T160000
DTSTAMP:20260422T053646
CREATED:20250821T014356Z
LAST-MODIFIED:20251027T215222Z
UID:10004576-1762596000-1762617600@www.bathurstregion.com.au
SUMMARY:Rockley Gardens & Art Festival
DESCRIPTION:Experience the charm of Rockley and its open gardens in their full spring glory. To keep the kids entertained they can participate in the Alice in Wonderland themed scavenger hunt and go in the draw to win some prizes. Our art exhibition will feature our talented creative local artists and equally talented invited artists.  \nThere will be live music while enjoying a bite to eat or a freshly brewed coffee plus there will also be market stalls at the Rockley Public School.   \nWhile you are here\, stroll around the village and view our historic buildings. This event is staged to raise funds to maintain and renovate The School of Arts Hall (1890)\, the historic building is in dire need of repairs. Restorations commenced in 2023 with the facade getting a facelift. \nTickets are $15 for both days and will be available on the day/s at the School of Art Hall\, 28 Hill St. or online via our website ticketing page closer to the date.  \nWe look forward to having you visit our wonderful village.
URL:https://www.bathurstregion.com.au/event/rockley-gardens-art-festival/2025-11-08/
LOCATION:The Village of Rockley
CATEGORIES:Art,Community Event,Exhibition and Shows,Festivals and Celebrations
ATTACH;FMTTYPE=image/jpeg:https://www.bathurstregion.com.au/wp-content/uploads/2025/08/IMG_0082-scaled.jpg
ORGANIZER;CN="Rockley and District Community Association Inc.":MAILTO:johnmontya@gmail.com
END:VEVENT
BEGIN:VEVENT
DTSTART;TZID=Australia/Sydney:20251108T100000
DTEND;TZID=Australia/Sydney:20251108T160000
DTSTAMP:20260422T053646
CREATED:20251107T040502Z
LAST-MODIFIED:20251111T034637Z
UID:10004767-1762596000-1762617600@www.bathurstregion.com.au
SUMMARY:Peter Wilson Ceramics Studio
DESCRIPTION:Open Weekend
URL:https://www.bathurstregion.com.au/event/peter-wilson-ceramics-studio/2025-11-08/
LOCATION:NSW
CATEGORIES:Art
ATTACH;FMTTYPE=image/jpeg:https://www.bathurstregion.com.au/wp-content/uploads/2025/11/31c8f0b3-263d-4e8e-9aeb-8b85284a6a56.jpeg
END:VEVENT
BEGIN:VEVENT
DTSTART;TZID=Australia/Sydney:20251108T110000
DTEND;TZID=Australia/Sydney:20251220T110000
DTSTAMP:20260422T053646
CREATED:20250811T020134Z
LAST-MODIFIED:20250811T020134Z
UID:10003999-1762599600-1766228400@www.bathurstregion.com.au
SUMMARY:Exhibition Tours
DESCRIPTION:Join us at the gallery each Saturday during our current exhibitions\, for a free guided tour!  \nSaturdays\, 11am\nFREE\, all welcome\, RSVP online or at BRAG reception \nOur current suite of exhibitions includes: \nA Tear in the Fabric presents new and existing works from nine Asian and Asian Australian artists who embrace distortion as a mode of disruption. In partnership with 4A Centre for Contemporary Asian Art\, the exhibition revolves around notions of aesthetic\, material and conceptual interventions integrated into established forms of creative practice. Picking at the seams to make space for new narratives and artistic approaches\, we see exploratory excursions into concepts of place\, materiality\, memory\, identity and perception\, manifesting in a diverse range of mediums. \nTea Ceremony in the Celestial Garden\, is reminiscent of the famous Japanese food display ‘shokuhin sampuru’ or French pastries display in Paris\, the cakes are mouth-watering\, but not for consumption. The construction of the cakes in ceramics is labour-intensive\, down to each sprinkle of hundreds and thousands. Their imaginary forms conjure a colourful\, dream-like world. This project was created during a 2025 artist residency at the PumpHouse Albury. \nLandscapes of Imagination: From the Collection\, bringing together works from the Bathurst Regional Art Gallery Collection that reflect the enduring artistic allure of Hill End. This historic village has captured the imaginations of artists drawn to its layered histories\, dramatic terrain\, and evocative sense of place. \nImage: Jayanto Tan\, Berries Cream Tarts\, 2025\, ceramic\, 9 x 26 x 26 x 26 cm. Courtesy the artist.
URL:https://www.bathurstregion.com.au/event/exhibition-tours-3/2025-11-08/
LOCATION:Bathurst Regional Art Gallery\, 70-78 Keppel Street\, Bathurst\, 2795
CATEGORIES:Art,Tours
ATTACH;FMTTYPE=image/jpeg:https://www.bathurstregion.com.au/wp-content/uploads/2025/08/Jayanto-Tan-2-scaled.jpg
ORGANIZER;CN="Bathurst Regional Art Gallery":MAILTO:brag@bathurst.nsw.gov.au
END:VEVENT
BEGIN:VEVENT
DTSTART;TZID=Australia/Sydney:20251109T100000
DTEND;TZID=Australia/Sydney:20251109T160000
DTSTAMP:20260422T053646
CREATED:20250821T014356Z
LAST-MODIFIED:20251027T215222Z
UID:10004577-1762682400-1762704000@www.bathurstregion.com.au
SUMMARY:Rockley Gardens & Art Festival
DESCRIPTION:Experience the charm of Rockley and its open gardens in their full spring glory. To keep the kids entertained they can participate in the Alice in Wonderland themed scavenger hunt and go in the draw to win some prizes. Our art exhibition will feature our talented creative local artists and equally talented invited artists.  \nThere will be live music while enjoying a bite to eat or a freshly brewed coffee plus there will also be market stalls at the Rockley Public School.   \nWhile you are here\, stroll around the village and view our historic buildings. This event is staged to raise funds to maintain and renovate The School of Arts Hall (1890)\, the historic building is in dire need of repairs. Restorations commenced in 2023 with the facade getting a facelift. \nTickets are $15 for both days and will be available on the day/s at the School of Art Hall\, 28 Hill St. or online via our website ticketing page closer to the date.  \nWe look forward to having you visit our wonderful village.
URL:https://www.bathurstregion.com.au/event/rockley-gardens-art-festival/2025-11-09/
LOCATION:The Village of Rockley
CATEGORIES:Art,Community Event,Exhibition and Shows,Festivals and Celebrations
ATTACH;FMTTYPE=image/jpeg:https://www.bathurstregion.com.au/wp-content/uploads/2025/08/IMG_0082-scaled.jpg
ORGANIZER;CN="Rockley and District Community Association Inc.":MAILTO:johnmontya@gmail.com
END:VEVENT
END:VCALENDAR