
BEGIN:VCALENDAR
VERSION:2.0
PRODID:-//Bathurst Region Tourism - ECPv6.15.16//NONSGML v1.0//EN
CALSCALE:GREGORIAN
METHOD:PUBLISH
X-ORIGINAL-URL:https://www.bathurstregion.com.au
X-WR-CALDESC:Events for Bathurst Region Tourism
REFRESH-INTERVAL;VALUE=DURATION:PT1H
X-Robots-Tag:noindex
X-PUBLISHED-TTL:PT1H
BEGIN:VTIMEZONE
TZID:Australia/Sydney
BEGIN:STANDARD
TZOFFSETFROM:+1100
TZOFFSETTO:+1000
TZNAME:AEST
DTSTART:20240406T160000
END:STANDARD
BEGIN:DAYLIGHT
TZOFFSETFROM:+1000
TZOFFSETTO:+1100
TZNAME:AEDT
DTSTART:20241005T160000
END:DAYLIGHT
BEGIN:STANDARD
TZOFFSETFROM:+1100
TZOFFSETTO:+1000
TZNAME:AEST
DTSTART:20250405T160000
END:STANDARD
BEGIN:DAYLIGHT
TZOFFSETFROM:+1000
TZOFFSETTO:+1100
TZNAME:AEDT
DTSTART:20251004T160000
END:DAYLIGHT
BEGIN:STANDARD
TZOFFSETFROM:+1100
TZOFFSETTO:+1000
TZNAME:AEST
DTSTART:20260404T160000
END:STANDARD
BEGIN:DAYLIGHT
TZOFFSETFROM:+1000
TZOFFSETTO:+1100
TZNAME:AEDT
DTSTART:20261003T160000
END:DAYLIGHT
END:VTIMEZONE
BEGIN:VEVENT
DTSTART;TZID=Australia/Sydney:20251201T183000
DTEND;TZID=Australia/Sydney:20251201T200000
DTSTAMP:20260421T064018
CREATED:20250527T030927Z
LAST-MODIFIED:20250527T032413Z
UID:10004219-1764613800-1764619200@www.bathurstregion.com.au
SUMMARY:Music Bingo @ The Tattersalls Hotel
DESCRIPTION:
URL:https://www.bathurstregion.com.au/event/music-bingo-the-tattersalls-hotel/2025-12-01/
LOCATION:Tattersalls Hotel Bathurst\, 35 Keppel Street\, Bathurst\, NSW\, 2795\, Australia
CATEGORIES:Community Event
ATTACH;FMTTYPE=image/png:https://www.bathurstregion.com.au/wp-content/uploads/2025/05/Untitled-1.png
END:VEVENT
BEGIN:VEVENT
DTSTART;TZID=Australia/Sydney:20251201T190000
DTEND;TZID=Australia/Sydney:20251201T201500
DTSTAMP:20260421T064018
CREATED:20251007T235552Z
LAST-MODIFIED:20251007T235555Z
UID:10004612-1764615600-1764620100@www.bathurstregion.com.au
SUMMARY:Sing with us for Christmas
DESCRIPTION:Bathurst Panorama Chorus is inviting women & girls aged 12 & over to join us for 7 weeks of FREE Christmas singing and fun. With lots of favourite Carols and the opportunity to join in local Christmas events. Starting Monday 3 November from 7pm. For full details and to register – go to bathurstpanorama.com
URL:https://www.bathurstregion.com.au/event/sing-with-us-for-christmas/2025-12-01/
LOCATION:Church of Christ Hall\, Wark Pde\, Windradyne\, Wark Parade\, Windradyne\, 2795
CATEGORIES:Classes, Lessons, Workshops and Talks,Community Event,Concert or Performance
ATTACH;FMTTYPE=image/jpeg:https://www.bathurstregion.com.au/wp-content/uploads/2025/10/Xmas-2024-crop.jpg
ORGANIZER;CN="Bathurst Panorama Chorus":MAILTO:bathurstpanorama@yahoo.com.au
END:VEVENT
BEGIN:VEVENT
DTSTART;TZID=Australia/Sydney:20251202T190000
DTEND;TZID=Australia/Sydney:20251202T203000
DTSTAMP:20260421T064018
CREATED:20250804T040344Z
LAST-MODIFIED:20250804T052820Z
UID:10004545-1764702000-1764707400@www.bathurstregion.com.au
SUMMARY:Public Choir
DESCRIPTION:Get Ready to Sing! Mitchell Conservatorium Pub Choir is Back!You asked\, and we listened! We’ve been flooded with emails\, comments\, and letters about the return of our Pub Choir\, and we’re thrilled to announce that the Mitchell Conservatorium Public Choir is officially making its long-awaited comeback! \n\n\n\nA massive shout-out goes to our fantastic partners in “rhyme” at the Victoria Bathurst. Their support has been instrumental in bringing this initiative back to life and providing a brand-new home for our harmonious gatherings: Little Alberts\, basically right across the road from the Con!The choir will run the first Tuesday of every month at 7pm. \n\n\n\nNo tickets are required for the event however we have placed a small cover charge of $5 on the door to cover staffing and material costs.
URL:https://www.bathurstregion.com.au/event/public-choir/2025-12-02/
LOCATION:Little Alberts @ The Victoria Bathurst\, 3 Keppel Street\, Bathurst\, NSW\, 2795
CATEGORIES:Community Event,Concert or Performance
ATTACH;FMTTYPE=image/jpeg:https://www.bathurstregion.com.au/wp-content/uploads/2025/08/Untitled-1.jpg
ORGANIZER;CN="Mitchell Conservatorium":MAILTO:bathurst@mitchellconservatorium.edu.au
END:VEVENT
BEGIN:VEVENT
DTSTART;TZID=Australia/Sydney:20251203T190000
DTEND;TZID=Australia/Sydney:20251203T210000
DTSTAMP:20260421T064018
CREATED:20240626T230810Z
LAST-MODIFIED:20250527T033008Z
UID:10003770-1764788400-1764795600@www.bathurstregion.com.au
SUMMARY:Musical Bingo @ The Family Hotel
DESCRIPTION:This one is for the music lovers! Rock into the #FamBams for Musical Trivia every Wednesday from 7pm! Entry is free and you’ll have the chance to win prizes whilst bopping along to tunes over the ages! \nWednesday night is $20 schnitty night!
URL:https://www.bathurstregion.com.au/event/musical-bingo-3/2025-12-03/
LOCATION:Family Hotel\, Cnr Russell & Bentinck Street\, Bathurst\, 2795\, Australia
CATEGORIES:Community Event
ATTACH;FMTTYPE=image/jpeg:https://www.bathurstregion.com.au/wp-content/uploads/2024/06/441867269_10229488857879453_8006742019411922238_n-1.jpg
END:VEVENT
BEGIN:VEVENT
DTSTART;TZID=Australia/Sydney:20251204T093000
DTEND;TZID=Australia/Sydney:20251204T101500
DTSTAMP:20260421T064018
CREATED:20251118T012653Z
LAST-MODIFIED:20251118T012657Z
UID:10004689-1764840600-1764843300@www.bathurstregion.com.au
SUMMARY:Supported Story Time
DESCRIPTION:Join our series of low sensory story times for children and their carers who need more time to wiggle\, settle and be comfortable in the library space. \n\n\n\nThe sessions will feature books\, rhymes\, wiggle movements and visual cues throughout\, while being a friendly and supported space before the library opens to the public. \n\n\n\nAs the story time is held in the library before opening hours\, we ask that you arrive a few minutes early or on time so you can access the building. If you are no longer able to attend\, we would appreciate you letting us know as soon as you can\, so we can alert anyone on our waitlist. \n\n\n\nPlease bring a drink and any fidgets your child needs\, clearly labelled. \n\n\n\nIf you require anything specific in order to attend\, or have any questions\, please reach out to the Bathurst Library Team on 02 6333 6281. Please note we may not be able to cater to a specific request to accommodate your child but will do the best we can within the library space. \n\n\n\nThese sessions are a trial to assess if our community will attend and support a low-sensory story time\, further sessions may be released\, and all feedback you have would be appreciated. \n\n\n\nChildren must be accompanied by an adult carer at all times.
URL:https://www.bathurstregion.com.au/event/supported-story-time/2025-12-04/
LOCATION:Bathurst Library\, 70 -78 Keppel Street\, Bathurst\, New South Wales\, 2795\, Australia
CATEGORIES:Community Event
ATTACH;FMTTYPE=image/png:https://www.bathurstregion.com.au/wp-content/uploads/2025/11/image-14.png
ORGANIZER;CN="Bathurst Library":MAILTO:library@bathurst.nsw.gov.au
END:VEVENT
BEGIN:VEVENT
DTSTART;TZID=Australia/Sydney:20251204T100000
DTEND;TZID=Australia/Sydney:20251204T170000
DTSTAMP:20260421T064018
CREATED:20251013T040411Z
LAST-MODIFIED:20251013T040429Z
UID:10004625-1764842400-1764867600@www.bathurstregion.com.au
SUMMARY:Santa Photos
DESCRIPTION:This year\, The Greens on William invite you to experience a Christmas wonderland like no other. Santa is back\, and he’s bringing the sparkle to 2025 Santa Photo sessions! Immerse yourself in a festive world of deep navy\, shimmering gold\, and glowing winter lights\, the perfect backdrop for creating cherished holiday memories – bookings essential   \n*​Festive Set Features*– A frosted Christmas tree\, glistening with navy and gold baubles\,– Warm twinkling lights that capture the glow of the season– Elegant décor and rich textures\, creating a modern yet timeless festive feel \nWhether it’s your first Santa photo or a treasured yearly tradition\, our beautifully styled set promises a magical experience and photographs you’ll love forever. \n*A Keepsake for the Whole Family*Bring the entire family—and yes\, even your four-legged friends—to capture a moment of joy and togetherness. Simply bring your own phone or camera to snap that perfect Christmas keepsake in this year’s luxurious winter palette. \n​Why Book Your Session?– A unique and elegant backdrop unlike the usual Santa setups– Use your own phone or camera so you can capture memories just the way you want– The chance to meet Santa in a relaxed\, magical setting \n​Sessions commence on Thursday 27th November and will run through till the 22nd December 2025. Tickets are $16.50 per family (max 6 people) and give you an allocated time of up to 5 minutes to sit with Santa and snap your group pics. Staff will be there to assist you in taking your images however you need to bring your own phone or camera. \n​We have allocated Five Pet Sessions with Santa and they are scheduled for the below dates & times. \n– Thursday 4th December – 6pm – 7pm– Saturday 13th December – 10am – 11am– Friday 19th December – 6pm – 7pm– Saturday 20th December – 10am – 11am– Monday 22nd December – 3:30pm – 4:30pm \nPlease note that YOU MUST have a PET to book one of these sessions.
URL:https://www.bathurstregion.com.au/event/santa-photos-2/2025-12-04/
LOCATION:The Greens on William\, 29 William Street\, Bathurst\, NSW\, 2795
CATEGORIES:Community Event
ATTACH;FMTTYPE=image/png:https://www.bathurstregion.com.au/wp-content/uploads/2025/10/Santa-Photos-2025-Event-Cover.png
ORGANIZER;CN="The Greens On William":MAILTO:info@thegreensonwilliam.com.au
END:VEVENT
BEGIN:VEVENT
DTSTART;TZID=Australia/Sydney:20251204T140000
DTEND;TZID=Australia/Sydney:20251204T170000
DTSTAMP:20260421T064018
CREATED:20250324T223528Z
LAST-MODIFIED:20250327T013142Z
UID:10004059-1764856800-1764867600@www.bathurstregion.com.au
SUMMARY:Bathurst Dances\, Old Time and New Vogue Dance
DESCRIPTION:Dancing the old fashioned way\, with a another in your arms. Waltzes\, Tangos\, Saunters\, Jive and Swing in a sequenced way. Short demos before many dances\, but nothing beats\, standing up and simply giving it a go\, then having a laugh or giggle at your own attempts\, the way it was done in the old days\, still the cheapest way to learn.
URL:https://www.bathurstregion.com.au/event/bathurst-dances-old-time-and-new-vogue-dance/2025-12-04/
LOCATION:Walshaw Hall\, 9 Church Street\, Bathurst\, 2795
CATEGORIES:Community Event
ATTACH;FMTTYPE=image/png:https://www.bathurstregion.com.au/wp-content/uploads/2025/03/Untitled-design-2.png
END:VEVENT
BEGIN:VEVENT
DTSTART;TZID=Australia/Sydney:20251205T100000
DTEND;TZID=Australia/Sydney:20251205T170000
DTSTAMP:20260421T064018
CREATED:20251013T040411Z
LAST-MODIFIED:20251013T040429Z
UID:10004626-1764928800-1764954000@www.bathurstregion.com.au
SUMMARY:Santa Photos
DESCRIPTION:This year\, The Greens on William invite you to experience a Christmas wonderland like no other. Santa is back\, and he’s bringing the sparkle to 2025 Santa Photo sessions! Immerse yourself in a festive world of deep navy\, shimmering gold\, and glowing winter lights\, the perfect backdrop for creating cherished holiday memories – bookings essential   \n*​Festive Set Features*– A frosted Christmas tree\, glistening with navy and gold baubles\,– Warm twinkling lights that capture the glow of the season– Elegant décor and rich textures\, creating a modern yet timeless festive feel \nWhether it’s your first Santa photo or a treasured yearly tradition\, our beautifully styled set promises a magical experience and photographs you’ll love forever. \n*A Keepsake for the Whole Family*Bring the entire family—and yes\, even your four-legged friends—to capture a moment of joy and togetherness. Simply bring your own phone or camera to snap that perfect Christmas keepsake in this year’s luxurious winter palette. \n​Why Book Your Session?– A unique and elegant backdrop unlike the usual Santa setups– Use your own phone or camera so you can capture memories just the way you want– The chance to meet Santa in a relaxed\, magical setting \n​Sessions commence on Thursday 27th November and will run through till the 22nd December 2025. Tickets are $16.50 per family (max 6 people) and give you an allocated time of up to 5 minutes to sit with Santa and snap your group pics. Staff will be there to assist you in taking your images however you need to bring your own phone or camera. \n​We have allocated Five Pet Sessions with Santa and they are scheduled for the below dates & times. \n– Thursday 4th December – 6pm – 7pm– Saturday 13th December – 10am – 11am– Friday 19th December – 6pm – 7pm– Saturday 20th December – 10am – 11am– Monday 22nd December – 3:30pm – 4:30pm \nPlease note that YOU MUST have a PET to book one of these sessions.
URL:https://www.bathurstregion.com.au/event/santa-photos-2/2025-12-05/
LOCATION:The Greens on William\, 29 William Street\, Bathurst\, NSW\, 2795
CATEGORIES:Community Event
ATTACH;FMTTYPE=image/png:https://www.bathurstregion.com.au/wp-content/uploads/2025/10/Santa-Photos-2025-Event-Cover.png
ORGANIZER;CN="The Greens On William":MAILTO:info@thegreensonwilliam.com.au
END:VEVENT
BEGIN:VEVENT
DTSTART;TZID=Australia/Sydney:20251206T100000
DTEND;TZID=Australia/Sydney:20251206T170000
DTSTAMP:20260421T064018
CREATED:20251013T040411Z
LAST-MODIFIED:20251013T040429Z
UID:10004627-1765015200-1765040400@www.bathurstregion.com.au
SUMMARY:Santa Photos
DESCRIPTION:This year\, The Greens on William invite you to experience a Christmas wonderland like no other. Santa is back\, and he’s bringing the sparkle to 2025 Santa Photo sessions! Immerse yourself in a festive world of deep navy\, shimmering gold\, and glowing winter lights\, the perfect backdrop for creating cherished holiday memories – bookings essential   \n*​Festive Set Features*– A frosted Christmas tree\, glistening with navy and gold baubles\,– Warm twinkling lights that capture the glow of the season– Elegant décor and rich textures\, creating a modern yet timeless festive feel \nWhether it’s your first Santa photo or a treasured yearly tradition\, our beautifully styled set promises a magical experience and photographs you’ll love forever. \n*A Keepsake for the Whole Family*Bring the entire family—and yes\, even your four-legged friends—to capture a moment of joy and togetherness. Simply bring your own phone or camera to snap that perfect Christmas keepsake in this year’s luxurious winter palette. \n​Why Book Your Session?– A unique and elegant backdrop unlike the usual Santa setups– Use your own phone or camera so you can capture memories just the way you want– The chance to meet Santa in a relaxed\, magical setting \n​Sessions commence on Thursday 27th November and will run through till the 22nd December 2025. Tickets are $16.50 per family (max 6 people) and give you an allocated time of up to 5 minutes to sit with Santa and snap your group pics. Staff will be there to assist you in taking your images however you need to bring your own phone or camera. \n​We have allocated Five Pet Sessions with Santa and they are scheduled for the below dates & times. \n– Thursday 4th December – 6pm – 7pm– Saturday 13th December – 10am – 11am– Friday 19th December – 6pm – 7pm– Saturday 20th December – 10am – 11am– Monday 22nd December – 3:30pm – 4:30pm \nPlease note that YOU MUST have a PET to book one of these sessions.
URL:https://www.bathurstregion.com.au/event/santa-photos-2/2025-12-06/
LOCATION:The Greens on William\, 29 William Street\, Bathurst\, NSW\, 2795
CATEGORIES:Community Event
ATTACH;FMTTYPE=image/png:https://www.bathurstregion.com.au/wp-content/uploads/2025/10/Santa-Photos-2025-Event-Cover.png
ORGANIZER;CN="The Greens On William":MAILTO:info@thegreensonwilliam.com.au
END:VEVENT
BEGIN:VEVENT
DTSTART;TZID=Australia/Sydney:20251206T110000
DTEND;TZID=Australia/Sydney:20251206T120000
DTSTAMP:20260421T064018
CREATED:20251118T011704Z
LAST-MODIFIED:20251118T011717Z
UID:10004678-1765018800-1765022400@www.bathurstregion.com.au
SUMMARY:Exhibition Tours // Summer Exhibitions
DESCRIPTION:About the Exhibitions – RSVP \n\n\n\nWest of Central 2\n\n\n\nConceived as an exhibition responding to place\, West of Central embraces artists who live and work across Wiradjuri Country in Central West NSW. \n\n\n\nThis Earth-centric exhibition honours artists’ care\, concern\, and respect for Country. Home to an increasing cohort of contemporary artists seeking connection\, respite and balance\, regional Australia is a place where artists have space to create\, experiment and challenge. West of Central celebrates those who live and work regionally\, positioning the regional as central to their practice. \n\n\n\nFirst realised at BRAG in 2023\, this second chapter\, West of Central 2\, invited artists from LGAs of Lachlan\, Parkes\, Forbes\, Weddin\, Cabonne\, Cowra\, Blayney\, Orange\, Mid-Western\, Bathurst\, Oberon and Lithgow to respond to the ecologies\, histories\, and communities of these places. \n\n\n\nArtists: Adam Rish (Hill End)\, Gabrielle Bates (Kandos)\, Genevieve Carroll (Hill End)\, Graham Lupp (Bathurst)\, Gus Armstrong & Peter Swain (Kandos)\, Jonathan Jones (Bathurst)\, Laura Baker (Blayney)\, Nicola Mason (Napoleon Reef)\, Ros Auld (Borenore)\, Simone Darcy (Forbes)\, Steven Cavanagh (Hill End)\, Susan Baird (Hill End)\, the artHITects (Gary Carsley & Renjie Teoh) (Bathurst)\, Vicky Browne (Nullo Mountain). \n\n\n\nMore info \n\n\n\nOur Ngurang (Home) Program Exhibition\n\n\n\nBathurst Regional Art Gallery (BRAG) presents the 2025 Our Ngurang (Home) Program Exhibition \n\n\n\nIn 2025\, BRAG partnered with Wiradyuri Elders\, Artists\, and Community to develop and deliver the Our Ngurang (Home) Program – an education program for students and teachers across Wiradyuri County in the Bathurst Region. \n\n\n\nWith a local focus on our shared home of Wiradyuri Country\, students from Blayney Public School participated in a year-long learning program of art\, culture\, and language workshops with Wiradyuri/Kamilaroi artist Jonathan Jones\, Wiradyuri Elder Wirribee Aunty Leanna Carr\, Wiradyuri artist Jessica Leffley\, and Yiri Sue Rice. \n\n\n\nMore info \n\n\n\nBella Fenton: The Bogeyman\n\n\n\nBRAG presents Foyer Gallery Exhibition The Bogeyman by Bella Fenton\, Winner of the 2023 Bathurst Grange Distillery x BRAG Summer Gin Art Competition. \n\n\n\nMore info \n\n\n\nImage: Bella Fenton\, Exactly as I left it (detail)\, acrylic on canvas\, 33 x 43 cm. Courtesy the artist.
URL:https://www.bathurstregion.com.au/event/exhibition-tours-summer-exhibitions/2025-12-06/
LOCATION:Bathurst Regional Art Gallery\, 70 -78 Keppel Street\, Bathurst\, New South Wales\, 2795\, Australia
CATEGORIES:Art,Classes, Lessons, Workshops and Talks,Community Event,Exhibition and Shows
ATTACH;FMTTYPE=image/png:https://www.bathurstregion.com.au/wp-content/uploads/2025/11/image-11.png
ORGANIZER;CN="Bathurst Regional Art Gallery":MAILTO:brag@bathurst.nsw.gov.au
END:VEVENT
BEGIN:VEVENT
DTSTART;TZID=Australia/Sydney:20251207T100000
DTEND;TZID=Australia/Sydney:20251207T170000
DTSTAMP:20260421T064018
CREATED:20251013T040411Z
LAST-MODIFIED:20251013T040429Z
UID:10004628-1765101600-1765126800@www.bathurstregion.com.au
SUMMARY:Santa Photos
DESCRIPTION:This year\, The Greens on William invite you to experience a Christmas wonderland like no other. Santa is back\, and he’s bringing the sparkle to 2025 Santa Photo sessions! Immerse yourself in a festive world of deep navy\, shimmering gold\, and glowing winter lights\, the perfect backdrop for creating cherished holiday memories – bookings essential   \n*​Festive Set Features*– A frosted Christmas tree\, glistening with navy and gold baubles\,– Warm twinkling lights that capture the glow of the season– Elegant décor and rich textures\, creating a modern yet timeless festive feel \nWhether it’s your first Santa photo or a treasured yearly tradition\, our beautifully styled set promises a magical experience and photographs you’ll love forever. \n*A Keepsake for the Whole Family*Bring the entire family—and yes\, even your four-legged friends—to capture a moment of joy and togetherness. Simply bring your own phone or camera to snap that perfect Christmas keepsake in this year’s luxurious winter palette. \n​Why Book Your Session?– A unique and elegant backdrop unlike the usual Santa setups– Use your own phone or camera so you can capture memories just the way you want– The chance to meet Santa in a relaxed\, magical setting \n​Sessions commence on Thursday 27th November and will run through till the 22nd December 2025. Tickets are $16.50 per family (max 6 people) and give you an allocated time of up to 5 minutes to sit with Santa and snap your group pics. Staff will be there to assist you in taking your images however you need to bring your own phone or camera. \n​We have allocated Five Pet Sessions with Santa and they are scheduled for the below dates & times. \n– Thursday 4th December – 6pm – 7pm– Saturday 13th December – 10am – 11am– Friday 19th December – 6pm – 7pm– Saturday 20th December – 10am – 11am– Monday 22nd December – 3:30pm – 4:30pm \nPlease note that YOU MUST have a PET to book one of these sessions.
URL:https://www.bathurstregion.com.au/event/santa-photos-2/2025-12-07/
LOCATION:The Greens on William\, 29 William Street\, Bathurst\, NSW\, 2795
CATEGORIES:Community Event
ATTACH;FMTTYPE=image/png:https://www.bathurstregion.com.au/wp-content/uploads/2025/10/Santa-Photos-2025-Event-Cover.png
ORGANIZER;CN="The Greens On William":MAILTO:info@thegreensonwilliam.com.au
END:VEVENT
END:VCALENDAR