
BEGIN:VCALENDAR
VERSION:2.0
PRODID:-//Bathurst Region Tourism - ECPv6.15.16//NONSGML v1.0//EN
CALSCALE:GREGORIAN
METHOD:PUBLISH
X-WR-CALNAME:Bathurst Region Tourism
X-ORIGINAL-URL:https://www.bathurstregion.com.au
X-WR-CALDESC:Events for Bathurst Region Tourism
REFRESH-INTERVAL;VALUE=DURATION:PT1H
X-Robots-Tag:noindex
X-PUBLISHED-TTL:PT1H
BEGIN:VTIMEZONE
TZID:Australia/Sydney
BEGIN:STANDARD
TZOFFSETFROM:+1100
TZOFFSETTO:+1000
TZNAME:AEST
DTSTART:20240406T160000
END:STANDARD
BEGIN:DAYLIGHT
TZOFFSETFROM:+1000
TZOFFSETTO:+1100
TZNAME:AEDT
DTSTART:20241005T160000
END:DAYLIGHT
BEGIN:STANDARD
TZOFFSETFROM:+1100
TZOFFSETTO:+1000
TZNAME:AEST
DTSTART:20250405T160000
END:STANDARD
BEGIN:DAYLIGHT
TZOFFSETFROM:+1000
TZOFFSETTO:+1100
TZNAME:AEDT
DTSTART:20251004T160000
END:DAYLIGHT
BEGIN:STANDARD
TZOFFSETFROM:+1100
TZOFFSETTO:+1000
TZNAME:AEST
DTSTART:20260404T160000
END:STANDARD
BEGIN:DAYLIGHT
TZOFFSETFROM:+1000
TZOFFSETTO:+1100
TZNAME:AEDT
DTSTART:20261003T160000
END:DAYLIGHT
END:VTIMEZONE
BEGIN:VEVENT
DTSTART;TZID=Australia/Sydney:20251103T183000
DTEND;TZID=Australia/Sydney:20251103T200000
DTSTAMP:20260423T102207
CREATED:20250527T030927Z
LAST-MODIFIED:20250527T032413Z
UID:10004215-1762194600-1762200000@www.bathurstregion.com.au
SUMMARY:Music Bingo @ The Tattersalls Hotel
DESCRIPTION:
URL:https://www.bathurstregion.com.au/event/music-bingo-the-tattersalls-hotel/2025-11-03/
LOCATION:Tattersalls Hotel Bathurst\, 35 Keppel Street\, Bathurst\, NSW\, 2795\, Australia
CATEGORIES:Community Event
ATTACH;FMTTYPE=image/png:https://www.bathurstregion.com.au/wp-content/uploads/2025/05/Untitled-1.png
END:VEVENT
BEGIN:VEVENT
DTSTART;TZID=Australia/Sydney:20251103T190000
DTEND;TZID=Australia/Sydney:20251103T201500
DTSTAMP:20260423T102207
CREATED:20251007T235552Z
LAST-MODIFIED:20251007T235555Z
UID:10004608-1762196400-1762200900@www.bathurstregion.com.au
SUMMARY:Sing with us for Christmas
DESCRIPTION:Bathurst Panorama Chorus is inviting women & girls aged 12 & over to join us for 7 weeks of FREE Christmas singing and fun. With lots of favourite Carols and the opportunity to join in local Christmas events. Starting Monday 3 November from 7pm. For full details and to register – go to bathurstpanorama.com
URL:https://www.bathurstregion.com.au/event/sing-with-us-for-christmas/2025-11-03/
LOCATION:Church of Christ Hall\, Wark Pde\, Windradyne\, Wark Parade\, Windradyne\, 2795
CATEGORIES:Classes, Lessons, Workshops and Talks,Community Event,Concert or Performance
ATTACH;FMTTYPE=image/jpeg:https://www.bathurstregion.com.au/wp-content/uploads/2025/10/Xmas-2024-crop.jpg
ORGANIZER;CN="Bathurst Panorama Chorus":MAILTO:bathurstpanorama@yahoo.com.au
END:VEVENT
BEGIN:VEVENT
DTSTART;TZID=Australia/Sydney:20251104T190000
DTEND;TZID=Australia/Sydney:20251104T203000
DTSTAMP:20260423T102207
CREATED:20250804T040344Z
LAST-MODIFIED:20250804T052820Z
UID:10004544-1762282800-1762288200@www.bathurstregion.com.au
SUMMARY:Public Choir
DESCRIPTION:Get Ready to Sing! Mitchell Conservatorium Pub Choir is Back!You asked\, and we listened! We’ve been flooded with emails\, comments\, and letters about the return of our Pub Choir\, and we’re thrilled to announce that the Mitchell Conservatorium Public Choir is officially making its long-awaited comeback! \n\n\n\nA massive shout-out goes to our fantastic partners in “rhyme” at the Victoria Bathurst. Their support has been instrumental in bringing this initiative back to life and providing a brand-new home for our harmonious gatherings: Little Alberts\, basically right across the road from the Con!The choir will run the first Tuesday of every month at 7pm. \n\n\n\nNo tickets are required for the event however we have placed a small cover charge of $5 on the door to cover staffing and material costs.
URL:https://www.bathurstregion.com.au/event/public-choir/2025-11-04/
LOCATION:Little Alberts @ The Victoria Bathurst\, 3 Keppel Street\, Bathurst\, NSW\, 2795
CATEGORIES:Community Event,Concert or Performance
ATTACH;FMTTYPE=image/jpeg:https://www.bathurstregion.com.au/wp-content/uploads/2025/08/Untitled-1.jpg
ORGANIZER;CN="Mitchell Conservatorium":MAILTO:bathurst@mitchellconservatorium.edu.au
END:VEVENT
BEGIN:VEVENT
DTSTART;TZID=Australia/Sydney:20251105T190000
DTEND;TZID=Australia/Sydney:20251105T210000
DTSTAMP:20260423T102207
CREATED:20240626T230810Z
LAST-MODIFIED:20250527T033008Z
UID:10003766-1762369200-1762376400@www.bathurstregion.com.au
SUMMARY:Musical Bingo @ The Family Hotel
DESCRIPTION:This one is for the music lovers! Rock into the #FamBams for Musical Trivia every Wednesday from 7pm! Entry is free and you’ll have the chance to win prizes whilst bopping along to tunes over the ages! \nWednesday night is $20 schnitty night!
URL:https://www.bathurstregion.com.au/event/musical-bingo-3/2025-11-05/
LOCATION:Family Hotel\, Cnr Russell & Bentinck Street\, Bathurst\, 2795\, Australia
CATEGORIES:Community Event
ATTACH;FMTTYPE=image/jpeg:https://www.bathurstregion.com.au/wp-content/uploads/2024/06/441867269_10229488857879453_8006742019411922238_n-1.jpg
END:VEVENT
BEGIN:VEVENT
DTSTART;TZID=Australia/Sydney:20251106T140000
DTEND;TZID=Australia/Sydney:20251106T170000
DTSTAMP:20260423T102207
CREATED:20250324T223528Z
LAST-MODIFIED:20250327T013142Z
UID:10004052-1762437600-1762448400@www.bathurstregion.com.au
SUMMARY:Bathurst Dances\, Old Time and New Vogue Dance
DESCRIPTION:Dancing the old fashioned way\, with a another in your arms. Waltzes\, Tangos\, Saunters\, Jive and Swing in a sequenced way. Short demos before many dances\, but nothing beats\, standing up and simply giving it a go\, then having a laugh or giggle at your own attempts\, the way it was done in the old days\, still the cheapest way to learn.
URL:https://www.bathurstregion.com.au/event/bathurst-dances-old-time-and-new-vogue-dance/2025-11-06/
LOCATION:Walshaw Hall\, 9 Church Street\, Bathurst\, 2795
CATEGORIES:Community Event
ATTACH;FMTTYPE=image/png:https://www.bathurstregion.com.au/wp-content/uploads/2025/03/Untitled-design-2.png
END:VEVENT
BEGIN:VEVENT
DTSTART;TZID=Australia/Sydney:20251108T090000
DTEND;TZID=Australia/Sydney:20251108T170000
DTSTAMP:20260423T102207
CREATED:20241101T011251Z
LAST-MODIFIED:20251117T005100Z
UID:10003938-1762592400-1762621200@www.bathurstregion.com.au
SUMMARY:Garage Sale Trail
DESCRIPTION:Garage Sale Trail is Australia’s biggest secondhand treasure hunt with over 3 million pre-loved items going up for sale over two big weekends of garage sales. \n\n\n\nGarage Sale Trail is happening next on 8-9 and 15-16 November 2025\, Australia-wide. You can take part on one day or more. \n\n\n\nFind out more about hosting a garage sale or shopping the trail. \n\n\n\nOr\, go right ahead and list your garage sale. \n\n\n\nhttps://www.garagesaletrail.com.au/
URL:https://www.bathurstregion.com.au/event/garage-sale-trail-2/2025-11-08/
CATEGORIES:Community Event
ATTACH;FMTTYPE=image/svg+xml:https://www.bathurstregion.com.au/wp-content/uploads/2024/11/logo.svg
END:VEVENT
BEGIN:VEVENT
DTSTART;TZID=Australia/Sydney:20251108T100000
DTEND;TZID=Australia/Sydney:20251108T160000
DTSTAMP:20260423T102207
CREATED:20250821T014356Z
LAST-MODIFIED:20251027T215222Z
UID:10004576-1762596000-1762617600@www.bathurstregion.com.au
SUMMARY:Rockley Gardens & Art Festival
DESCRIPTION:Experience the charm of Rockley and its open gardens in their full spring glory. To keep the kids entertained they can participate in the Alice in Wonderland themed scavenger hunt and go in the draw to win some prizes. Our art exhibition will feature our talented creative local artists and equally talented invited artists.  \nThere will be live music while enjoying a bite to eat or a freshly brewed coffee plus there will also be market stalls at the Rockley Public School.   \nWhile you are here\, stroll around the village and view our historic buildings. This event is staged to raise funds to maintain and renovate The School of Arts Hall (1890)\, the historic building is in dire need of repairs. Restorations commenced in 2023 with the facade getting a facelift. \nTickets are $15 for both days and will be available on the day/s at the School of Art Hall\, 28 Hill St. or online via our website ticketing page closer to the date.  \nWe look forward to having you visit our wonderful village.
URL:https://www.bathurstregion.com.au/event/rockley-gardens-art-festival/2025-11-08/
LOCATION:The Village of Rockley
CATEGORIES:Art,Community Event,Exhibition and Shows,Festivals and Celebrations
ATTACH;FMTTYPE=image/jpeg:https://www.bathurstregion.com.au/wp-content/uploads/2025/08/IMG_0082-scaled.jpg
ORGANIZER;CN="Rockley and District Community Association Inc.":MAILTO:johnmontya@gmail.com
END:VEVENT
BEGIN:VEVENT
DTSTART;TZID=Australia/Sydney:20251108T153000
DTEND;TZID=Australia/Sydney:20251108T170000
DTSTAMP:20260423T102207
CREATED:20251023T012804Z
LAST-MODIFIED:20251023T012804Z
UID:10004192-1762615800-1762621200@www.bathurstregion.com.au
SUMMARY:International Games Day - 2025
DESCRIPTION:FREE Family Friendly Event! Get ready to play – we will have many forms of social gaming on offer. \nCome dressed up in character or cosplay for chance to win a prize.\n*Children under 10yrs must be accompanied by a parent or carer \nActivities include:\n*Board games & giant games\n*Cosplay / Dress-up in character – PRIZES\n*LARP Medieval battle demonstrations from Battlecry\n*Panorama Drone Racing Club – simulation and display\n*Local social gaming groups with game play and club information \nFREE event – bookings are essential\nTeens / Children / Families *Children under 10yrs must be accompanied by a parent or carer \nPlease note:\n*All people attending should have their own ticket booked. Choose correct ticket category (adult\, child etc).\n*Children aged under 10yrs must have a parent/carer supervising them throughout the event. \n*Please let us know if you need to cancel your ticket or use the online cancellation link on your confirmation email.
URL:https://www.bathurstregion.com.au/event/international-games-day-2025/
LOCATION:Bathurst Library\, 70 -78 Keppel Street\, Bathurst\, New South Wales\, 2795\, Australia
CATEGORIES:Community Event
ATTACH;FMTTYPE=image/png:https://www.bathurstregion.com.au/wp-content/uploads/2025/10/IGM-BVIC-1.png
ORGANIZER;CN="Bathurst Library":MAILTO:library@bathurst.nsw.gov.au
END:VEVENT
BEGIN:VEVENT
DTSTART;TZID=Australia/Sydney:20251109T090000
DTEND;TZID=Australia/Sydney:20251109T170000
DTSTAMP:20260423T102207
CREATED:20241101T011251Z
LAST-MODIFIED:20251117T005100Z
UID:10003939-1762678800-1762707600@www.bathurstregion.com.au
SUMMARY:Garage Sale Trail
DESCRIPTION:Garage Sale Trail is Australia’s biggest secondhand treasure hunt with over 3 million pre-loved items going up for sale over two big weekends of garage sales. \n\n\n\nGarage Sale Trail is happening next on 8-9 and 15-16 November 2025\, Australia-wide. You can take part on one day or more. \n\n\n\nFind out more about hosting a garage sale or shopping the trail. \n\n\n\nOr\, go right ahead and list your garage sale. \n\n\n\nhttps://www.garagesaletrail.com.au/
URL:https://www.bathurstregion.com.au/event/garage-sale-trail-2/2025-11-09/
CATEGORIES:Community Event
ATTACH;FMTTYPE=image/svg+xml:https://www.bathurstregion.com.au/wp-content/uploads/2024/11/logo.svg
END:VEVENT
BEGIN:VEVENT
DTSTART;TZID=Australia/Sydney:20251109T100000
DTEND;TZID=Australia/Sydney:20251109T160000
DTSTAMP:20260423T102207
CREATED:20250821T014356Z
LAST-MODIFIED:20251027T215222Z
UID:10004577-1762682400-1762704000@www.bathurstregion.com.au
SUMMARY:Rockley Gardens & Art Festival
DESCRIPTION:Experience the charm of Rockley and its open gardens in their full spring glory. To keep the kids entertained they can participate in the Alice in Wonderland themed scavenger hunt and go in the draw to win some prizes. Our art exhibition will feature our talented creative local artists and equally talented invited artists.  \nThere will be live music while enjoying a bite to eat or a freshly brewed coffee plus there will also be market stalls at the Rockley Public School.   \nWhile you are here\, stroll around the village and view our historic buildings. This event is staged to raise funds to maintain and renovate The School of Arts Hall (1890)\, the historic building is in dire need of repairs. Restorations commenced in 2023 with the facade getting a facelift. \nTickets are $15 for both days and will be available on the day/s at the School of Art Hall\, 28 Hill St. or online via our website ticketing page closer to the date.  \nWe look forward to having you visit our wonderful village.
URL:https://www.bathurstregion.com.au/event/rockley-gardens-art-festival/2025-11-09/
LOCATION:The Village of Rockley
CATEGORIES:Art,Community Event,Exhibition and Shows,Festivals and Celebrations
ATTACH;FMTTYPE=image/jpeg:https://www.bathurstregion.com.au/wp-content/uploads/2025/08/IMG_0082-scaled.jpg
ORGANIZER;CN="Rockley and District Community Association Inc.":MAILTO:johnmontya@gmail.com
END:VEVENT
END:VCALENDAR