
BEGIN:VCALENDAR
VERSION:2.0
PRODID:-//Bathurst Region Tourism - ECPv6.15.16//NONSGML v1.0//EN
CALSCALE:GREGORIAN
METHOD:PUBLISH
X-ORIGINAL-URL:https://www.bathurstregion.com.au
X-WR-CALDESC:Events for Bathurst Region Tourism
REFRESH-INTERVAL;VALUE=DURATION:PT1H
X-Robots-Tag:noindex
X-PUBLISHED-TTL:PT1H
BEGIN:VTIMEZONE
TZID:Australia/Sydney
BEGIN:STANDARD
TZOFFSETFROM:+1100
TZOFFSETTO:+1000
TZNAME:AEST
DTSTART:20240406T160000
END:STANDARD
BEGIN:DAYLIGHT
TZOFFSETFROM:+1000
TZOFFSETTO:+1100
TZNAME:AEDT
DTSTART:20241005T160000
END:DAYLIGHT
BEGIN:STANDARD
TZOFFSETFROM:+1100
TZOFFSETTO:+1000
TZNAME:AEST
DTSTART:20250405T160000
END:STANDARD
BEGIN:DAYLIGHT
TZOFFSETFROM:+1000
TZOFFSETTO:+1100
TZNAME:AEDT
DTSTART:20251004T160000
END:DAYLIGHT
BEGIN:STANDARD
TZOFFSETFROM:+1100
TZOFFSETTO:+1000
TZNAME:AEST
DTSTART:20260404T160000
END:STANDARD
BEGIN:DAYLIGHT
TZOFFSETFROM:+1000
TZOFFSETTO:+1100
TZNAME:AEDT
DTSTART:20261003T160000
END:DAYLIGHT
END:VTIMEZONE
BEGIN:VEVENT
DTSTART;TZID=Australia/Sydney:20251020T183000
DTEND;TZID=Australia/Sydney:20251020T200000
DTSTAMP:20260425T104343
CREATED:20250527T030927Z
LAST-MODIFIED:20250527T032413Z
UID:10004213-1760985000-1760990400@www.bathurstregion.com.au
SUMMARY:Music Bingo @ The Tattersalls Hotel
DESCRIPTION:
URL:https://www.bathurstregion.com.au/event/music-bingo-the-tattersalls-hotel/2025-10-20/
LOCATION:Tattersalls Hotel Bathurst\, 35 Keppel Street\, Bathurst\, NSW\, 2795\, Australia
CATEGORIES:Community Event
ATTACH;FMTTYPE=image/png:https://www.bathurstregion.com.au/wp-content/uploads/2025/05/Untitled-1.png
END:VEVENT
BEGIN:VEVENT
DTSTART;TZID=Australia/Sydney:20251021T140000
DTEND;TZID=Australia/Sydney:20251021T170000
DTSTAMP:20260425T104343
CREATED:20250324T223528Z
LAST-MODIFIED:20250327T013142Z
UID:10004048-1761055200-1761066000@www.bathurstregion.com.au
SUMMARY:Bathurst Dances\, Old Time and New Vogue Dance
DESCRIPTION:Dancing the old fashioned way\, with a another in your arms. Waltzes\, Tangos\, Saunters\, Jive and Swing in a sequenced way. Short demos before many dances\, but nothing beats\, standing up and simply giving it a go\, then having a laugh or giggle at your own attempts\, the way it was done in the old days\, still the cheapest way to learn.
URL:https://www.bathurstregion.com.au/event/bathurst-dances-old-time-and-new-vogue-dance/2025-10-21/
LOCATION:Walshaw Hall\, 9 Church Street\, Bathurst\, 2795
CATEGORIES:Community Event
ATTACH;FMTTYPE=image/png:https://www.bathurstregion.com.au/wp-content/uploads/2025/03/Untitled-design-2.png
END:VEVENT
BEGIN:VEVENT
DTSTART;TZID=Australia/Sydney:20251021T180000
DTEND;TZID=Australia/Sydney:20251021T210000
DTSTAMP:20260425T104343
CREATED:20220904T232845Z
LAST-MODIFIED:20250527T034235Z
UID:10003656-1761069600-1761080400@www.bathurstregion.com.au
SUMMARY:Very Open Mic Night @ The Victoria Bathurst
DESCRIPTION:We’re making Tuesdays great again with a very open mic night that is open to all types of performance. Come and share your thing in front of a supportive audience! Sign up from 6pm
URL:https://www.bathurstregion.com.au/event/very-open-mic-night-2/2025-10-21/
LOCATION:The Victoria Bathurst\, 3 Keppel Street\, Bathurst\, 2795
CATEGORIES:Community Event
ATTACH;FMTTYPE=image/jpeg:https://www.bathurstregion.com.au/wp-content/uploads/2022/09/294178835_7680093328729163_1674614870448092474_n.jpg
END:VEVENT
BEGIN:VEVENT
DTSTART;TZID=Australia/Sydney:20251022T190000
DTEND;TZID=Australia/Sydney:20251022T210000
DTSTAMP:20260425T104343
CREATED:20240626T230810Z
LAST-MODIFIED:20250527T033008Z
UID:10003764-1761159600-1761166800@www.bathurstregion.com.au
SUMMARY:Musical Bingo @ The Family Hotel
DESCRIPTION:This one is for the music lovers! Rock into the #FamBams for Musical Trivia every Wednesday from 7pm! Entry is free and you’ll have the chance to win prizes whilst bopping along to tunes over the ages! \nWednesday night is $20 schnitty night!
URL:https://www.bathurstregion.com.au/event/musical-bingo-3/2025-10-22/
LOCATION:Family Hotel\, Cnr Russell & Bentinck Street\, Bathurst\, 2795\, Australia
CATEGORIES:Community Event
ATTACH;FMTTYPE=image/jpeg:https://www.bathurstregion.com.au/wp-content/uploads/2024/06/441867269_10229488857879453_8006742019411922238_n-1.jpg
END:VEVENT
BEGIN:VEVENT
DTSTART;TZID=Australia/Sydney:20251024T180000
DTEND;TZID=Australia/Sydney:20251024T213000
DTSTAMP:20260425T104343
CREATED:20251007T030812Z
LAST-MODIFIED:20251007T030812Z
UID:10004618-1761328800-1761341400@www.bathurstregion.com.au
SUMMARY:Halloween Drag Bingo
DESCRIPTION:Betty Confetti is THE drag queen with all the sass and cheekiness you expect! She’s super excited for Milly but also secretly wants to fit in Milly’s suitcase but her wigs won’t fit! \nCome support Millicent Gould\, performer for CJTS\, PIPA\, Mitchell Conservatorium and CTS\, as she raises funds for her journey as part of the International Superstars Troupe. Representing Australia at the Junior Theatre Festival in USA in January 2026. \nEnjoy a fun night of Bingo and Performances! \nDinner menu will be available for sale on the night\, and we will have spooky-themed cocktails and mocktails available from the bar. \nDoors: 6pm\nBalls Drop: 7.30pm
URL:https://www.bathurstregion.com.au/event/halloween-drag-bingo/
LOCATION:KeyStone 1889\, 99 Keppel St\, Bathurst\, 2795
CATEGORIES:Community Event,Concert or Performance,Festivals and Celebrations,Food and Wine
ATTACH;FMTTYPE=image/png:https://www.bathurstregion.com.au/wp-content/uploads/2025/10/HALLOWEEN-DRAG-BINGO-A4-POSTER-V3.png
ORGANIZER;CN="KeyStone 1889":MAILTO:trish@keystone1889.com
END:VEVENT
BEGIN:VEVENT
DTSTART;TZID=Australia/Sydney:20251025T093000
DTEND;TZID=Australia/Sydney:20251025T170000
DTSTAMP:20260425T104343
CREATED:20230703T233627Z
LAST-MODIFIED:20250527T061409Z
UID:10003901-1761384600-1761411600@www.bathurstregion.com.au
SUMMARY:Bathurst Gardeners’ Club Spring Spectacular 2025
DESCRIPTION:The Bathurst Gardeners’ Club Spring Spectacular is an Open Gardens event held on the last weekend in October\, 25-26th October 2025. \n\n\n\n \n\n\n\nTickets will go on sale mid September. \n\n\n\nIt is preferable if printed/paper copies of tickets purchased online are presented to the first garden visited and it will be exchanged for a certified Bathurst Gardeners’ Club Inc Spring Spectacular 2025 ticket and map and address information on participating gardens.
URL:https://www.bathurstregion.com.au/event/bathurst-gardeners-club-spring-spectacular-2023/2025-10-25/
LOCATION:Bathurst\, Bathurst\, nsw\, 2795\, Australia
CATEGORIES:Community Event,Festivals and Celebrations
ATTACH;FMTTYPE=image/jpeg:https://www.bathurstregion.com.au/wp-content/uploads/2023/07/Untitled-1-12.jpg
END:VEVENT
BEGIN:VEVENT
DTSTART;TZID=Australia/Sydney:20251025T140000
DTEND;TZID=Australia/Sydney:20251025T170000
DTSTAMP:20260425T104343
CREATED:20250324T223528Z
LAST-MODIFIED:20250327T013142Z
UID:10004049-1761400800-1761411600@www.bathurstregion.com.au
SUMMARY:Bathurst Dances\, Old Time and New Vogue Dance
DESCRIPTION:Dancing the old fashioned way\, with a another in your arms. Waltzes\, Tangos\, Saunters\, Jive and Swing in a sequenced way. Short demos before many dances\, but nothing beats\, standing up and simply giving it a go\, then having a laugh or giggle at your own attempts\, the way it was done in the old days\, still the cheapest way to learn.
URL:https://www.bathurstregion.com.au/event/bathurst-dances-old-time-and-new-vogue-dance/2025-10-25/
LOCATION:Walshaw Hall\, 9 Church Street\, Bathurst\, 2795
CATEGORIES:Community Event
ATTACH;FMTTYPE=image/png:https://www.bathurstregion.com.au/wp-content/uploads/2025/03/Untitled-design-2.png
END:VEVENT
BEGIN:VEVENT
DTSTART;TZID=Australia/Sydney:20251026T080000
DTEND;TZID=Australia/Sydney:20251026T090000
DTSTAMP:20260425T104343
CREATED:20240924T053224Z
LAST-MODIFIED:20250130T050227Z
UID:10004731-1761465600-1761469200@www.bathurstregion.com.au
SUMMARY:Mount Panorama Punish
DESCRIPTION:🏃🏼‍♂️ The countdown is on! 🏃🏼‍♂️Now is the time to commit and get yourself registered for an incredible bucket list running race held in Bathurst on Australia’s premier motor racing circuit!📅 Sunday\, October 26\, 2025\, at 8 am.🏞️ Conquer the iconic Mount Panorama Circuit’s challenging 6.2km loop – 175m of elevation to reach the top!Whether you’re a fitness enthusiast or seeking a new challenge\, the Punish is for YOU. It’s more than a race; it’s an adventure\, a test\, and an unforgettable experience.So\, why wait? Lace up\, bring your crew\, and let’s make memories! Register now and secure your spot in Punish history! 🌟
URL:https://www.bathurstregion.com.au/event/mount-panorama-punish-3/
LOCATION:Mount Panorama Motor Racing Circuit\, Mountain Straight\, Bathurst\, New South Wales\, 2795\, Australia
CATEGORIES:Community Event,Sporting Events
ATTACH;FMTTYPE=image/jpeg:https://www.bathurstregion.com.au/wp-content/uploads/2024/09/066A9003.jpg
ORGANIZER;CN="Mount Panorama Punish":MAILTO:info@panoramapunish.com
END:VEVENT
BEGIN:VEVENT
DTSTART;TZID=Australia/Sydney:20251026T080000
DTEND;TZID=Australia/Sydney:20251026T170000
DTSTAMP:20260425T104343
CREATED:20251005T223417Z
LAST-MODIFIED:20251005T223417Z
UID:10004606-1761465600-1761498000@www.bathurstregion.com.au
SUMMARY:MICHELANGELO’S SISTINE CHAPEL: THE EXHIBITION
DESCRIPTION:Step Into Renaissance Mastery on Our Sistine Chapel Exhibition Day Trip\nJoin BRAGS and Bathurst Tours for a cultural escape to Sydney Olympic Park to experience Michelangelo’s Sistine Chapel: The Exhibition. This immersive showcase brings the ceiling frescoes of the Vatican to eye level\, offering a rare and breathtaking perspective on one of history’s greatest artistic achievements. This world-renowned exhibition features 34 of Michelangelo’s iconic frescoes\, including The Creation of Adam and The Last Judgment\, reproduced in stunning detail using high-definition photography and special printing techniques.\nAudio guides available.\nWhether you’re an art lover\, history buff or simply curious\, this exhibition offers a powerful and intimate encounter with Renaissance genius—no passport required.\nDepart:	8.00 am from McDonald’s Bathurst car park. Return around 5.00pm\nCost:	BRAGS Member $103.50 | $115 Non-Member\n		Includes return 1-20 seat coacher transport and entry to Michelangelo’s Sistine Chapel: The Exhibition. Food and drink at own expense.\nRegistration:	Daniel Briant on 1300 728 321
URL:https://www.bathurstregion.com.au/event/michelangelos-sistine-chapel-the-exhibition/
CATEGORIES:Art,Community Event,Exhibition and Shows,History and Heritage,Tours
ATTACH;FMTTYPE=image/jpeg:https://www.bathurstregion.com.au/wp-content/uploads/2025/10/Michelangelos-Sistine-Chapel-Exhibition-tour.jpg
ORGANIZER;CN="Bathurst Tours":MAILTO:bookings@bathursttours.com.au
END:VEVENT
BEGIN:VEVENT
DTSTART;TZID=Australia/Sydney:20251026T093000
DTEND;TZID=Australia/Sydney:20251026T170000
DTSTAMP:20260425T104343
CREATED:20230703T233627Z
LAST-MODIFIED:20250527T061409Z
UID:10003902-1761471000-1761498000@www.bathurstregion.com.au
SUMMARY:Bathurst Gardeners’ Club Spring Spectacular 2025
DESCRIPTION:The Bathurst Gardeners’ Club Spring Spectacular is an Open Gardens event held on the last weekend in October\, 25-26th October 2025. \n\n\n\n \n\n\n\nTickets will go on sale mid September. \n\n\n\nIt is preferable if printed/paper copies of tickets purchased online are presented to the first garden visited and it will be exchanged for a certified Bathurst Gardeners’ Club Inc Spring Spectacular 2025 ticket and map and address information on participating gardens.
URL:https://www.bathurstregion.com.au/event/bathurst-gardeners-club-spring-spectacular-2023/2025-10-26/
LOCATION:Bathurst\, Bathurst\, nsw\, 2795\, Australia
CATEGORIES:Community Event,Festivals and Celebrations
ATTACH;FMTTYPE=image/jpeg:https://www.bathurstregion.com.au/wp-content/uploads/2023/07/Untitled-1-12.jpg
END:VEVENT
END:VCALENDAR