
BEGIN:VCALENDAR
VERSION:2.0
PRODID:-//Bathurst Region Tourism - ECPv6.15.16//NONSGML v1.0//EN
CALSCALE:GREGORIAN
METHOD:PUBLISH
X-WR-CALNAME:Bathurst Region Tourism
X-ORIGINAL-URL:https://www.bathurstregion.com.au
X-WR-CALDESC:Events for Bathurst Region Tourism
REFRESH-INTERVAL;VALUE=DURATION:PT1H
X-Robots-Tag:noindex
X-PUBLISHED-TTL:PT1H
BEGIN:VTIMEZONE
TZID:Australia/Sydney
BEGIN:STANDARD
TZOFFSETFROM:+1100
TZOFFSETTO:+1000
TZNAME:AEST
DTSTART:20240406T160000
END:STANDARD
BEGIN:DAYLIGHT
TZOFFSETFROM:+1000
TZOFFSETTO:+1100
TZNAME:AEDT
DTSTART:20241005T160000
END:DAYLIGHT
BEGIN:STANDARD
TZOFFSETFROM:+1100
TZOFFSETTO:+1000
TZNAME:AEST
DTSTART:20250405T160000
END:STANDARD
BEGIN:DAYLIGHT
TZOFFSETFROM:+1000
TZOFFSETTO:+1100
TZNAME:AEDT
DTSTART:20251004T160000
END:DAYLIGHT
BEGIN:STANDARD
TZOFFSETFROM:+1100
TZOFFSETTO:+1000
TZNAME:AEST
DTSTART:20260404T160000
END:STANDARD
BEGIN:DAYLIGHT
TZOFFSETFROM:+1000
TZOFFSETTO:+1100
TZNAME:AEDT
DTSTART:20261003T160000
END:DAYLIGHT
END:VTIMEZONE
BEGIN:VEVENT
DTSTART;TZID=Australia/Sydney:20251013T140000
DTEND;TZID=Australia/Sydney:20251013T170000
DTSTAMP:20260425T105604
CREATED:20250324T223528Z
LAST-MODIFIED:20250327T013142Z
UID:10004046-1760364000-1760374800@www.bathurstregion.com.au
SUMMARY:Bathurst Dances\, Old Time and New Vogue Dance
DESCRIPTION:Dancing the old fashioned way\, with a another in your arms. Waltzes\, Tangos\, Saunters\, Jive and Swing in a sequenced way. Short demos before many dances\, but nothing beats\, standing up and simply giving it a go\, then having a laugh or giggle at your own attempts\, the way it was done in the old days\, still the cheapest way to learn.
URL:https://www.bathurstregion.com.au/event/bathurst-dances-old-time-and-new-vogue-dance/2025-10-13/
LOCATION:Walshaw Hall\, 9 Church Street\, Bathurst\, 2795
CATEGORIES:Community Event
ATTACH;FMTTYPE=image/png:https://www.bathurstregion.com.au/wp-content/uploads/2025/03/Untitled-design-2.png
END:VEVENT
BEGIN:VEVENT
DTSTART;TZID=Australia/Sydney:20251013T183000
DTEND;TZID=Australia/Sydney:20251013T200000
DTSTAMP:20260425T105604
CREATED:20250527T030927Z
LAST-MODIFIED:20250527T032413Z
UID:10004212-1760380200-1760385600@www.bathurstregion.com.au
SUMMARY:Music Bingo @ The Tattersalls Hotel
DESCRIPTION:
URL:https://www.bathurstregion.com.au/event/music-bingo-the-tattersalls-hotel/2025-10-13/
LOCATION:Tattersalls Hotel Bathurst\, 35 Keppel Street\, Bathurst\, NSW\, 2795\, Australia
CATEGORIES:Community Event
ATTACH;FMTTYPE=image/png:https://www.bathurstregion.com.au/wp-content/uploads/2025/05/Untitled-1.png
END:VEVENT
BEGIN:VEVENT
DTSTART;TZID=Australia/Sydney:20251015T190000
DTEND;TZID=Australia/Sydney:20251015T210000
DTSTAMP:20260425T105604
CREATED:20240626T230810Z
LAST-MODIFIED:20250527T033008Z
UID:10003763-1760554800-1760562000@www.bathurstregion.com.au
SUMMARY:Musical Bingo @ The Family Hotel
DESCRIPTION:This one is for the music lovers! Rock into the #FamBams for Musical Trivia every Wednesday from 7pm! Entry is free and you’ll have the chance to win prizes whilst bopping along to tunes over the ages! \nWednesday night is $20 schnitty night!
URL:https://www.bathurstregion.com.au/event/musical-bingo-3/2025-10-15/
LOCATION:Family Hotel\, Cnr Russell & Bentinck Street\, Bathurst\, 2795\, Australia
CATEGORIES:Community Event
ATTACH;FMTTYPE=image/jpeg:https://www.bathurstregion.com.au/wp-content/uploads/2024/06/441867269_10229488857879453_8006742019411922238_n-1.jpg
END:VEVENT
BEGIN:VEVENT
DTSTART;TZID=Australia/Sydney:20251016T193000
DTEND;TZID=Australia/Sydney:20251016T210000
DTSTAMP:20260425T105604
CREATED:20251011T025734Z
LAST-MODIFIED:20251011T025747Z
UID:10004104-1760643000-1760648400@www.bathurstregion.com.au
SUMMARY:Monthly Muster - Sydmouth Valley
DESCRIPTION:The Bathurst District Historical Society is presenting the monthly Muster talk. This month Kevin Webb will be presenting on his property on the Cox’s Road at Sydmouth Valley.
URL:https://www.bathurstregion.com.au/event/monthly-muster-sydmouth-valley/
LOCATION:Uniting Church Activities Hall\, 140A William Street\, Bathurst\, NSW\, 2795\, Australia
CATEGORIES:Community Event
ATTACH;FMTTYPE=image/png:https://www.bathurstregion.com.au/wp-content/uploads/2025/09/image.png
ORGANIZER;CN="Bathurst District Historical Society":MAILTO:info@bathursthistory.org.au
END:VEVENT
BEGIN:VEVENT
DTSTART;TZID=Australia/Sydney:20251017T000000
DTEND;TZID=Australia/Sydney:20251017T235959
DTSTAMP:20260425T105604
CREATED:20250902T055354Z
LAST-MODIFIED:20250902T055354Z
UID:10004277-1760659200-1760745599@www.bathurstregion.com.au
SUMMARY:Sculptures in the Garden
DESCRIPTION:Join us in helping spread the word about October Breast Cancer Awareness Month.  Dress up in PINK\, jump on the bus for a day trip to Mudgee to help spread the word about the importance Breast Screening.  Spend the morning wandering the Mudgee CBD through Boutiques and Cafes and see all the beautiful shops with their PINK displays.  After lunch we will jump back on the bus and head out to Rosby Wines and Gallery to enjoy their annual Sculptures in the Garden display.  Enjoy a glass of bubbles as you wander through some very impressive sculptures and if you feel inspired you can look through the catalogue to see what is available for purchase.\nEach year the Mudgee community gather together and help spread the word through all things PINK to raise money for the McGrath Foundation. \nhttps://www.eventbrite.com.au/e/bathurst-paint-it-pink-invites-you-to-sculptures-in-the-garden-mudgee-tickets-1575115666359?utm-campaign=social&utm-content=attendeeshare&utm-medium=discovery&utm-term=listing&utm-source=cp&aff=ebdsshcopyurl \n* Bathurst Paint it PINK is only an awareness campaign.  We personally do not raise money.
URL:https://www.bathurstregion.com.au/event/sculptures-in-the-garden/
CATEGORIES:Community Event,Exhibition and Shows,Festivals and Celebrations,Food and Wine,Tours
ATTACH;FMTTYPE=image/jpeg:https://www.bathurstregion.com.au/wp-content/uploads/2025/08/IMG_3722.jpg
END:VEVENT
BEGIN:VEVENT
DTSTART;TZID=Australia/Sydney:20251017T140000
DTEND;TZID=Australia/Sydney:20251017T170000
DTSTAMP:20260425T105604
CREATED:20250324T223528Z
LAST-MODIFIED:20250327T013142Z
UID:10004047-1760709600-1760720400@www.bathurstregion.com.au
SUMMARY:Bathurst Dances\, Old Time and New Vogue Dance
DESCRIPTION:Dancing the old fashioned way\, with a another in your arms. Waltzes\, Tangos\, Saunters\, Jive and Swing in a sequenced way. Short demos before many dances\, but nothing beats\, standing up and simply giving it a go\, then having a laugh or giggle at your own attempts\, the way it was done in the old days\, still the cheapest way to learn.
URL:https://www.bathurstregion.com.au/event/bathurst-dances-old-time-and-new-vogue-dance/2025-10-17/
LOCATION:Walshaw Hall\, 9 Church Street\, Bathurst\, 2795
CATEGORIES:Community Event
ATTACH;FMTTYPE=image/png:https://www.bathurstregion.com.au/wp-content/uploads/2025/03/Untitled-design-2.png
END:VEVENT
BEGIN:VEVENT
DTSTART;TZID=Australia/Sydney:20251017T180000
DTEND;TZID=Australia/Sydney:20251017T180000
DTSTAMP:20260425T105604
CREATED:20250923T052157Z
LAST-MODIFIED:20250923T052201Z
UID:10004590-1760724000-1760724000@www.bathurstregion.com.au
SUMMARY:Bravery & Betrayal
DESCRIPTION:The True Story of the S.A.S. in Afghanistan \n\n\n\nAfter 9/11 our Nation sent the Aussie S.A.S. into harm’s way to protect us. 25 years later\, their suffering continues. The S.A.S. now tell their story of what really happened in Afghanistan and Iraq. \n\n\n\nFeaturing exclusive\, never before seen interviews with officers and soldiers of the S.A.S.. As Prime Ministers Rudd\, Howard and Abbott tell for the first time what they knew\, and the brave pilots of the American Army reveal what they saw.Most heartbreaking of all are the stories by the wives\, mothers\, widows and children left behind. \n\n\n\nThis is their story\, in their words\, of the S.A.S. in the War on Terror.
URL:https://www.bathurstregion.com.au/event/bravery-betrayal/
LOCATION:Bathurst RSL Club\, 114 Rankin Street\, Bathurst\, 2795\, Australia
CATEGORIES:Community Event
ATTACH;FMTTYPE=image/jpeg:https://www.bathurstregion.com.au/wp-content/uploads/2025/09/536281595_122144534372828057_1572223083366189223_n.jpg
ORGANIZER;CN="Bathurst RSL Club":MAILTO:info@bathurstrsl.com.au
END:VEVENT
BEGIN:VEVENT
DTSTART;TZID=Australia/Sydney:20251018T090000
DTEND;TZID=Australia/Sydney:20251018T170000
DTSTAMP:20260425T105604
CREATED:20251005T223418Z
LAST-MODIFIED:20251005T223418Z
UID:10004605-1760778000-1760806800@www.bathurstregion.com.au
SUMMARY:SCULPTURE IN THE GARDENS AND FARMERS MARKETS
DESCRIPTION:Enjoy a Day of Art\, Flavour\, and Scenic Charm on Our Mudgee Day Trip.\nJoin BRAGS and Bathurst Tours for a relaxing and inspiring day exploring the best of Mudgee. Start with the vibrant Farmers Market showcasing a celebration of local produce held in beautiful Robertson Park\, and finish with the stunning Sculptures in the Garden exhibition at Rosby Wines. This outdoor exhibition features over 250 sculptures by leading and emerging artists. It’s a perfect blend of creativity and natural beauty.\nThis tour offers a perfect mix of culture\, nature and relaxation.\nDepart:	9.15am from McDonald’s Bathurst car park.\nCost:	BRAGS Member $72 | $80 Non-Member\n		Includes return 1-20 seat coacher transport and entry to Sculptures in the Garden. Food and drink at own expense (at Markets and cellar door).\nRegistration:	Daniel Briant on 1300 728 321\n________________________________________
URL:https://www.bathurstregion.com.au/event/sculpture-in-the-gardens-and-farmers-markets/
CATEGORIES:Art,Community Event,Exhibition and Shows,Festivals and Celebrations,Food and Wine,Markets,Tours
ATTACH;FMTTYPE=image/jpeg:https://www.bathurstregion.com.au/wp-content/uploads/2025/10/Sculptures-in-the-Garden-tour.jpg
ORGANIZER;CN="Bathurst Tours":MAILTO:bookings@bathursttours.com.au
END:VEVENT
BEGIN:VEVENT
DTSTART;TZID=Australia/Sydney:20251018T111500
DTEND;TZID=Australia/Sydney:20251018T124500
DTSTAMP:20260425T105604
CREATED:20231018T054214Z
LAST-MODIFIED:20250922T041939Z
UID:10003913-1760786100-1760791500@www.bathurstregion.com.au
SUMMARY:Tours of Bathurst War Memorial Carillon during the Carillon Spring Recital Series 2025
DESCRIPTION:Meet near the Russell Street entrance. Purchase your tickets here! \n\n\n\nSaturday 23 August: Enjoy the Beatlesfest carillon recital at 10am before taking the opportunity to learn the fascinating history of the Bathurst War Memorial Carillon\, explore the three floors of the tower\, meet one of our local carillonists and enjoy the playing of the instrument from within the clavier room.  \n\n\n\nSunday 21 September: 21 September is World Peace Day\, a day observed annually to promote peace and the absence of violence worldwide. On World Peace Day 2025\, we invite you to take the opportunity to learn the fascinating history of the Bathurst War Memorial Carillon\, a Peace Carillon\, explore the three floors of the tower\, and meet one of our local carillonists while enjoying the playing of the instrument from within the clavier room. After the conclusion of the tour\, enjoy a recital in honour of World Peace Day.  \n\n\n\nSaturday 18 October: This is a rare opportunity to learn the fascinating history of the Bathurst War Memorial Carillon\, explore the three floors of the tower\, meet Canberra Senior Carillonist Peter Bray and enjoy the playing of the instrument from within the clavier room. After the conclusion of the tour\, enjoy a recital performed by Peter.  \n\n\n\nSaturday 22 November: 22 November is St Cecilia’s Day\, the Patron Saint of Music. We invite you to take this opportunity to learn the fascinating history of the Bathurst War Memorial Carillon\, explore the three floors of the tower\, and meet one of our local carillonists while enjoying the playing of the instrument from within the clavier room. After the conclusion of the tour\, enjoy a recital in honour of Saint Cecilia.  \n\n\n\nSpecial requirements: tour participants must wear flat shoes\, be able to climb 61 steps in the tower (20 to the landing\, 21 to first floor\, 20 to playing level) and have nothing in their hands to hold onto the handrails.   \n\n\n\nTour duration: 1 – 1.5 hours. 
URL:https://www.bathurstregion.com.au/event/carillon-recitals-during-memorial-week/2025-10-18/
LOCATION:Bathurst War Memorial Carillon\, 3 Church Street\, Bathurst\, 2795
CATEGORIES:Community Event,Concert or Performance,History and Heritage
ATTACH;FMTTYPE=image/jpeg:https://www.bathurstregion.com.au/wp-content/uploads/2025/09/Untitled-1-Recovered.jpg
ORGANIZER;CN="Friends of Bathurst War Memorial Carillon":MAILTO:contact@bathurstcarillon.org.au
END:VEVENT
END:VCALENDAR