
BEGIN:VCALENDAR
VERSION:2.0
PRODID:-//Bathurst Region Tourism - ECPv6.15.16//NONSGML v1.0//EN
CALSCALE:GREGORIAN
METHOD:PUBLISH
X-WR-CALNAME:Bathurst Region Tourism
X-ORIGINAL-URL:https://www.bathurstregion.com.au
X-WR-CALDESC:Events for Bathurst Region Tourism
REFRESH-INTERVAL;VALUE=DURATION:PT1H
X-Robots-Tag:noindex
X-PUBLISHED-TTL:PT1H
BEGIN:VTIMEZONE
TZID:Australia/Sydney
BEGIN:STANDARD
TZOFFSETFROM:+1100
TZOFFSETTO:+1000
TZNAME:AEST
DTSTART:20240406T160000
END:STANDARD
BEGIN:DAYLIGHT
TZOFFSETFROM:+1000
TZOFFSETTO:+1100
TZNAME:AEDT
DTSTART:20241005T160000
END:DAYLIGHT
BEGIN:STANDARD
TZOFFSETFROM:+1100
TZOFFSETTO:+1000
TZNAME:AEST
DTSTART:20250405T160000
END:STANDARD
BEGIN:DAYLIGHT
TZOFFSETFROM:+1000
TZOFFSETTO:+1100
TZNAME:AEDT
DTSTART:20251004T160000
END:DAYLIGHT
BEGIN:STANDARD
TZOFFSETFROM:+1100
TZOFFSETTO:+1000
TZNAME:AEST
DTSTART:20260404T160000
END:STANDARD
BEGIN:DAYLIGHT
TZOFFSETFROM:+1000
TZOFFSETTO:+1100
TZNAME:AEDT
DTSTART:20261003T160000
END:DAYLIGHT
END:VTIMEZONE
BEGIN:VEVENT
DTSTART;TZID=Australia/Sydney:20251115T100000
DTEND;TZID=Australia/Sydney:20251118T180000
DTSTAMP:20260425T215954
CREATED:20230903T233641Z
LAST-MODIFIED:20250527T020443Z
UID:10003908-1763200800-1763488800@www.bathurstregion.com.au
SUMMARY:Hill End Analogue 2025
DESCRIPTION:Hill End Analogue is an analogue photographic art festival by the Hill End Arts Council Inc in the Central West NSW village of Hill End. It will showcase\, celebrate and connect Contemporary analogue photographic artists from regional\, rural\, remote and metropolitan Australia. Comprising exhibitions and workshops\, the festival will promote community awareness\, appreciation and engagement in analogue photography. It will serve as a discussion about the past\, present and future of analogue arts.
URL:https://www.bathurstregion.com.au/event/analogue-2023/2025-11-15/
LOCATION:Hill End NSW\, 5 Beyers Avenue\, Hill End\, 2850\, Australia
CATEGORIES:Art,Classes, Lessons, Workshops and Talks,Community Event,Concert or Performance,Festivals and Celebrations,History and Heritage
ATTACH;FMTTYPE=image/jpeg:https://www.bathurstregion.com.au/wp-content/uploads/2023/09/a6876a83807c45dbb430666d109bc9d9.jpeg
ORGANIZER;CN="Hill End Arts Council Inc":MAILTO:hillendartscouncil@gmail.com
END:VEVENT
BEGIN:VEVENT
DTSTART;TZID=Australia/Sydney:20251116T100000
DTEND;TZID=Australia/Sydney:20251119T180000
DTSTAMP:20260425T215954
CREATED:20230903T233641Z
LAST-MODIFIED:20250527T020443Z
UID:10003909-1763287200-1763575200@www.bathurstregion.com.au
SUMMARY:Hill End Analogue 2025
DESCRIPTION:Hill End Analogue is an analogue photographic art festival by the Hill End Arts Council Inc in the Central West NSW village of Hill End. It will showcase\, celebrate and connect Contemporary analogue photographic artists from regional\, rural\, remote and metropolitan Australia. Comprising exhibitions and workshops\, the festival will promote community awareness\, appreciation and engagement in analogue photography. It will serve as a discussion about the past\, present and future of analogue arts.
URL:https://www.bathurstregion.com.au/event/analogue-2023/2025-11-16/
LOCATION:Hill End NSW\, 5 Beyers Avenue\, Hill End\, 2850\, Australia
CATEGORIES:Art,Classes, Lessons, Workshops and Talks,Community Event,Concert or Performance,Festivals and Celebrations,History and Heritage
ATTACH;FMTTYPE=image/jpeg:https://www.bathurstregion.com.au/wp-content/uploads/2023/09/a6876a83807c45dbb430666d109bc9d9.jpeg
ORGANIZER;CN="Hill End Arts Council Inc":MAILTO:hillendartscouncil@gmail.com
END:VEVENT
BEGIN:VEVENT
DTSTART;TZID=Australia/Sydney:20251118T093000
DTEND;TZID=Australia/Sydney:20251118T101500
DTSTAMP:20260425T215954
CREATED:20251118T012653Z
LAST-MODIFIED:20251118T012657Z
UID:10004688-1763458200-1763460900@www.bathurstregion.com.au
SUMMARY:Supported Story Time
DESCRIPTION:Join our series of low sensory story times for children and their carers who need more time to wiggle\, settle and be comfortable in the library space. \n\n\n\nThe sessions will feature books\, rhymes\, wiggle movements and visual cues throughout\, while being a friendly and supported space before the library opens to the public. \n\n\n\nAs the story time is held in the library before opening hours\, we ask that you arrive a few minutes early or on time so you can access the building. If you are no longer able to attend\, we would appreciate you letting us know as soon as you can\, so we can alert anyone on our waitlist. \n\n\n\nPlease bring a drink and any fidgets your child needs\, clearly labelled. \n\n\n\nIf you require anything specific in order to attend\, or have any questions\, please reach out to the Bathurst Library Team on 02 6333 6281. Please note we may not be able to cater to a specific request to accommodate your child but will do the best we can within the library space. \n\n\n\nThese sessions are a trial to assess if our community will attend and support a low-sensory story time\, further sessions may be released\, and all feedback you have would be appreciated. \n\n\n\nChildren must be accompanied by an adult carer at all times.
URL:https://www.bathurstregion.com.au/event/supported-story-time/2025-11-18/
LOCATION:Bathurst Library\, 70 -78 Keppel Street\, Bathurst\, New South Wales\, 2795\, Australia
CATEGORIES:Community Event
ATTACH;FMTTYPE=image/png:https://www.bathurstregion.com.au/wp-content/uploads/2025/11/image-14.png
ORGANIZER;CN="Bathurst Library":MAILTO:library@bathurst.nsw.gov.au
END:VEVENT
BEGIN:VEVENT
DTSTART;TZID=Australia/Sydney:20251118T140000
DTEND;TZID=Australia/Sydney:20251118T170000
DTSTAMP:20260425T215954
CREATED:20250324T223528Z
LAST-MODIFIED:20250327T013142Z
UID:10004055-1763474400-1763485200@www.bathurstregion.com.au
SUMMARY:Bathurst Dances\, Old Time and New Vogue Dance
DESCRIPTION:Dancing the old fashioned way\, with a another in your arms. Waltzes\, Tangos\, Saunters\, Jive and Swing in a sequenced way. Short demos before many dances\, but nothing beats\, standing up and simply giving it a go\, then having a laugh or giggle at your own attempts\, the way it was done in the old days\, still the cheapest way to learn.
URL:https://www.bathurstregion.com.au/event/bathurst-dances-old-time-and-new-vogue-dance/2025-11-18/
LOCATION:Walshaw Hall\, 9 Church Street\, Bathurst\, 2795
CATEGORIES:Community Event
ATTACH;FMTTYPE=image/png:https://www.bathurstregion.com.au/wp-content/uploads/2025/03/Untitled-design-2.png
END:VEVENT
BEGIN:VEVENT
DTSTART;TZID=Australia/Sydney:20251118T180000
DTEND;TZID=Australia/Sydney:20251118T210000
DTSTAMP:20260425T215954
CREATED:20220904T232845Z
LAST-MODIFIED:20250527T034235Z
UID:10003657-1763488800-1763499600@www.bathurstregion.com.au
SUMMARY:Very Open Mic Night @ The Victoria Bathurst
DESCRIPTION:We’re making Tuesdays great again with a very open mic night that is open to all types of performance. Come and share your thing in front of a supportive audience! Sign up from 6pm
URL:https://www.bathurstregion.com.au/event/very-open-mic-night-2/2025-11-18/
LOCATION:The Victoria Bathurst\, 3 Keppel Street\, Bathurst\, 2795
CATEGORIES:Community Event
ATTACH;FMTTYPE=image/jpeg:https://www.bathurstregion.com.au/wp-content/uploads/2022/09/294178835_7680093328729163_1674614870448092474_n.jpg
END:VEVENT
END:VCALENDAR