
BEGIN:VCALENDAR
VERSION:2.0
PRODID:-//Bathurst Region Tourism - ECPv6.15.16//NONSGML v1.0//EN
CALSCALE:GREGORIAN
METHOD:PUBLISH
X-ORIGINAL-URL:https://www.bathurstregion.com.au
X-WR-CALDESC:Events for Bathurst Region Tourism
REFRESH-INTERVAL;VALUE=DURATION:PT1H
X-Robots-Tag:noindex
X-PUBLISHED-TTL:PT1H
BEGIN:VTIMEZONE
TZID:Australia/Sydney
BEGIN:STANDARD
TZOFFSETFROM:+1100
TZOFFSETTO:+1000
TZNAME:AEST
DTSTART:20250405T160000
END:STANDARD
BEGIN:DAYLIGHT
TZOFFSETFROM:+1000
TZOFFSETTO:+1100
TZNAME:AEDT
DTSTART:20251004T160000
END:DAYLIGHT
BEGIN:STANDARD
TZOFFSETFROM:+1100
TZOFFSETTO:+1000
TZNAME:AEST
DTSTART:20260404T160000
END:STANDARD
BEGIN:DAYLIGHT
TZOFFSETFROM:+1000
TZOFFSETTO:+1100
TZNAME:AEDT
DTSTART:20261003T160000
END:DAYLIGHT
BEGIN:STANDARD
TZOFFSETFROM:+1100
TZOFFSETTO:+1000
TZNAME:AEST
DTSTART:20270403T160000
END:STANDARD
BEGIN:DAYLIGHT
TZOFFSETFROM:+1000
TZOFFSETTO:+1100
TZNAME:AEDT
DTSTART:20271002T160000
END:DAYLIGHT
END:VTIMEZONE
BEGIN:VEVENT
DTSTART;TZID=Australia/Sydney:20260312T000000
DTEND;TZID=Australia/Sydney:20260510T235959
DTSTAMP:20260424T014143
CREATED:20241019T040955Z
LAST-MODIFIED:20260224T013933Z
UID:10003937-1773273600-1778457599@www.bathurstregion.com.au
SUMMARY:2026 Autumn Colours Heritage Festival
DESCRIPTION:A celebration of Bathurst’s heritage during its most spectacular season. Autumn is a magical time in the Bathurst region when residents and visitors alike enjoy the explosion of colour that accompanies the change of season\, the cooler temperatures that are perfect for exploring\, and the delicious local produce that the harvest brings. The signature Autumn Heritage Festival program of events celebrates the town’s rich history with a series of guided tours by local experts through some of the Bathurst region’s most significant historical sites\, along with events that preserve the people\, traditions\, and stories that have shaped Bathurst into the beautiful\, thriving\, modern regional centre it is today.  \n\n\n\nMore details coming soon. . .
URL:https://www.bathurstregion.com.au/event/autumn-colours-heritage-festival/
CATEGORIES:Classes, Lessons, Workshops and Talks,Community Event,Festivals and Celebrations,History and Heritage
ATTACH;FMTTYPE=image/jpeg:https://www.bathurstregion.com.au/wp-content/uploads/2025/02/Website-small.jpg
ORGANIZER;CN="Bathurst Visitor Information Centre":MAILTO:visitors@bathurst.nsw.gov.au
END:VEVENT
BEGIN:VEVENT
DTSTART;TZID=Australia/Sydney:20260501T090000
DTEND;TZID=Australia/Sydney:20260501T220000
DTSTAMP:20260424T014143
CREATED:20210225T011036Z
LAST-MODIFIED:20251125T015853Z
UID:10003867-1777626000-1777672800@www.bathurstregion.com.au
SUMMARY:Royal Bathurst Show
DESCRIPTION:The Royal Bathurst Show has long been regarded as the best west of Sydney and has boasted an average annual attendance in excess of 20\,000 people. The Show is organised and run by the Bathurst Agricultural\, Horticultural & Pastoral Association\, a charitable community organisation who for 160 years have been promoting agricultural activities and all aspects of rural and country life in the Bathurst area.
URL:https://www.bathurstregion.com.au/event/royal-bathurst-show/2026-05-01/
LOCATION:Bathurst Showground\, Lot 1 Kendall Avenue\, Bathurst\, NSW\, 2795\, Australia
CATEGORIES:Community Event,Exhibition and Shows,Festivals and Celebrations
ATTACH;FMTTYPE=image/jpeg:https://www.bathurstregion.com.au/wp-content/uploads/2023/06/159709406_3735568653226445_4663344674760362221_n.jpg
END:VEVENT
BEGIN:VEVENT
DTSTART;TZID=Australia/Sydney:20260502T090000
DTEND;TZID=Australia/Sydney:20260502T220000
DTSTAMP:20260424T014143
CREATED:20210225T011036Z
LAST-MODIFIED:20251125T015853Z
UID:10003868-1777712400-1777759200@www.bathurstregion.com.au
SUMMARY:Royal Bathurst Show
DESCRIPTION:The Royal Bathurst Show has long been regarded as the best west of Sydney and has boasted an average annual attendance in excess of 20\,000 people. The Show is organised and run by the Bathurst Agricultural\, Horticultural & Pastoral Association\, a charitable community organisation who for 160 years have been promoting agricultural activities and all aspects of rural and country life in the Bathurst area.
URL:https://www.bathurstregion.com.au/event/royal-bathurst-show/2026-05-02/
LOCATION:Bathurst Showground\, Lot 1 Kendall Avenue\, Bathurst\, NSW\, 2795\, Australia
CATEGORIES:Community Event,Exhibition and Shows,Festivals and Celebrations
ATTACH;FMTTYPE=image/jpeg:https://www.bathurstregion.com.au/wp-content/uploads/2023/06/159709406_3735568653226445_4663344674760362221_n.jpg
END:VEVENT
BEGIN:VEVENT
DTSTART;TZID=Australia/Sydney:20260502T143000
DTEND;TZID=Australia/Sydney:20260502T143000
DTSTAMP:20260424T014143
CREATED:20210414T014038Z
LAST-MODIFIED:20260224T012900Z
UID:10003666-1777732200-1777732200@www.bathurstregion.com.au
SUMMARY:Bathurst Motoring Heritage - Autumn Colours Heritage Festival Event
DESCRIPTION:This is an audio-visual presentation by car and bike enthusiast Geoff Fry. This presentation embraces the history of motoring in general and motor sport around the Bathurst region. \n\n\n\nCost: Free – bookings essential (if participants wish to visit the museum prior orafter the talk\, normal entry fee will apply) \n\n\n\nBOOKINGS: Bathurst Visitor Information Centre 1800 68 1000 or online at bathurstregion.com.au/autumn-colours
URL:https://www.bathurstregion.com.au/event/bathurst-motoring-heritage/
LOCATION:National Motor Racing Museum\, 400 Panorama Avenue\, Mount Panorama\, 2795\, Australia
CATEGORIES:Classes, Lessons, Workshops and Talks,Community Event,Festivals and Celebrations,History and Heritage,Tours
ATTACH;FMTTYPE=image/jpeg:https://www.bathurstregion.com.au/wp-content/uploads/2025/02/Website-small.jpg
ORGANIZER;CN="Bathurst Visitor Information Centre":MAILTO:visitors@bathurst.nsw.gov.au
END:VEVENT
BEGIN:VEVENT
DTSTART;TZID=Australia/Sydney:20260503T090000
DTEND;TZID=Australia/Sydney:20260503T160000
DTSTAMP:20260424T014143
CREATED:20210225T011036Z
LAST-MODIFIED:20251125T015853Z
UID:10003869-1777798800-1777824000@www.bathurstregion.com.au
SUMMARY:Royal Bathurst Show
DESCRIPTION:The Royal Bathurst Show has long been regarded as the best west of Sydney and has boasted an average annual attendance in excess of 20\,000 people. The Show is organised and run by the Bathurst Agricultural\, Horticultural & Pastoral Association\, a charitable community organisation who for 160 years have been promoting agricultural activities and all aspects of rural and country life in the Bathurst area.
URL:https://www.bathurstregion.com.au/event/royal-bathurst-show/2026-05-03/
LOCATION:Bathurst Showground\, Lot 1 Kendall Avenue\, Bathurst\, NSW\, 2795\, Australia
CATEGORIES:Community Event,Exhibition and Shows,Festivals and Celebrations
ATTACH;FMTTYPE=image/jpeg:https://www.bathurstregion.com.au/wp-content/uploads/2023/06/159709406_3735568653226445_4663344674760362221_n.jpg
END:VEVENT
BEGIN:VEVENT
DTSTART;TZID=Australia/Sydney:20260505T190000
DTEND;TZID=Australia/Sydney:20260505T203000
DTSTAMP:20260424T014143
CREATED:20250804T040344Z
LAST-MODIFIED:20250804T052820Z
UID:10004550-1778007600-1778013000@www.bathurstregion.com.au
SUMMARY:Public Choir
DESCRIPTION:Get Ready to Sing! Mitchell Conservatorium Pub Choir is Back!You asked\, and we listened! We’ve been flooded with emails\, comments\, and letters about the return of our Pub Choir\, and we’re thrilled to announce that the Mitchell Conservatorium Public Choir is officially making its long-awaited comeback! \n\n\n\nA massive shout-out goes to our fantastic partners in “rhyme” at the Victoria Bathurst. Their support has been instrumental in bringing this initiative back to life and providing a brand-new home for our harmonious gatherings: Little Alberts\, basically right across the road from the Con!The choir will run the first Tuesday of every month at 7pm. \n\n\n\nNo tickets are required for the event however we have placed a small cover charge of $5 on the door to cover staffing and material costs.
URL:https://www.bathurstregion.com.au/event/public-choir/2026-05-05/
LOCATION:Little Alberts @ The Victoria Bathurst\, 3 Keppel Street\, Bathurst\, NSW\, 2795
CATEGORIES:Community Event,Concert or Performance
ATTACH;FMTTYPE=image/jpeg:https://www.bathurstregion.com.au/wp-content/uploads/2025/08/Untitled-1.jpg
ORGANIZER;CN="Mitchell Conservatorium":MAILTO:bathurst@mitchellconservatorium.edu.au
END:VEVENT
BEGIN:VEVENT
DTSTART;TZID=Australia/Sydney:20260509T100000
DTEND;TZID=Australia/Sydney:20260509T120000
DTSTAMP:20260424T014143
CREATED:20260224T010912Z
LAST-MODIFIED:20260224T012305Z
UID:10004965-1778320800-1778328000@www.bathurstregion.com.au
SUMMARY:Guided Tour of Perthville Convent Heritage Centre - Autumn Colours Heritage Festival Event
DESCRIPTION:Enjoy a visit to Perthville Convent Heritage Centre\, site of the first Convent of the Sisters of Saint Joseph in NSW. Begin with morning tea in the Sisters’ dining room\, followed by a guided tour of the Centre. View the historic buildings and learn of the Sisters’ story. The beautiful surrounds\, the peaceful chapel and the Sisters’ cemetery are included in the tour. The Ministry room also forms part of the tour. This includes information about the various works of the Sisters and samples of their exquisite handiwork. An app of Perthville Convent Heritage Centre is available to download to enhance the enjoyment of your visit.Interestingly\, both Saint Mary MacKillop and Fr Julian Tenison Woods\, who founded thisuniquely Australian religious congregation in Penola\, South Australia in 1866\, each visitedthis Perthville site. \n\n\n\n$15 per person – bookings essential \n\n\n\nBOOKINGS: Bathurst Visitor Information Centre 1800 68 1000 or online at bathurstregion.com.au/autumn-colours
URL:https://www.bathurstregion.com.au/event/guided-tour-of-perthville-convent-heritage-centre-autumn-colours-heritage-festival-event/2026-05-09/
LOCATION:Perthville Convent Heritage Centre\, Tenison Woods Avenue\, Perthville\, NSW\, 2795\, Australia
CATEGORIES:Community Event,Festivals and Celebrations,History and Heritage
ATTACH;FMTTYPE=image/jpeg:https://www.bathurstregion.com.au/wp-content/uploads/2026/02/Untitled-1.jpg
ORGANIZER;CN="Bathurst Visitor Information Centre":MAILTO:visitors@bathurst.nsw.gov.au
END:VEVENT
BEGIN:VEVENT
DTSTART;TZID=Australia/Sydney:20260510T100000
DTEND;TZID=Australia/Sydney:20260510T120000
DTSTAMP:20260424T014143
CREATED:20230227T033152Z
LAST-MODIFIED:20260224T024227Z
UID:10003670-1778407200-1778414400@www.bathurstregion.com.au
SUMMARY:Cemetery Wander - Autumn Colours Heritage Festival Event
DESCRIPTION:4 April 1876 was an important day in Bathurst’s story: the day when the railway arrivedin town. This event changed Bathurst in many ways\, including the provision of manyemployment opportunities. Join members of Bathurst Family History Group for a wanderaround a section of Bathurst General Cemetery to learn some of the railway stories behindthe headstones. Enjoy a delicious morning tea supplied by the Group. Bring a hat\, waterand sunscreen. Please wear sturdy walking shoes. \n\n\n\nMeet at Bathurst Cemetery\, enter via Dean Street entrance. \n\n\n\n$15 per person – bookings essential \n\n\n\nBOOKINGS: Bathurst Visitor Information Centre 1800 68 1000 or online at bathurstregion.com.au/autumn-colours
URL:https://www.bathurstregion.com.au/event/cemetery-wander/
CATEGORIES:Classes, Lessons, Workshops and Talks,Community Event,Festivals and Celebrations,History and Heritage
ATTACH;FMTTYPE=image/jpeg:https://www.bathurstregion.com.au/wp-content/uploads/2025/02/Website-small.jpg
ORGANIZER;CN="Bathurst Visitor Information Centre":MAILTO:visitors@bathurst.nsw.gov.au
END:VEVENT
BEGIN:VEVENT
DTSTART;TZID=Australia/Sydney:20260517T103000
DTEND;TZID=Australia/Sydney:20260517T143000
DTSTAMP:20260424T014143
CREATED:20221026T003343Z
LAST-MODIFIED:20251003T015433Z
UID:10003886-1779013800-1779028200@www.bathurstregion.com.au
SUMMARY:Bathurst Miniature Railway
DESCRIPTION:Pack a picnic lunch and take the kids down to the miniature railway to enjoy a few rides on working scale model trains\, just across the road from the Adventure Playground. Covered shoes must be worn. Trains run the 3rd Sunday of the month\, weather permitting.
URL:https://www.bathurstregion.com.au/event/bathurst-miniature-railway/2026-05-17/
LOCATION:John Matthews Sporting Complex\, Durham Street\, Bathurst\, New South Wales\, 2795\, Australia
CATEGORIES:Community Event,History and Heritage
ATTACH;FMTTYPE=image/jpeg:https://www.bathurstregion.com.au/wp-content/uploads/2022/10/Minature-railway2-1.jpg
ORGANIZER;CN="Bathurst Miniature Railway Society":MAILTO:bxminirail@gmail.com
END:VEVENT
BEGIN:VEVENT
DTSTART;TZID=Australia/Sydney:20260528T090000
DTEND;TZID=Australia/Sydney:20260528T160000
DTSTAMP:20260424T014143
CREATED:20250410T042412Z
LAST-MODIFIED:20251125T020704Z
UID:10004091-1779958800-1779984000@www.bathurstregion.com.au
SUMMARY:Lifeline Bookfair
DESCRIPTION:Bookfair for Lifeline Central West is on at the Bathurst Showground.Gold coin entry. Eftpos is available. \n\n\n\nA coffee van will also be there each day with coffee and treats to fuel your book hunting adventure. \n\n\n\nWith tens of thousands of titles to choose from\, you are sure to find something to suit all tastes and all ages from kids to seniors. Come and find the author and subject you like AND help Lifeline Central West to maintain the community-based services that we are renowned for. \n\n\n\nBathurst Showground\, Great Western Highway / Kendall Avenue\, Bathurst. Entrance via the main gate. Free parking onsite. There are toilets onsite and there will be some seats to rest if required. S \n\n\n\nSave the date! Save money. Save books. Help lifeline save lives.
URL:https://www.bathurstregion.com.au/event/lifeline-bookfair/2026-05-28/
LOCATION:Bathurst Showground\, Lot 1 Kendall Avenue\, Bathurst\, NSW\, 2795\, Australia
CATEGORIES:Community Event
ATTACH;FMTTYPE=image/jpeg:https://www.bathurstregion.com.au/wp-content/uploads/2025/04/tom-hermans-9BoqXzEeQqM-unsplash-scaled.jpg
ORGANIZER;CN="Lifeline Central West":MAILTO:info@lifelinecentralwest.org.au
END:VEVENT
BEGIN:VEVENT
DTSTART;TZID=Australia/Sydney:20260529T090000
DTEND;TZID=Australia/Sydney:20260529T160000
DTSTAMP:20260424T014143
CREATED:20250410T042412Z
LAST-MODIFIED:20251125T020704Z
UID:10004092-1780045200-1780070400@www.bathurstregion.com.au
SUMMARY:Lifeline Bookfair
DESCRIPTION:Bookfair for Lifeline Central West is on at the Bathurst Showground.Gold coin entry. Eftpos is available. \n\n\n\nA coffee van will also be there each day with coffee and treats to fuel your book hunting adventure. \n\n\n\nWith tens of thousands of titles to choose from\, you are sure to find something to suit all tastes and all ages from kids to seniors. Come and find the author and subject you like AND help Lifeline Central West to maintain the community-based services that we are renowned for. \n\n\n\nBathurst Showground\, Great Western Highway / Kendall Avenue\, Bathurst. Entrance via the main gate. Free parking onsite. There are toilets onsite and there will be some seats to rest if required. S \n\n\n\nSave the date! Save money. Save books. Help lifeline save lives.
URL:https://www.bathurstregion.com.au/event/lifeline-bookfair/2026-05-29/
LOCATION:Bathurst Showground\, Lot 1 Kendall Avenue\, Bathurst\, NSW\, 2795\, Australia
CATEGORIES:Community Event
ATTACH;FMTTYPE=image/jpeg:https://www.bathurstregion.com.au/wp-content/uploads/2025/04/tom-hermans-9BoqXzEeQqM-unsplash-scaled.jpg
ORGANIZER;CN="Lifeline Central West":MAILTO:info@lifelinecentralwest.org.au
END:VEVENT
BEGIN:VEVENT
DTSTART;TZID=Australia/Sydney:20260530T090000
DTEND;TZID=Australia/Sydney:20260530T160000
DTSTAMP:20260424T014143
CREATED:20250410T042412Z
LAST-MODIFIED:20251125T020704Z
UID:10004093-1780131600-1780156800@www.bathurstregion.com.au
SUMMARY:Lifeline Bookfair
DESCRIPTION:Bookfair for Lifeline Central West is on at the Bathurst Showground.Gold coin entry. Eftpos is available. \n\n\n\nA coffee van will also be there each day with coffee and treats to fuel your book hunting adventure. \n\n\n\nWith tens of thousands of titles to choose from\, you are sure to find something to suit all tastes and all ages from kids to seniors. Come and find the author and subject you like AND help Lifeline Central West to maintain the community-based services that we are renowned for. \n\n\n\nBathurst Showground\, Great Western Highway / Kendall Avenue\, Bathurst. Entrance via the main gate. Free parking onsite. There are toilets onsite and there will be some seats to rest if required. S \n\n\n\nSave the date! Save money. Save books. Help lifeline save lives.
URL:https://www.bathurstregion.com.au/event/lifeline-bookfair/2026-05-30/
LOCATION:Bathurst Showground\, Lot 1 Kendall Avenue\, Bathurst\, NSW\, 2795\, Australia
CATEGORIES:Community Event
ATTACH;FMTTYPE=image/jpeg:https://www.bathurstregion.com.au/wp-content/uploads/2025/04/tom-hermans-9BoqXzEeQqM-unsplash-scaled.jpg
ORGANIZER;CN="Lifeline Central West":MAILTO:info@lifelinecentralwest.org.au
END:VEVENT
BEGIN:VEVENT
DTSTART;TZID=Australia/Sydney:20260531T100000
DTEND;TZID=Australia/Sydney:20260531T140000
DTSTAMP:20260424T014143
CREATED:20250410T042412Z
LAST-MODIFIED:20251125T020704Z
UID:10004094-1780221600-1780236000@www.bathurstregion.com.au
SUMMARY:Lifeline Bookfair
DESCRIPTION:Bookfair for Lifeline Central West is on at the Bathurst Showground.Gold coin entry. Eftpos is available. \n\n\n\nA coffee van will also be there each day with coffee and treats to fuel your book hunting adventure. \n\n\n\nWith tens of thousands of titles to choose from\, you are sure to find something to suit all tastes and all ages from kids to seniors. Come and find the author and subject you like AND help Lifeline Central West to maintain the community-based services that we are renowned for. \n\n\n\nBathurst Showground\, Great Western Highway / Kendall Avenue\, Bathurst. Entrance via the main gate. Free parking onsite. There are toilets onsite and there will be some seats to rest if required. S \n\n\n\nSave the date! Save money. Save books. Help lifeline save lives.
URL:https://www.bathurstregion.com.au/event/lifeline-bookfair/2026-05-31/
LOCATION:Bathurst Showground\, Lot 1 Kendall Avenue\, Bathurst\, NSW\, 2795\, Australia
CATEGORIES:Community Event
ATTACH;FMTTYPE=image/jpeg:https://www.bathurstregion.com.au/wp-content/uploads/2025/04/tom-hermans-9BoqXzEeQqM-unsplash-scaled.jpg
ORGANIZER;CN="Lifeline Central West":MAILTO:info@lifelinecentralwest.org.au
END:VEVENT
END:VCALENDAR